BEGIN:VCALENDAR
VERSION:2.0
PRODID:-//Webber Training - ECPv6.15.20//NONSGML v1.0//EN
CALSCALE:GREGORIAN
METHOD:PUBLISH
X-ORIGINAL-URL:https://webbertraining.com
X-WR-CALDESC:Events for Webber Training
REFRESH-INTERVAL;VALUE=DURATION:PT1H
X-Robots-Tag:noindex
X-PUBLISHED-TTL:PT1H
BEGIN:VTIMEZONE
TZID:America/New_York
BEGIN:DAYLIGHT
TZOFFSETFROM:-0500
TZOFFSETTO:-0400
TZNAME:EDT
DTSTART:20250309T070000
END:DAYLIGHT
BEGIN:STANDARD
TZOFFSETFROM:-0400
TZOFFSETTO:-0500
TZNAME:EST
DTSTART:20251102T060000
END:STANDARD
BEGIN:DAYLIGHT
TZOFFSETFROM:-0500
TZOFFSETTO:-0400
TZNAME:EDT
DTSTART:20260308T070000
END:DAYLIGHT
BEGIN:STANDARD
TZOFFSETFROM:-0400
TZOFFSETTO:-0500
TZNAME:EST
DTSTART:20261101T060000
END:STANDARD
BEGIN:DAYLIGHT
TZOFFSETFROM:-0500
TZOFFSETTO:-0400
TZNAME:EDT
DTSTART:20270314T070000
END:DAYLIGHT
BEGIN:STANDARD
TZOFFSETFROM:-0400
TZOFFSETTO:-0500
TZNAME:EST
DTSTART:20271107T060000
END:STANDARD
END:VTIMEZONE
BEGIN:VEVENT
DTSTART;TZID=America/New_York:20260122T133000
DTEND;TZID=America/New_York:20260122T143000
DTSTAMP:20260420T082514
CREATED:20260112T140921Z
LAST-MODIFIED:20260218T215936Z
UID:10000101-1769088600-1769092200@webbertraining.com
SUMMARY:A New Paradigm for C. difficile Therapy
DESCRIPTION:Recording \n\n\n\n\n\n\n\n\n\n\n\n\n\n\n\n\n\nA New Paradigm for C. difficile Therapy\n\n\n\nProf. Prameet Sheth\, Queen’s University\, Canada \n\n\n\n\n\n\n\n\n\n\n\n\n\n\n\n\n\n\n\n\n\nObjectives \n\n\n\n\n\n\nSummarize the Pathogenesis and Epidemiology of Clostridioides difficile. \n\n\n\nUpdates on existing and new therapeutics for C. difficile and their challenges for use.\n\n\n\nIntroduce the development of a new therapeutic target for C. difficile.  \n\n\n\nOutline the steps forward for the development of novel therapeutics for C. difficile.\n\n\n\n\n\n\n\nLogin or Register for Membership to Enroll in Teleclass
URL:https://webbertraining.com/event/a-new-paradigm-for-c-difficile-therapy/
CATEGORIES:2026 Teleclasses,Free Teleclass
ATTACH;FMTTYPE=image/jpeg:https://webbertraining.com/wp-content/uploads/2026/01/New-Paradigm-for-C.-difficile-Therapy-Teleclass-Slides-Jan.22.26-.jpeg
END:VEVENT
END:VCALENDAR