BEGIN:VCALENDAR
VERSION:2.0
PRODID:-//Webber Training - ECPv6.15.20//NONSGML v1.0//EN
CALSCALE:GREGORIAN
METHOD:PUBLISH
X-WR-CALNAME:Webber Training
X-ORIGINAL-URL:https://webbertraining.com
X-WR-CALDESC:Events for Webber Training
REFRESH-INTERVAL;VALUE=DURATION:PT1H
X-Robots-Tag:noindex
X-PUBLISHED-TTL:PT1H
BEGIN:VTIMEZONE
TZID:America/New_York
BEGIN:DAYLIGHT
TZOFFSETFROM:-0500
TZOFFSETTO:-0400
TZNAME:EDT
DTSTART:20250309T070000
END:DAYLIGHT
BEGIN:STANDARD
TZOFFSETFROM:-0400
TZOFFSETTO:-0500
TZNAME:EST
DTSTART:20251102T060000
END:STANDARD
BEGIN:DAYLIGHT
TZOFFSETFROM:-0500
TZOFFSETTO:-0400
TZNAME:EDT
DTSTART:20260308T070000
END:DAYLIGHT
BEGIN:STANDARD
TZOFFSETFROM:-0400
TZOFFSETTO:-0500
TZNAME:EST
DTSTART:20261101T060000
END:STANDARD
BEGIN:DAYLIGHT
TZOFFSETFROM:-0500
TZOFFSETTO:-0400
TZNAME:EDT
DTSTART:20270314T070000
END:DAYLIGHT
BEGIN:STANDARD
TZOFFSETFROM:-0400
TZOFFSETTO:-0500
TZNAME:EST
DTSTART:20271107T060000
END:STANDARD
END:VTIMEZONE
BEGIN:VEVENT
DTSTART;TZID=America/New_York:20260319T133000
DTEND;TZID=America/New_York:20260319T143000
DTSTAMP:20260420T105549
CREATED:20260123T155335Z
LAST-MODIFIED:20260307T003906Z
UID:10000111-1773927000-1773930600@webbertraining.com
SUMMARY:HIV 2026: Everything You Wanted to Know on Prevention\, Transmission\, Treatment and the Future
DESCRIPTION:Recording \n\n\n\n\n\n\n\n\n\n\n\n\n\n\n\n\n\nHIV 2026: Everything You Wanted to Know on Prevention\, Transmission\, Treatment and the Future\n\n\n\nProfessor Francois Venter\, University of the Witwatersrand\, South Africa \n\n\n\n\n\n\n\n\n\n\n\n\n\n\n\n\n\n\n\n\n\nObjectives \n\n\n\n\n\n\nTo be posted\n\n\n\n\n\n\n\nLogin or Register for Membership to Enroll in Teleclass
URL:https://webbertraining.com/event/hiv-2026-everything-you-wanted-to-know-on-prevention-transmission-treatment-and-the-future/
CATEGORIES:2026 Teleclasses,Free Teleclass
ATTACH;FMTTYPE=image/png:https://webbertraining.com/wp-content/uploads/2026/01/Venter.png
END:VEVENT
END:VCALENDAR