BEGIN:VCALENDAR
VERSION:2.0
PRODID:-//Webber Training - ECPv6.15.20//NONSGML v1.0//EN
CALSCALE:GREGORIAN
METHOD:PUBLISH
X-ORIGINAL-URL:https://webbertraining.com
X-WR-CALDESC:Events for Webber Training
REFRESH-INTERVAL;VALUE=DURATION:PT1H
X-Robots-Tag:noindex
X-PUBLISHED-TTL:PT1H
BEGIN:VTIMEZONE
TZID:Europe/Paris
BEGIN:DAYLIGHT
TZOFFSETFROM:+0100
TZOFFSETTO:+0200
TZNAME:CEST
DTSTART:20250330T010000
END:DAYLIGHT
BEGIN:STANDARD
TZOFFSETFROM:+0200
TZOFFSETTO:+0100
TZNAME:CET
DTSTART:20251026T010000
END:STANDARD
BEGIN:DAYLIGHT
TZOFFSETFROM:+0100
TZOFFSETTO:+0200
TZNAME:CEST
DTSTART:20260329T010000
END:DAYLIGHT
BEGIN:STANDARD
TZOFFSETFROM:+0200
TZOFFSETTO:+0100
TZNAME:CET
DTSTART:20261025T010000
END:STANDARD
BEGIN:DAYLIGHT
TZOFFSETFROM:+0100
TZOFFSETTO:+0200
TZNAME:CEST
DTSTART:20270328T010000
END:DAYLIGHT
BEGIN:STANDARD
TZOFFSETFROM:+0200
TZOFFSETTO:+0100
TZNAME:CET
DTSTART:20271031T010000
END:STANDARD
END:VTIMEZONE
BEGIN:VEVENT
DTSTART;TZID=Europe/Paris:20260519T143000
DTEND;TZID=Europe/Paris:20260519T153000
DTSTAMP:20260420T152308
CREATED:20260130T150407Z
LAST-MODIFIED:20260310T230017Z
UID:10000134-1779201000-1779204600@webbertraining.com
SUMMARY:Patient Safety Begins at the Front Door: Infection Prevention in Home Health & Hospice
DESCRIPTION:Live Virtual Event \n\n\n\n\n\n\n\n\n\n\n\n\n\n\n\n\n\nAfro-European Teleclass\n\n\n\n\n\nPatient Safety Begins at the Front Door: Infection Prevention in Home Health & Hospice\n\n\n\nDr. Mary McGoldrick\, Home Health Systems Inc \n\n\n\n\n\n\n\n\n\n\n\n\n\n\n\nLive broadcast time: \n\n\n\n\n\n2:30pm-3:30pm in Geneva8:30am in New York / Toronto10:30pm in Sydney9:30am in Buenos Aires3:30pm in Riyadh 12:30 UTC \n\n\n\n\n\n\n\n\n\n\n\nObjectives \n\n\n\n\n\n\nIdentify common infection control deficiencies cited during home health and hospice surveys and strategies to prevent them.\n\n\n\nApply evidence-based best practices for hand hygiene\, bag technique\, cleaning and disinfection\, PPE use\, and equipment management in the home setting.\n\n\n\nPrepare more effectively for a CMS or accrediting organization survey.\n\n\n\n\n\n\n\nLogin or Register for Membership to Enroll in Teleclass
URL:https://webbertraining.com/event/patient-safety-begins-at-the-front-door-infection-prevention-in-home-health-hospice/
CATEGORIES:2026 Teleclasses,Paid Teleclass
ATTACH;FMTTYPE=image/png:https://webbertraining.com/wp-content/uploads/2026/01/Mary-McGoldrick-copy-1.png
END:VEVENT
END:VCALENDAR