BEGIN:VCALENDAR
VERSION:2.0
PRODID:-//Webber Training - ECPv6.15.20//NONSGML v1.0//EN
CALSCALE:GREGORIAN
METHOD:PUBLISH
X-WR-CALNAME:Webber Training
X-ORIGINAL-URL:https://webbertraining.com
X-WR-CALDESC:Events for Webber Training
REFRESH-INTERVAL;VALUE=DURATION:PT1H
X-Robots-Tag:noindex
X-PUBLISHED-TTL:PT1H
BEGIN:VTIMEZONE
TZID:Europe/Paris
BEGIN:DAYLIGHT
TZOFFSETFROM:+0100
TZOFFSETTO:+0200
TZNAME:CEST
DTSTART:20250330T010000
END:DAYLIGHT
BEGIN:STANDARD
TZOFFSETFROM:+0200
TZOFFSETTO:+0100
TZNAME:CET
DTSTART:20251026T010000
END:STANDARD
BEGIN:DAYLIGHT
TZOFFSETFROM:+0100
TZOFFSETTO:+0200
TZNAME:CEST
DTSTART:20260329T010000
END:DAYLIGHT
BEGIN:STANDARD
TZOFFSETFROM:+0200
TZOFFSETTO:+0100
TZNAME:CET
DTSTART:20261025T010000
END:STANDARD
BEGIN:DAYLIGHT
TZOFFSETFROM:+0100
TZOFFSETTO:+0200
TZNAME:CEST
DTSTART:20270328T010000
END:DAYLIGHT
BEGIN:STANDARD
TZOFFSETFROM:+0200
TZOFFSETTO:+0100
TZNAME:CET
DTSTART:20271031T010000
END:STANDARD
END:VTIMEZONE
BEGIN:VEVENT
DTSTART;TZID=Europe/Paris:20260915T143000
DTEND;TZID=Europe/Paris:20260915T153000
DTSTAMP:20260420T205805
CREATED:20260218T142838Z
LAST-MODIFIED:20260310T225912Z
UID:10000154-1789482600-1789486200@webbertraining.com
SUMMARY:Understanding the Role of Infection Prevention and Control in the Planetary Health Landscape
DESCRIPTION:Live Virtual Event \n\n\n\n\n\n\n\n\n\n\n\n\n\n\n\n\n\nAn IFIC Teleclass\n\n\n\n\n\nUnderstanding the Role of Infection Prevention and Control in the Planetary Health Landscape\n\n\n\nPresented by the International Federation of Infection Control (IFIC)Prof. Dr. Walter Zingg\, University Hospital Zurich\, and  Dr. Ermira Tartari Bonnici\, University of Malta \n\n\n\n\n\n\n\n\n\n\n\n\n\n\n\n\n\n\n\n\n\nObjectives \n\n\n\n\n\n\nUnderstand the role of infection prevention and control in the planetary health landscape\n\n\n\nExplain the “safety-though-consumption” paradigm\n\n\n\nDiscuss domains at the infection prevention and control interface\n\n\n\nDescribe strategies to reduce the environmental impact of infection prevention and control\n\n\n\n\n\n\n\nLogin or Register for Membership to Enroll in Teleclass
URL:https://webbertraining.com/event/afro-european-teleclass-planetary-health-and-ipc/
CATEGORIES:2026 Teleclasses,Free Teleclass
ATTACH;FMTTYPE=image/png:https://webbertraining.com/wp-content/uploads/2026/01/IFIC-logo-new.png
END:VEVENT
END:VCALENDAR