BEGIN:VCALENDAR
VERSION:2.0
PRODID:-//Webber Training - ECPv6.15.20//NONSGML v1.0//EN
CALSCALE:GREGORIAN
METHOD:PUBLISH
X-ORIGINAL-URL:https://webbertraining.com
X-WR-CALDESC:Events for Webber Training
REFRESH-INTERVAL;VALUE=DURATION:PT1H
X-Robots-Tag:noindex
X-PUBLISHED-TTL:PT1H
BEGIN:VTIMEZONE
TZID:Europe/Paris
BEGIN:DAYLIGHT
TZOFFSETFROM:+0100
TZOFFSETTO:+0200
TZNAME:CEST
DTSTART:20250330T010000
END:DAYLIGHT
BEGIN:STANDARD
TZOFFSETFROM:+0200
TZOFFSETTO:+0100
TZNAME:CET
DTSTART:20251026T010000
END:STANDARD
BEGIN:DAYLIGHT
TZOFFSETFROM:+0100
TZOFFSETTO:+0200
TZNAME:CEST
DTSTART:20260329T010000
END:DAYLIGHT
BEGIN:STANDARD
TZOFFSETFROM:+0200
TZOFFSETTO:+0100
TZNAME:CET
DTSTART:20261025T010000
END:STANDARD
BEGIN:DAYLIGHT
TZOFFSETFROM:+0100
TZOFFSETTO:+0200
TZNAME:CEST
DTSTART:20270328T010000
END:DAYLIGHT
BEGIN:STANDARD
TZOFFSETFROM:+0200
TZOFFSETTO:+0100
TZNAME:CET
DTSTART:20271031T010000
END:STANDARD
END:VTIMEZONE
BEGIN:VTIMEZONE
TZID:America/New_York
BEGIN:DAYLIGHT
TZOFFSETFROM:-0500
TZOFFSETTO:-0400
TZNAME:EDT
DTSTART:20250309T070000
END:DAYLIGHT
BEGIN:STANDARD
TZOFFSETFROM:-0400
TZOFFSETTO:-0500
TZNAME:EST
DTSTART:20251102T060000
END:STANDARD
BEGIN:DAYLIGHT
TZOFFSETFROM:-0500
TZOFFSETTO:-0400
TZNAME:EDT
DTSTART:20260308T070000
END:DAYLIGHT
BEGIN:STANDARD
TZOFFSETFROM:-0400
TZOFFSETTO:-0500
TZNAME:EST
DTSTART:20261101T060000
END:STANDARD
BEGIN:DAYLIGHT
TZOFFSETFROM:-0500
TZOFFSETTO:-0400
TZNAME:EDT
DTSTART:20270314T070000
END:DAYLIGHT
BEGIN:STANDARD
TZOFFSETFROM:-0400
TZOFFSETTO:-0500
TZNAME:EST
DTSTART:20271107T060000
END:STANDARD
BEGIN:DAYLIGHT
TZOFFSETFROM:-0500
TZOFFSETTO:-0400
TZNAME:EDT
DTSTART:20280312T070000
END:DAYLIGHT
BEGIN:STANDARD
TZOFFSETFROM:-0400
TZOFFSETTO:-0500
TZNAME:EST
DTSTART:20281105T060000
END:STANDARD
END:VTIMEZONE
BEGIN:VTIMEZONE
TZID:Australia/Sydney
BEGIN:STANDARD
TZOFFSETFROM:+1100
TZOFFSETTO:+1000
TZNAME:AEST
DTSTART:20250405T160000
END:STANDARD
BEGIN:DAYLIGHT
TZOFFSETFROM:+1000
TZOFFSETTO:+1100
TZNAME:AEDT
DTSTART:20251004T160000
END:DAYLIGHT
BEGIN:STANDARD
TZOFFSETFROM:+1100
TZOFFSETTO:+1000
TZNAME:AEST
DTSTART:20260404T160000
END:STANDARD
BEGIN:DAYLIGHT
TZOFFSETFROM:+1000
TZOFFSETTO:+1100
TZNAME:AEDT
DTSTART:20261003T160000
END:DAYLIGHT
BEGIN:STANDARD
TZOFFSETFROM:+1100
TZOFFSETTO:+1000
TZNAME:AEST
DTSTART:20270403T160000
END:STANDARD
BEGIN:DAYLIGHT
TZOFFSETFROM:+1000
TZOFFSETTO:+1100
TZNAME:AEDT
DTSTART:20271002T160000
END:DAYLIGHT
END:VTIMEZONE
BEGIN:VEVENT
DTSTART;TZID=Europe/Paris:20261006T143000
DTEND;TZID=Europe/Paris:20261006T153000
DTSTAMP:20260421T011003
CREATED:20260130T163838Z
LAST-MODIFIED:20260311T122754Z
UID:10000128-1791297000-1791300600@webbertraining.com
SUMMARY:Special Lecture for Clean Hospitals Day 2026
DESCRIPTION:Live Virtual Event \n\n\n\n\n\n\n\n\n\n\n\n\n\n\n\n\n\nAfro-European Teleclass\n\n\n\n\n\nSpecial Lecture for Clean Hospitals Day 2026\n\n\n\nDr. Alexandra Peters\, University of Geneva \n\n\n\n\n\n\n\n\n\n\n\n\n\n\n\n\n\n\n\n\n\nObjectives \n\n\n\n\n\n\nTo be posted\n\n\n\n\n\n\n\nLogin or Register for Membership to Enroll in Teleclass
URL:https://webbertraining.com/event/special-lecture-for-clean-hospitals-day-2026/
CATEGORIES:2026 Teleclasses,Free Teleclass
ATTACH;FMTTYPE=image/png:https://webbertraining.com/wp-content/uploads/2026/03/October-6-Alexandra-Peters.png
END:VEVENT
BEGIN:VEVENT
DTSTART;TZID=America/New_York:20261008T133000
DTEND;TZID=America/New_York:20261008T143000
DTSTAMP:20260421T011003
CREATED:20260130T164124Z
LAST-MODIFIED:20260303T002156Z
UID:10000129-1791466200-1791469800@webbertraining.com
SUMMARY:Barriers and Facilitators to the Use of PPE in Long Term Care
DESCRIPTION:Live Virtual Event \n\n\n\n\n\n\n\n\n\n\n\n\n\n\n\n\n\n\n\nBarriers and Facilitators to the Use of PPE in Long Term Care\n\n\n\nChristian Tsang\, University of Calgary \n\n\n\n\n\n\n\n\n\n\n\n\n\n\n\nLive broadcast time: \n\n\n\n\n\n1:30pm-2:30pm in New York / Toronto7:30pm in Geneva4:30am (October 9) in Sydney2:30pm in Buenos Aires8:30pm in Riyadh 18:30 UTC \n\n\n\n\n\n\n\n\n\n\n\nObjectives \n\n\n\n\n\n\nBe introduced to IPC in the context of long-term care\,\n\n\n\nLearn about the factors and lived experiences that impact PPE use in LTC\, and\n\n\n\nRecognize the relevance of implementation science frameworks to highlight where change is needed\n\n\n\n\n\n\n\nLogin or Register for Membership to Enroll in Teleclass
URL:https://webbertraining.com/event/barriers-and-facilitators-to-the-use-of-ppe-in-long-term-care/
CATEGORIES:2026 Teleclasses,Paid Teleclass
ATTACH;FMTTYPE=image/jpeg:https://webbertraining.com/wp-content/uploads/2026/01/Christian-Tsang2.jpg
END:VEVENT
BEGIN:VEVENT
DTSTART;TZID=Australia/Sydney:20261021T133000
DTEND;TZID=Australia/Sydney:20261021T143000
DTSTAMP:20260421T011003
CREATED:20260130T164400Z
LAST-MODIFIED:20260226T140313Z
UID:10000130-1792589400-1792593000@webbertraining.com
SUMMARY:(Australasian Teleclass)  The HAPPEN Study - Hospital Acquired Pneumonia PrEveNtion
DESCRIPTION:Live Virtual Event \n\n\n\n\n\n\n\n\n\n\n\n\n\n\n\n\n\nAustralasian Teleclass\n\n\n\n\n\nThe HAPPEN Study – Hospital Acquired Pneumonia PrEveNtion\n\n\n\nProf. Brett Mitchell\, Avondale University\, Australia \n\n\n\n\n\n\n\n\n\n\n\n\n\n\n\nLive broadcast time: \n\n\n\n\n\n1:30pm-2:30pm in Sydney10:30pm (October 20) in New York / Toronto4:30am in Geneva11:30pm (October 20) in Buenos Aires5:30am in Riyadh 03:30 UTC \n\n\n\n\n\n\n\n\n\n\n\nObjectives \n\n\n\n\n\n\nDiscuss strategies to prevent NV-HAP\n\n\n\nOutline barriers to preventing oral care\n\n\n\nExplore findings from the HAPPEN trial\, a multi-centre RCT aimed at improving oral care and reducing NV-HAP\n\n\n\n\n\n\n\nLogin or Register for Membership to Enroll in Teleclass
URL:https://webbertraining.com/event/the-happen-study-hospital-acquired-pneumonia-prevention/
CATEGORIES:2026 Teleclasses,Paid Teleclass
ATTACH;FMTTYPE=image/png:https://webbertraining.com/wp-content/uploads/2026/01/Prof.-Brett-Mitchell.png
END:VEVENT
BEGIN:VEVENT
DTSTART;TZID=America/New_York:20261022T133000
DTEND;TZID=America/New_York:20261022T143000
DTSTAMP:20260421T011003
CREATED:20260130T164642Z
LAST-MODIFIED:20260218T211940Z
UID:10000131-1792675800-1792679400@webbertraining.com
SUMMARY:Discussion: Three Wise Men on Disinfection
DESCRIPTION:Live Virtual Event \n\n\n\n\n\n\n\n\n\n\n\n\n\n\n\n\n\n\n\nDiscussion: Three Wise Men on Disinfection\n\n\n\nDr. Jon Otter\, Imperial College London\, and Dr. Curtis Donskey\, Cleveland VA Medical Center\, and Prof. Jean-Yves Maillard\, Cardiff University \n\n\n\n\n\n\n\n\n\n\n\n\n\n\n\nLive broadcast time: \n\n\n\n\n\n1:30pm-2:30pm in New York / Toronto7:30pm in Geneva4:30am (October 23) in Sydney2:30pm in Buenos Aires8:30pm in Riyadh 18:30 UTC \n\n\n\n\n\n\n\n\n\n\n\nObjectives \n\n\n\n\n\n\nDiscuss the current issues in surface and instrument disinfection \n\n\n\nAnswer questions from members around the globe\, provided in advance\n\n\n\n\n\n\n\nLogin or Register for Membership to Enroll in Teleclass
URL:https://webbertraining.com/event/discussion-three-wise-men-on-disinfection/
CATEGORIES:2026 Teleclasses,Paid Teleclass
ATTACH;FMTTYPE=image/png:https://webbertraining.com/wp-content/uploads/2026/01/October-22-3-wise-men.png
END:VEVENT
BEGIN:VEVENT
DTSTART;TZID=America/New_York:20261029T133000
DTEND;TZID=America/New_York:20261029T143000
DTSTAMP:20260421T011003
CREATED:20260218T203214Z
LAST-MODIFIED:20260218T211846Z
UID:10000149-1793280600-1793284200@webbertraining.com
SUMMARY:Leveraging Artificial Intelligence to Transform Infection Prevention and Control: Evidence\, Barriers\, and a Practical Decision-Support Framework
DESCRIPTION:Live Virtual Event \n\n\n\n\n\n\n\n\n\n\n\n\n\n\n\n\n\n\n\nAn International Federation of Infection Control (IFIC) teleclass\n\n\n\nLeveraging Artificial Intelligence to Transform Infection Prevention and Control: Evidence\, Barriers\, and a Practical Decision-Support Framework\n\n\n\nSilvana Gastaldi\, National Association of Nurses for Prevention of Hospital Infections\, Italy\, Dr. Ermira Tartari Bonnici\, University of Malta\, and Giovanni Satta\, University College London Hospitals \n\n\n\n\n\n\n\n\n\n\n\n\n\n\n\nLive broadcast time: \n\n\n\n\n\n1:30pm-2:30pm in New York / Toronto6:30pm in Geneva4:30am (October 30) in Sydney2:30pm in Buenos Aires8:30pm in Riyadh 17:30 UTC \n\n\n\n\n\n\n\n\n\n\n\nObjectives \n\n\n\n\n\n\nOutline key AI applications in IPC\, including surveillance and outbreak detection.\n\n\n\nRecognize major implementation barriers (data quality\, governance\, interoperability\, workforce skills).\n\n\n\nUnderstand the usefulness of the decision-support checklist to assess feasibility and readiness for AI adoption in IPC settings.\n\n\n\n\n\n\n\nLogin or Register for Membership to Enroll in Teleclass
URL:https://webbertraining.com/event/leveraging-artificial-intelligence-to-transform-infection-prevention-and-control-evidence-barriers-and-a-practical-decision-support-framework/
CATEGORIES:2026 Teleclasses,Paid Teleclass
ATTACH;FMTTYPE=image/png:https://webbertraining.com/wp-content/uploads/2026/01/IFIC-logo-new.png
END:VEVENT
BEGIN:VEVENT
DTSTART;TZID=America/New_York:20261105T133000
DTEND;TZID=America/New_York:20261105T143000
DTSTAMP:20260421T011003
CREATED:20260327T121903Z
LAST-MODIFIED:20260327T121907Z
UID:10000162-1793885400-1793889000@webbertraining.com
SUMMARY:Handwashing Song: A Musical Mnemonic to Recall Handwashing Technique Among Young Children
DESCRIPTION:Live Virtual Event \n\n\n\n\n\n\n\n\n\n\n\n\n\n\n\n\n\n\n\nHandwashing Song: A Musical Mnemonic to Recall Handwashing Technique Among Young Children\n\n\n\nDr. Nisha Thampi\, Children’s Hospital of Eastern Ontario (CHEO)\, Ottawa \n\n\n\n\n\n\n\n\n\n\n\n\n\n\n\nLive broadcast time: \n\n\n\n\n\n1:30pm-2:30pm in New York / Toronto7:30pm in Geneva5:30am (December 17) in Sydney3:30pm in Buenos Aires9:30pm in Riyadh 18:30 UTC \n\n\n\n\n\n\n\n\n\n\n\nObjectives \n\n\n\n\n\n\nOutline the evidence for musical mnemonics as teaching tools\n\n\n\nDescribe the evolution of a musical mnemonic from its creation to implementation in a local preschool setting\n\n\n\nDiscuss findings from study and lessons learned\n\n\n\n\n\n\n\nLogin or Register for Membership to Enroll in Teleclass
URL:https://webbertraining.com/event/handwashing-song-a-musical-mnemonic-to-recall-handwashing-technique-among-young-children/
CATEGORIES:2026 Teleclasses,Paid Teleclass
ATTACH;FMTTYPE=image/png:https://webbertraining.com/wp-content/uploads/2026/03/Nisha-Thampi.png
END:VEVENT
BEGIN:VEVENT
DTSTART;TZID=America/New_York:20261112T133000
DTEND;TZID=America/New_York:20261112T143000
DTSTAMP:20260421T011003
CREATED:20260130T164907Z
LAST-MODIFIED:20260327T122247Z
UID:10000141-1794490200-1794493800@webbertraining.com
SUMMARY:Antimicrobial Surfaces- Revisiting Their Role in Healthcare Settings
DESCRIPTION:Live Virtual Event \n\n\n\n\n\n\n\n\n\n\n\n\n\n\n\n\n\n\n\nAntimicrobial Surfaces- Revisiting Their Role in Healthcare Settings\n\n\n\nProf. Jean-Yves Maillard\, Cardiff University\, Wales \n\n\n\n\n\n\n\n\n\n\n\n\n\n\n\nLive broadcast time: \n\n\n\n\n\n1:30pm-2:30pm in New York / Toronto7:30pm in Geneva5:30am (November 13) in Sydney3:30pm in Buenos Aires9:30pm in Riyadh 18:30 UTC \n\n\n\n\n\n\n\n\n\n\n\nObjectives \n\n\n\n\n\n\nTo be posted\n\n\n\n\n\n\n\nLogin or Register for Membership to Enroll in Teleclass
URL:https://webbertraining.com/event/antimicrobial-surfaces-revisiting-their-role-in-healthcare-settings/
CATEGORIES:2026 Teleclasses,Paid Teleclass
ATTACH;FMTTYPE=image/png:https://webbertraining.com/wp-content/uploads/2026/01/Maillard.png
END:VEVENT
BEGIN:VEVENT
DTSTART;TZID=Europe/Paris:20261117T143000
DTEND;TZID=Europe/Paris:20261117T153000
DTSTAMP:20260421T011003
CREATED:20260316T194345Z
LAST-MODIFIED:20260316T194347Z
UID:10000159-1794925800-1794929400@webbertraining.com
SUMMARY:Storytelling and HAI Prevention
DESCRIPTION:Live Virtual Event \n\n\n\n\n\n\n\n\n\n\n\n\n\n\n\n\n\n\n\nAn International Federation of Infection Control (IFIC) teleclass\n\n\n\nStorytelling and HAI Prevention\n\n\n\nAmanda Maciel\, University of Sao Paulo \n\n\n\n\n\n\n\n\n\n\n\n\n\n\n\nLive broadcast time: \n\n\n\n\n\n2:30pm-3:30pm in Geneva8:30am in New York/Toronto12:30am (November 18) in Sydney10:30am in Buenos Aires4:30pm in Riyadh13:30 UTC \n\n\n\n\n\n\n\n\n\n\n\nObjectives \n\n\n\n\n\n\nTo be posted\n\n\n\n\n\n\n\nLogin or Register for Membership to Enroll in Teleclass
URL:https://webbertraining.com/event/storytelling-and-hai-prevention/
CATEGORIES:2026 Teleclasses,Paid Teleclass
ATTACH;FMTTYPE=image/png:https://webbertraining.com/wp-content/uploads/2026/01/IFIC-logo-new.png
END:VEVENT
BEGIN:VEVENT
DTSTART;TZID=America/New_York:20261210T133000
DTEND;TZID=America/New_York:20261210T143000
DTSTAMP:20260421T011003
CREATED:20260226T143406Z
LAST-MODIFIED:20260226T143408Z
UID:10000157-1796909400-1796913000@webbertraining.com
SUMMARY:Preventing Significant Organisms From Causing Transmission Within the Hospital by Screening on Admission
DESCRIPTION:Live Virtual Event \n\n\n\n\n\n\n\n\n\n\n\n\n\n\n\n\n\n\n\nAn International Federation of Infection Control (IFIC) teleclass\n\n\n\nPreventing Significant Organisms From Causing Transmission Within the Hospital by Screening on Admission\n\n\n\nProf. Michael Borg\, Mater Dei Hospital\, Malta \n\n\n\n\n\n\n\n\n\n\n\n\n\n\n\nLive broadcast time: \n\n\n\n\n\n1:30pm-2:30pm in New York / Toronto7:30pm in Geneva5:30am (December 11) in Sydney3:30pm in Buenos Aires9:30pm in Riyadh 18:30 UTC \n\n\n\n\n\n\n\n\n\n\n\nObjectives \n\n\n\n\n\n\nTo be posted\n\n\n\n\n\n\n\nLogin or Register for Membership to Enroll in Teleclass
URL:https://webbertraining.com/event/preventing-significant-organisms-from-causing-transmission-within-the-hospital-by-screening-on-admission/
CATEGORIES:2026 Teleclasses,Paid Teleclass
ATTACH;FMTTYPE=image/png:https://webbertraining.com/wp-content/uploads/2026/01/IFIC-logo-new.png
END:VEVENT
BEGIN:VEVENT
DTSTART;TZID=America/New_York:20261217T133000
DTEND;TZID=America/New_York:20261217T143000
DTSTAMP:20260421T011003
CREATED:20260307T235625Z
LAST-MODIFIED:20260307T235627Z
UID:10000158-1797514200-1797517800@webbertraining.com
SUMMARY:The Importance of Pro-active and Preventive Rodent Control Programs at Health Care Facilities of All Types
DESCRIPTION:Live Virtual Event \n\n\n\n\n\n\n\n\n\n\n\n\n\n\n\n\n\n\n\n\n\n\n\nThe Importance of Pro-active and Preventive Rodent Control Programs at Health Care Facilities of All Types\n\n\n\nBobby Corrigan\, Consulting Urban Rodentologist\, New York \n\n\n\n\n\n\n\n\n\n\n\n\n\n\n\nLive broadcast time: \n\n\n\n\n\n1:30pm-2:30pm in New York / Toronto7:30pm in Geneva5:30am (December 18) in Sydney3:30pm in Buenos Aires9:30pm in Riyadh 18:30 UTC \n\n\n\n\n\n\n\n\n\n\n\nObjectives \n\n\n\n\n\n\nThe real and perceived  public health significance of city mice and rats based on  latest science.\n\n\n\nBased on the published research of the above\, the goal for all health care facilities must be: “A Rodent-Free HCF” as often as possible. \n\n\n\nFactors to assess HC structures relative to rodent  invasion risks\, potential for long term infestations\, and financial considerations when hiriing pest professionals (As with most services and goods: with pest control services\, you will get what you pay for here also). \n\n\n\nWhy the goal of a  rodent free HC facility is 70% onus on the  facility and  in a partnership of 30% on a quality contracted pest professional servicing the facility.  What the 70% entails. \n\n\n\nWhat the pest professional’s  30% entails  (Hint: It is not about seeing exterior ‘bait boxes’ on the exterior perimeter walls and interior mouse traps placed on both sides of doors or periodically into areas of complaints\, (i.e.\,  is  merely just a trap checking service). \n\n\n\nQuestions and Answers and myth busting of rats and mice. To be posted\n\n\n\n\n\n\n\nLogin or Register for Membership to Enroll in Teleclass
URL:https://webbertraining.com/event/the-importance-of-pro-active-and-preventive-rodent-control-programs-at-health-care-facilities-of-all-types/
CATEGORIES:2026 Teleclasses,Free Teleclass
ATTACH;FMTTYPE=image/jpeg:https://webbertraining.com/wp-content/uploads/2026/03/Bobby-Corrigan2.jpg
END:VEVENT
BEGIN:VEVENT
DTSTART;TZID=America/New_York:20270121T133000
DTEND;TZID=America/New_York:20270121T143000
DTSTAMP:20260421T011003
CREATED:20260130T165349Z
LAST-MODIFIED:20260321T170631Z
UID:10000142-1800538200-1800541800@webbertraining.com
SUMMARY:Sustainability and IPC: How Can They Co-Exist?
DESCRIPTION:Live Virtual Event \n\n\n\n\n\n\n\n\n\n\n\n\n\n\n\n\n\nAfro-European Teleclass\n\n\n\n\n\nSustainability and IPC: How Can They Co-Exist?\n\n\n\nGraham Pike\, Great Western Hospitals NHS Foundation Trust\, UK \n\n\n\n\n\n\n\n\n\n\n\n\n\n\n\nLive broadcast time: \n\n\n\n\n\n1:30pm-2:30pm in New York / Toronto7:30pm in Geneva5:30am (January 22) in Sydney3:30pm in Buenos Aires9:30pm in Riyadh 18:30 UTC \n\n\n\n\n\n\n\n\n\n\n\nObjectives \n\n\n\n\n\n\nWhat is sustainability\, how is it relevant to healthcare and more specifically to IPC?\n\n\n\nHow can we use IPC expertise to make healthcare more sustainable?\n\n\n\nSome examples of sustainability initiatives in IPC practice\n\n\n\n\n\n\n\nLogin or Register for Membership to Enroll in Teleclass
URL:https://webbertraining.com/event/sustainability-and-ipc-how-can-they-co-exist-2/
CATEGORIES:2026 Teleclasses,Free Teleclass
ATTACH;FMTTYPE=image/png:https://webbertraining.com/wp-content/uploads/2026/01/Pike.png
END:VEVENT
END:VCALENDAR