BEGIN:VCALENDAR
VERSION:2.0
PRODID:-//Webber Training - ECPv6.15.20//NONSGML v1.0//EN
CALSCALE:GREGORIAN
METHOD:PUBLISH
X-WR-CALNAME:Webber Training
X-ORIGINAL-URL:https://webbertraining.com
X-WR-CALDESC:Events for Webber Training
REFRESH-INTERVAL;VALUE=DURATION:PT1H
X-Robots-Tag:noindex
X-PUBLISHED-TTL:PT1H
BEGIN:VTIMEZONE
TZID:America/New_York
BEGIN:DAYLIGHT
TZOFFSETFROM:-0500
TZOFFSETTO:-0400
TZNAME:EDT
DTSTART:20230312T070000
END:DAYLIGHT
BEGIN:STANDARD
TZOFFSETFROM:-0400
TZOFFSETTO:-0500
TZNAME:EST
DTSTART:20231105T060000
END:STANDARD
BEGIN:DAYLIGHT
TZOFFSETFROM:-0500
TZOFFSETTO:-0400
TZNAME:EDT
DTSTART:20240310T070000
END:DAYLIGHT
BEGIN:STANDARD
TZOFFSETFROM:-0400
TZOFFSETTO:-0500
TZNAME:EST
DTSTART:20241103T060000
END:STANDARD
BEGIN:DAYLIGHT
TZOFFSETFROM:-0500
TZOFFSETTO:-0400
TZNAME:EDT
DTSTART:20250309T070000
END:DAYLIGHT
BEGIN:STANDARD
TZOFFSETFROM:-0400
TZOFFSETTO:-0500
TZNAME:EST
DTSTART:20251102T060000
END:STANDARD
END:VTIMEZONE
BEGIN:VTIMEZONE
TZID:Europe/Paris
BEGIN:DAYLIGHT
TZOFFSETFROM:+0100
TZOFFSETTO:+0200
TZNAME:CEST
DTSTART:20230326T010000
END:DAYLIGHT
BEGIN:STANDARD
TZOFFSETFROM:+0200
TZOFFSETTO:+0100
TZNAME:CET
DTSTART:20231029T010000
END:STANDARD
BEGIN:DAYLIGHT
TZOFFSETFROM:+0100
TZOFFSETTO:+0200
TZNAME:CEST
DTSTART:20240331T010000
END:DAYLIGHT
BEGIN:STANDARD
TZOFFSETFROM:+0200
TZOFFSETTO:+0100
TZNAME:CET
DTSTART:20241027T010000
END:STANDARD
BEGIN:DAYLIGHT
TZOFFSETFROM:+0100
TZOFFSETTO:+0200
TZNAME:CEST
DTSTART:20250330T010000
END:DAYLIGHT
BEGIN:STANDARD
TZOFFSETFROM:+0200
TZOFFSETTO:+0100
TZNAME:CET
DTSTART:20251026T010000
END:STANDARD
END:VTIMEZONE
BEGIN:VEVENT
DTSTART;TZID=America/New_York:20240307T133000
DTEND;TZID=America/New_York:20240307T143000
DTSTAMP:20260421T122425
CREATED:20241129T140242Z
LAST-MODIFIED:20241129T140244Z
UID:10000046-1709818200-1709821800@webbertraining.com
SUMMARY:Infection Prevention and Control Certification: Obtaining Your Entry Level IPC Certification Through CBIC
DESCRIPTION:(FREE Teleclass)Jessica Dangles\, Certification Board of Infection Prevention and Control \n\n\n\n\nObjectives:\n\n\n\n\nUnderstand the objectives of certification\n\n\n\nDescribe the different pathways to certification\n\n\n\nDescribe why an infection control professional should consider certification and learn more about which certification is right for you
URL:https://webbertraining.com/event/infection-prevention-and-control-certification-obtaining-your-entry-level-ipc-certification-through-cbic/
CATEGORIES:2024 Teleclasses,Free Teleclass
ATTACH;FMTTYPE=image/png:https://webbertraining.com/wp-content/uploads/2024/11/Oct-10-2024-Image.png
LOCATION:https://webbertraining.com/event/infection-prevention-and-control-certification-obtaining-your-entry-level-ipc-certification-through-cbic/
END:VEVENT
BEGIN:VEVENT
DTSTART;TZID=Europe/Paris:20240312T143000
DTEND;TZID=Europe/Paris:20240312T153000
DTSTAMP:20260421T122425
CREATED:20241129T135710Z
LAST-MODIFIED:20241129T135712Z
UID:10000045-1710253800-1710257400@webbertraining.com
SUMMARY:Water As a Risk of Healthcare-Associated Infection
DESCRIPTION:(FREE European Teleclass … Denver Russell Memorial Teleclass Lecture)Prof. Jon Otter\, Imperial College London \n\n\n\n\nObjectives:\n\n\n\n\nUnderstand what preparedness means\n\n\n\nExplain the best and worst practices related to COVID-19 pandemic management and IPC\n\n\n\nUnderstand the importance of interdisciplinarity\n\n\n\nUnderstand the state of the art related to the use of robotics for IPC purposes and contact tracing technologies\n\n\n\nUnderstand the importance of contextualization (low-resource settings) and education
URL:https://webbertraining.com/event/water-as-a-risk-of-healthcare-associated-infection/
CATEGORIES:2024 Teleclasses,Free Teleclass
ATTACH;FMTTYPE=image/png:https://webbertraining.com/wp-content/uploads/2024/11/Oct-10-2024-Image.png
LOCATION:https://webbertraining.com/event/water-as-a-risk-of-healthcare-associated-infection/
END:VEVENT
BEGIN:VEVENT
DTSTART;TZID=America/New_York:20240314T133000
DTEND;TZID=America/New_York:20240314T143000
DTSTAMP:20260421T122425
CREATED:20241129T135238Z
LAST-MODIFIED:20241129T135240Z
UID:10000044-1710423000-1710426600@webbertraining.com
SUMMARY:Covid-19 Preparedness - What Went Wrong? What Are the Next Steps? The Point of View of a Biomedical Engineer
DESCRIPTION:Dr. Davide Piaggio\, University of Warwick\, School of Engineering\, UK \n\n\n\n\nObjectives:\n\n\n\n\nUnderstand what preparedness means\n\n\n\nExplain the best and worst practices related to COVID-19 pandemic management and IPC\n\n\n\nUnderstand the importance of interdisciplinarity\n\n\n\nUnderstand the state of the art related to the use of robotics for IPC purposes and contact tracing technologies\n\n\n\nUnderstand the importance of contextualization (low-resource settings) and education
URL:https://webbertraining.com/event/covid-19-preparedness-what-went-wrong-what-are-the-next-steps-the-point-of-view-of-a-biomedical-engineer/
CATEGORIES:2024 Teleclasses,Paid Teleclass
ATTACH;FMTTYPE=image/png:https://webbertraining.com/wp-content/uploads/2024/11/Oct-10-2024-Image.png
LOCATION:https://webbertraining.com/event/covid-19-preparedness-what-went-wrong-what-are-the-next-steps-the-point-of-view-of-a-biomedical-engineer/
END:VEVENT
BEGIN:VEVENT
DTSTART;TZID=America/New_York:20240321T133000
DTEND;TZID=America/New_York:20240321T143000
DTSTAMP:20260421T122425
CREATED:20241129T134823Z
LAST-MODIFIED:20241129T134910Z
UID:10000043-1711027800-1711031400@webbertraining.com
SUMMARY:Emerging Fungal Infections: Environmental Changes Bring About New Challenges
DESCRIPTION:Dr. Tom Chiller\, Centers for Disease Control\, Atlanta \n\n\n\n\nObjectives:\n\n\n\n\nDiscuss current insights into respiratory virus transmission (Droplet vs Aerosol vs Airborne) and potential impacts of current evidence on IPAC programs (future of respiratory protection)
URL:https://webbertraining.com/event/emerging-fungal-infections-environmental-changes-bring-about-new-challenges/
CATEGORIES:2024 Teleclasses,Paid Teleclass
ATTACH;FMTTYPE=image/png:https://webbertraining.com/wp-content/uploads/2024/11/Oct-10-2024-Image.png
LOCATION:https://webbertraining.com/event/emerging-fungal-infections-environmental-changes-bring-about-new-challenges/
END:VEVENT
END:VCALENDAR