BEGIN:VCALENDAR
VERSION:2.0
PRODID:-//Webber Training - ECPv6.15.20//NONSGML v1.0//EN
CALSCALE:GREGORIAN
METHOD:PUBLISH
X-ORIGINAL-URL:https://webbertraining.com
X-WR-CALDESC:Events for Webber Training
REFRESH-INTERVAL;VALUE=DURATION:PT1H
X-Robots-Tag:noindex
X-PUBLISHED-TTL:PT1H
BEGIN:VTIMEZONE
TZID:America/New_York
BEGIN:DAYLIGHT
TZOFFSETFROM:-0500
TZOFFSETTO:-0400
TZNAME:EDT
DTSTART:20230312T070000
END:DAYLIGHT
BEGIN:STANDARD
TZOFFSETFROM:-0400
TZOFFSETTO:-0500
TZNAME:EST
DTSTART:20231105T060000
END:STANDARD
BEGIN:DAYLIGHT
TZOFFSETFROM:-0500
TZOFFSETTO:-0400
TZNAME:EDT
DTSTART:20240310T070000
END:DAYLIGHT
BEGIN:STANDARD
TZOFFSETFROM:-0400
TZOFFSETTO:-0500
TZNAME:EST
DTSTART:20241103T060000
END:STANDARD
BEGIN:DAYLIGHT
TZOFFSETFROM:-0500
TZOFFSETTO:-0400
TZNAME:EDT
DTSTART:20250309T070000
END:DAYLIGHT
BEGIN:STANDARD
TZOFFSETFROM:-0400
TZOFFSETTO:-0500
TZNAME:EST
DTSTART:20251102T060000
END:STANDARD
END:VTIMEZONE
BEGIN:VTIMEZONE
TZID:Europe/Paris
BEGIN:DAYLIGHT
TZOFFSETFROM:+0100
TZOFFSETTO:+0200
TZNAME:CEST
DTSTART:20230326T010000
END:DAYLIGHT
BEGIN:STANDARD
TZOFFSETFROM:+0200
TZOFFSETTO:+0100
TZNAME:CET
DTSTART:20231029T010000
END:STANDARD
BEGIN:DAYLIGHT
TZOFFSETFROM:+0100
TZOFFSETTO:+0200
TZNAME:CEST
DTSTART:20240331T010000
END:DAYLIGHT
BEGIN:STANDARD
TZOFFSETFROM:+0200
TZOFFSETTO:+0100
TZNAME:CET
DTSTART:20241027T010000
END:STANDARD
BEGIN:DAYLIGHT
TZOFFSETFROM:+0100
TZOFFSETTO:+0200
TZNAME:CEST
DTSTART:20250330T010000
END:DAYLIGHT
BEGIN:STANDARD
TZOFFSETFROM:+0200
TZOFFSETTO:+0100
TZNAME:CET
DTSTART:20251026T010000
END:STANDARD
END:VTIMEZONE
BEGIN:VEVENT
DTSTART;TZID=America/New_York:20240402T133000
DTEND;TZID=America/New_York:20240402T143000
DTSTAMP:20260421T111454
CREATED:20241129T134605Z
LAST-MODIFIED:20241129T134918Z
UID:10000042-1712064600-1712068200@webbertraining.com
SUMMARY:Covid-19's Challenges to Infection Control Dogma
DESCRIPTION:Prof. Michael Klompas\, Harvard University \n\n\n\n\nObjectives:\n\n\n\n\nDiscuss current insights into respiratory virus transmission (Droplet vs Aerosol vs Airborne) and potential impacts of current evidence on IPAC programs (future of respiratory protection)
URL:https://webbertraining.com/event/covid-19s-challenges-to-infection-control-dogma/
CATEGORIES:2024 Teleclasses,Paid Teleclass
ATTACH;FMTTYPE=image/png:https://webbertraining.com/wp-content/uploads/2024/11/Oct-10-2024-Image.png
LOCATION:https://webbertraining.com/event/covid-19s-challenges-to-infection-control-dogma/
END:VEVENT
BEGIN:VEVENT
DTSTART;TZID=America/New_York:20240411T133000
DTEND;TZID=America/New_York:20240411T143000
DTSTAMP:20260421T111454
CREATED:20241129T132314Z
LAST-MODIFIED:20241129T134242Z
UID:10000041-1712842200-1712845800@webbertraining.com
SUMMARY:Lessons Learned From a Failed Implementation
DESCRIPTION:(Free Teleclass)Luize Fábrega Juskevicius \, University of São Paulo\, Brazil \n\n\n\n\nObjectives:\n\n\n\n\nHighlight the potential for learning in the face of evidence implementation failure.\n\n\n\nAddress the implementation process through the use of CFIR (Consolidated Framework for Implementation Science)\, which allows for organized and in-depth documentation of barriers and facilitators identified throughout an implementation process.
URL:https://webbertraining.com/event/social-science-and-infection-prevention-and-control-2/
CATEGORIES:2024 Teleclasses,Free Teleclass
ATTACH;FMTTYPE=image/png:https://webbertraining.com/wp-content/uploads/2024/11/Oct-10-2024-Image.png
LOCATION:https://webbertraining.com/event/social-science-and-infection-prevention-and-control-2/
END:VEVENT
BEGIN:VEVENT
DTSTART;TZID=Europe/Paris:20240417T133000
DTEND;TZID=Europe/Paris:20240417T143000
DTSTAMP:20260421T111454
CREATED:20241129T131939Z
LAST-MODIFIED:20241129T131942Z
UID:10000040-1713360600-1713364200@webbertraining.com
SUMMARY:Social Science and Infection Prevention and Control
DESCRIPTION:(Australasian Teleclass)Prof. Holly Seale\, University of New South Wales School of Population Health\, Australia \n\n\n\n\nObjectives:\n\n\n\n\nDemonstrate an understanding of the role of social science in exploring the thinking/feeling factors and social norms that impact on behaviours\n\n\n\nBe able to determine appropriate strategies to measure the social and behavioural factors impacting on compliance with IPC strategies.\n\n\n\nDiscuss approaches to address the key social and behavioural factors within the workplace
URL:https://webbertraining.com/event/social-science-and-infection-prevention-and-control/
CATEGORIES:2024 Teleclasses,Paid Teleclass
ATTACH;FMTTYPE=image/png:https://webbertraining.com/wp-content/uploads/2024/11/Oct-10-2024-Image.png
LOCATION:https://webbertraining.com/event/social-science-and-infection-prevention-and-control/
END:VEVENT
BEGIN:VEVENT
DTSTART;TZID=America/New_York:20240425T133000
DTEND;TZID=America/New_York:20240425T143000
DTSTAMP:20260421T111454
CREATED:20241129T131452Z
LAST-MODIFIED:20241129T131454Z
UID:10000039-1714051800-1714055400@webbertraining.com
SUMMARY:Flexible Endoscope Reprocessing: Focus on Correcting Key Weaknesses
DESCRIPTION:Prof. Michelle Alfa\, AlfaMed Consulting\, Canada \n\n\n\n\nObjectives:\n\n\n\n\nReview current data on contamination of patient-ready endoscopes\n\n\n\nIdentify key weaknesses in current reprocessing protocols\n\n\n\nRecommend what can be done to address key weaknesses
URL:https://webbertraining.com/event/flexible-endoscope-reprocessing-focus-on-correcting-key-weaknesses/
CATEGORIES:2024 Teleclasses,Paid Teleclass
ATTACH;FMTTYPE=image/png:https://webbertraining.com/wp-content/uploads/2024/11/Oct-10-2024-Image.png
LOCATION:https://webbertraining.com/event/flexible-endoscope-reprocessing-focus-on-correcting-key-weaknesses/
END:VEVENT
END:VCALENDAR