BEGIN:VCALENDAR
VERSION:2.0
PRODID:-//Webber Training - ECPv6.15.20//NONSGML v1.0//EN
CALSCALE:GREGORIAN
METHOD:PUBLISH
X-ORIGINAL-URL:https://webbertraining.com
X-WR-CALDESC:Events for Webber Training
REFRESH-INTERVAL;VALUE=DURATION:PT1H
X-Robots-Tag:noindex
X-PUBLISHED-TTL:PT1H
BEGIN:VTIMEZONE
TZID:America/Toronto
BEGIN:DAYLIGHT
TZOFFSETFROM:-0500
TZOFFSETTO:-0400
TZNAME:EDT
DTSTART:20230312T070000
END:DAYLIGHT
BEGIN:STANDARD
TZOFFSETFROM:-0400
TZOFFSETTO:-0500
TZNAME:EST
DTSTART:20231105T060000
END:STANDARD
BEGIN:DAYLIGHT
TZOFFSETFROM:-0500
TZOFFSETTO:-0400
TZNAME:EDT
DTSTART:20240310T070000
END:DAYLIGHT
BEGIN:STANDARD
TZOFFSETFROM:-0400
TZOFFSETTO:-0500
TZNAME:EST
DTSTART:20241103T060000
END:STANDARD
BEGIN:DAYLIGHT
TZOFFSETFROM:-0500
TZOFFSETTO:-0400
TZNAME:EDT
DTSTART:20250309T070000
END:DAYLIGHT
BEGIN:STANDARD
TZOFFSETFROM:-0400
TZOFFSETTO:-0500
TZNAME:EST
DTSTART:20251102T060000
END:STANDARD
END:VTIMEZONE
BEGIN:VTIMEZONE
TZID:Europe/Paris
BEGIN:DAYLIGHT
TZOFFSETFROM:+0100
TZOFFSETTO:+0200
TZNAME:CEST
DTSTART:20230326T010000
END:DAYLIGHT
BEGIN:STANDARD
TZOFFSETFROM:+0200
TZOFFSETTO:+0100
TZNAME:CET
DTSTART:20231029T010000
END:STANDARD
BEGIN:DAYLIGHT
TZOFFSETFROM:+0100
TZOFFSETTO:+0200
TZNAME:CEST
DTSTART:20240331T010000
END:DAYLIGHT
BEGIN:STANDARD
TZOFFSETFROM:+0200
TZOFFSETTO:+0100
TZNAME:CET
DTSTART:20241027T010000
END:STANDARD
BEGIN:DAYLIGHT
TZOFFSETFROM:+0100
TZOFFSETTO:+0200
TZNAME:CEST
DTSTART:20250330T010000
END:DAYLIGHT
BEGIN:STANDARD
TZOFFSETFROM:+0200
TZOFFSETTO:+0100
TZNAME:CET
DTSTART:20251026T010000
END:STANDARD
END:VTIMEZONE
BEGIN:VEVENT
DTSTART;TZID=America/Toronto:20240912T133000
DTEND;TZID=America/Toronto:20240912T143000
DTSTAMP:20260421T113256
CREATED:20241129T005944Z
LAST-MODIFIED:20241129T112809Z
UID:10000022-1726147800-1726151400@webbertraining.com
SUMMARY:Simple Question\, Complex Answer: Determining the Duration of Contagiousness of Individuals With Covid-19
DESCRIPTION:Prof. Yves Longtin\, McGill University\, Montreal \n\n\n\n\n\n\n\nObjectives:\n\n\n\n\nReview the current knowledge regarding duration of infectivity of individuals with COVID-19\n\n\n\nIdentify current knowledge gaps that influences current recommendations
URL:https://webbertraining.com/event/simple-question-complex-answer-determining-the-duration-of-contagiousness-of-individuals-with-covid-19/
CATEGORIES:2024 Teleclasses,Paid Teleclass
ATTACH;FMTTYPE=image/png:https://webbertraining.com/wp-content/uploads/2024/11/Oct-10-2024-Image.png
LOCATION:https://webbertraining.com/event/simple-question-complex-answer-determining-the-duration-of-contagiousness-of-individuals-with-covid-19/
END:VEVENT
BEGIN:VEVENT
DTSTART;TZID=Europe/Paris:20240917T143000
DTEND;TZID=Europe/Paris:20240917T153000
DTSTAMP:20260421T113256
CREATED:20241129T004405Z
LAST-MODIFIED:20241129T112708Z
UID:10000021-1726583400-1726587000@webbertraining.com
SUMMARY:The Process and Pitfalls of Creating a Global Self-assessment Tool
DESCRIPTION:(European Teleclass)Alexandra Peters\, University of Geneva\, Switzerland \n\n\n\n\nObjectives:\n\n\n\n\nLearn how the Healthcare Environmental Hygiene Self-Assessment Framework (HEHSAF) was created and validated\n\n\n\nSpecific challenges in creating such tools including universal applicability\, data collection\, and cultural differences in reporting\n\n\n\nExplore what the HEHSAF is\, how to use it\, what type of information can be gathered and how such data can be used to foster global improvement
URL:https://webbertraining.com/event/the-process-and-pitfalls-of-creating-a-global-self-assessment-tool/
CATEGORIES:2024 Teleclasses,Paid Teleclass
ATTACH;FMTTYPE=image/png:https://webbertraining.com/wp-content/uploads/2024/11/Oct-10-2024-Image.png
LOCATION:https://webbertraining.com/event/the-process-and-pitfalls-of-creating-a-global-self-assessment-tool/
END:VEVENT
BEGIN:VEVENT
DTSTART;TZID=America/Toronto:20240919T133000
DTEND;TZID=America/Toronto:20240919T143000
DTSTAMP:20260421T113256
CREATED:20241129T003506Z
LAST-MODIFIED:20241129T112823Z
UID:10000020-1726752600-1726756200@webbertraining.com
SUMMARY:The Physics of Flying Feces
DESCRIPTION:James Gauthier\, Webber Training \n\n\n\n\n\n\n\nObjectives:\n\n\n\n\nList at least 5 common healthcare pathogens that can be present in feces\n\n\n\nRecognize common sources of fecal pathogens within our healthcare settings\n\n\n\nState at least two methods to limit the presence of fecal organisms within our healthcare settings
URL:https://webbertraining.com/event/the-physics-of-flying-feces/
CATEGORIES:2024 Teleclasses,Paid Teleclass
ATTACH;FMTTYPE=image/png:https://webbertraining.com/wp-content/uploads/2024/11/Oct-10-2024-Image.png
LOCATION:https://webbertraining.com/event/the-physics-of-flying-feces/
END:VEVENT
END:VCALENDAR