BEGIN:VCALENDAR
VERSION:2.0
PRODID:-//Webber Training - ECPv6.15.20//NONSGML v1.0//EN
CALSCALE:GREGORIAN
METHOD:PUBLISH
X-ORIGINAL-URL:https://webbertraining.com
X-WR-CALDESC:Events for Webber Training
REFRESH-INTERVAL;VALUE=DURATION:PT1H
X-Robots-Tag:noindex
X-PUBLISHED-TTL:PT1H
BEGIN:VTIMEZONE
TZID:Europe/Paris
BEGIN:DAYLIGHT
TZOFFSETFROM:+0100
TZOFFSETTO:+0200
TZNAME:CEST
DTSTART:20240331T010000
END:DAYLIGHT
BEGIN:STANDARD
TZOFFSETFROM:+0200
TZOFFSETTO:+0100
TZNAME:CET
DTSTART:20241027T010000
END:STANDARD
BEGIN:DAYLIGHT
TZOFFSETFROM:+0100
TZOFFSETTO:+0200
TZNAME:CEST
DTSTART:20250330T010000
END:DAYLIGHT
BEGIN:STANDARD
TZOFFSETFROM:+0200
TZOFFSETTO:+0100
TZNAME:CET
DTSTART:20251026T010000
END:STANDARD
BEGIN:DAYLIGHT
TZOFFSETFROM:+0100
TZOFFSETTO:+0200
TZNAME:CEST
DTSTART:20260329T010000
END:DAYLIGHT
BEGIN:STANDARD
TZOFFSETFROM:+0200
TZOFFSETTO:+0100
TZNAME:CET
DTSTART:20261025T010000
END:STANDARD
END:VTIMEZONE
BEGIN:VTIMEZONE
TZID:America/New_York
BEGIN:DAYLIGHT
TZOFFSETFROM:-0500
TZOFFSETTO:-0400
TZNAME:EDT
DTSTART:20240310T070000
END:DAYLIGHT
BEGIN:STANDARD
TZOFFSETFROM:-0400
TZOFFSETTO:-0500
TZNAME:EST
DTSTART:20241103T060000
END:STANDARD
BEGIN:DAYLIGHT
TZOFFSETFROM:-0500
TZOFFSETTO:-0400
TZNAME:EDT
DTSTART:20250309T070000
END:DAYLIGHT
BEGIN:STANDARD
TZOFFSETFROM:-0400
TZOFFSETTO:-0500
TZNAME:EST
DTSTART:20251102T060000
END:STANDARD
BEGIN:DAYLIGHT
TZOFFSETFROM:-0500
TZOFFSETTO:-0400
TZNAME:EDT
DTSTART:20260308T070000
END:DAYLIGHT
BEGIN:STANDARD
TZOFFSETFROM:-0400
TZOFFSETTO:-0500
TZNAME:EST
DTSTART:20261101T060000
END:STANDARD
END:VTIMEZONE
BEGIN:VEVENT
DTSTART;TZID=Europe/Paris:20250304T133000
DTEND;TZID=Europe/Paris:20250304T143000
DTSTAMP:20260420T205641
CREATED:20250114T201202Z
LAST-MODIFIED:20250411T185606Z
UID:10000061-1741095000-1741098600@webbertraining.com
SUMMARY:Preventing MRSA Bacteraemia: An Acheivable Outcome Even in High Endemic Hospitals
DESCRIPTION:Recording \n\n\n\n\n\n\n\n\n\n\n\n\n\n\n\nPreventing MRSA Bacteraemia: An Acheivable Outcome Even in High Endemic Hospitals\n\n\n\nAfro-European SeriesProf. Michael Borg\, Mater Dei Hospital in Malta \n\n\n\n\n\n\n\n\n\n\n\n\n\n\n\n\n\n\n\n\n\nObjectives \n\n\n\n\n\n\nTo be posted\n\n\n\n\n\n\n\nLogin or Register for Membership to Enroll in Teleclass
URL:https://webbertraining.com/event/preventing-mrsa-bacteraemia-an-acheivable-outcome-even-in-high-endemic-hospitals/
CATEGORIES:2025 Teleclasses,Paid Teleclass
ATTACH;FMTTYPE=image/png:https://webbertraining.com/wp-content/uploads/2025/01/WT-Header.png
END:VEVENT
BEGIN:VEVENT
DTSTART;TZID=America/New_York:20250313T133000
DTEND;TZID=America/New_York:20250313T143000
DTSTAMP:20260420T205641
CREATED:20250114T211724Z
LAST-MODIFIED:20260303T020704Z
UID:10000062-1741872600-1741876200@webbertraining.com
SUMMARY:The Next Pandemic - Are We Prepared?
DESCRIPTION:Recording \n\n\n\n\n\n\n\n\n\n\n\n\n\n\n\nThe Next Pandemic – Are We Prepared?\n\n\n\nProf. Michael Klompas\, Harvard University \n\n\n\n\n\n\n\n\n\n\n\n\n\n\n\n\n\n\n\n\n\nObjectives \n\n\n\n\n\n\nTo be posted\n\n\n\n\n\n\n\nLogin or Register for Membership to Enroll in Teleclass
URL:https://webbertraining.com/event/the-next-pandemic-are-we-prepared/
CATEGORIES:2025 Teleclasses,Paid Teleclass
ATTACH;FMTTYPE=image/png:https://webbertraining.com/wp-content/uploads/2025/01/WT-Header.png
END:VEVENT
BEGIN:VEVENT
DTSTART;TZID=America/New_York:20250320T133000
DTEND;TZID=America/New_York:20250320T143000
DTSTAMP:20260420T205641
CREATED:20250114T212233Z
LAST-MODIFIED:20250407T134736Z
UID:10000063-1742477400-1742481000@webbertraining.com
SUMMARY:Frugal Innovation for Low-Resource Settings
DESCRIPTION:Recording \n\n\n\n\n\n\n\n\n\n\n\n\n\n\n\nFrugal Innovation for Low-Resource Settings\n\n\n\nDavide Piaggio\, The University of Warwick \n\n\n\n\n\n\n\n\n\n\n\n\n\n\n\n\n\n\n\n\n\nObjectives \n\n\n\n\n\n\nUnderstand the concept of frugal innovation and its relevance in different contexts\n\n\n\nDifferentiate between low- and middle-income countries and low-resource settings\n\n\n\nAnalyze methods to evaluate the context of use for frugal innovation solutions\n\n\n\nIdentify and apply criteria to make devices more resilient and adaptable to specific contexts of use\n\n\n\n\n\n\n\nLogin or Register for Membership to Enroll in Teleclass
URL:https://webbertraining.com/event/frugal-innovation-for-low-resource-settings/
CATEGORIES:2025 Teleclasses,Free Teleclass
ATTACH;FMTTYPE=image/png:https://webbertraining.com/wp-content/uploads/2025/01/WT-Header.png
END:VEVENT
END:VCALENDAR