BEGIN:VCALENDAR
VERSION:2.0
PRODID:-//Webber Training - ECPv6.15.20//NONSGML v1.0//EN
CALSCALE:GREGORIAN
METHOD:PUBLISH
X-ORIGINAL-URL:https://webbertraining.com
X-WR-CALDESC:Events for Webber Training
REFRESH-INTERVAL;VALUE=DURATION:PT1H
X-Robots-Tag:noindex
X-PUBLISHED-TTL:PT1H
BEGIN:VTIMEZONE
TZID:America/New_York
BEGIN:DAYLIGHT
TZOFFSETFROM:-0500
TZOFFSETTO:-0400
TZNAME:EDT
DTSTART:20240310T070000
END:DAYLIGHT
BEGIN:STANDARD
TZOFFSETFROM:-0400
TZOFFSETTO:-0500
TZNAME:EST
DTSTART:20241103T060000
END:STANDARD
BEGIN:DAYLIGHT
TZOFFSETFROM:-0500
TZOFFSETTO:-0400
TZNAME:EDT
DTSTART:20250309T070000
END:DAYLIGHT
BEGIN:STANDARD
TZOFFSETFROM:-0400
TZOFFSETTO:-0500
TZNAME:EST
DTSTART:20251102T060000
END:STANDARD
BEGIN:DAYLIGHT
TZOFFSETFROM:-0500
TZOFFSETTO:-0400
TZNAME:EDT
DTSTART:20260308T070000
END:DAYLIGHT
BEGIN:STANDARD
TZOFFSETFROM:-0400
TZOFFSETTO:-0500
TZNAME:EST
DTSTART:20261101T060000
END:STANDARD
END:VTIMEZONE
BEGIN:VTIMEZONE
TZID:Australia/Sydney
BEGIN:STANDARD
TZOFFSETFROM:+1100
TZOFFSETTO:+1000
TZNAME:AEST
DTSTART:20240406T160000
END:STANDARD
BEGIN:DAYLIGHT
TZOFFSETFROM:+1000
TZOFFSETTO:+1100
TZNAME:AEDT
DTSTART:20241005T160000
END:DAYLIGHT
BEGIN:STANDARD
TZOFFSETFROM:+1100
TZOFFSETTO:+1000
TZNAME:AEST
DTSTART:20250405T160000
END:STANDARD
BEGIN:DAYLIGHT
TZOFFSETFROM:+1000
TZOFFSETTO:+1100
TZNAME:AEDT
DTSTART:20251004T160000
END:DAYLIGHT
BEGIN:STANDARD
TZOFFSETFROM:+1100
TZOFFSETTO:+1000
TZNAME:AEST
DTSTART:20260404T160000
END:STANDARD
BEGIN:DAYLIGHT
TZOFFSETFROM:+1000
TZOFFSETTO:+1100
TZNAME:AEDT
DTSTART:20261003T160000
END:DAYLIGHT
END:VTIMEZONE
BEGIN:VTIMEZONE
TZID:Europe/Paris
BEGIN:DAYLIGHT
TZOFFSETFROM:+0100
TZOFFSETTO:+0200
TZNAME:CEST
DTSTART:20240331T010000
END:DAYLIGHT
BEGIN:STANDARD
TZOFFSETFROM:+0200
TZOFFSETTO:+0100
TZNAME:CET
DTSTART:20241027T010000
END:STANDARD
BEGIN:DAYLIGHT
TZOFFSETFROM:+0100
TZOFFSETTO:+0200
TZNAME:CEST
DTSTART:20250330T010000
END:DAYLIGHT
BEGIN:STANDARD
TZOFFSETFROM:+0200
TZOFFSETTO:+0100
TZNAME:CET
DTSTART:20251026T010000
END:STANDARD
BEGIN:DAYLIGHT
TZOFFSETFROM:+0100
TZOFFSETTO:+0200
TZNAME:CEST
DTSTART:20260329T010000
END:DAYLIGHT
BEGIN:STANDARD
TZOFFSETFROM:+0200
TZOFFSETTO:+0100
TZNAME:CET
DTSTART:20261025T010000
END:STANDARD
END:VTIMEZONE
BEGIN:VEVENT
DTSTART;TZID=America/New_York:20250807T133000
DTEND;TZID=America/New_York:20250807T143000
DTSTAMP:20260420T165505
CREATED:20250808T133408Z
LAST-MODIFIED:20250808T133411Z
UID:10000096-1754573400-1754577000@webbertraining.com
SUMMARY:How Do Perceptions of Hygiene and Cleanliness Influence Infection Prevention Behaviours in Our Homes and Everyday Lives\, and in Healthcare Settings?
DESCRIPTION:Recording \n\n\n\n\n\n\n\n\n\n\n\n\n\n\n\nHow Do Perceptions of Hygiene and Cleanliness Influence Infection Prevention Behaviours in Our Homes and Everyday Lives\, and in Healthcare Settings?\n\n\n\nDr. Sally F. Bloomfield\, International Scientific Forum on Home Hygiene\, UK \n\n\n\n\n\n\n\n\n\n\n\n\n\n\n\n\n\n\n\n\n\nObjectives \n\n\n\n\n\n\nDiscuss public health research regarding poor comprehension about how infections spread and the difference between hygiene and cleanliness.\n\n\n\nEvaluate the impact that this will have on hygiene behaviour in the healthcare workplace.\n\n\n\nDiscuss a recent study that suggests that by transforming existing knowledge of hygiene habits into effective behaviour offers a cost-effective strategy for developing sustainable and resilient hygiene behaviour.\n\n\n\n\n\n\n\nLogin or Register for Membership to Enroll in Teleclass
URL:https://webbertraining.com/event/how-do-perceptions-of-hygiene-and-cleanliness-influence-infection-prevention-behaviours-in-our-homes-and-everyday-lives-and-in-healthcare-settings/
CATEGORIES:2025 Teleclasses,Paid Teleclass
ATTACH;FMTTYPE=image/png:https://webbertraining.com/wp-content/uploads/2025/01/WT-Header.png
END:VEVENT
BEGIN:VEVENT
DTSTART;TZID=Australia/Sydney:20250820T133000
DTEND;TZID=Australia/Sydney:20250820T143000
DTSTAMP:20260420T165505
CREATED:20250128T174644Z
LAST-MODIFIED:20260217T164911Z
UID:10000077-1755696600-1755700200@webbertraining.com
SUMMARY:Best Practice Bundles for Reducing PIVC Infections
DESCRIPTION:Recording \n\n\n\n\n\n\n\n\n\n\n\n\n\n\n\nBest Practice Bundles for Reducing PIVC Infections\n\n\n\nAustralasian Teleclass \n\n\n\nDr. Gillian Ray-Barruel\, University of Queensland\, Australia \n\n\n\n\n\n\n\n\n\n\n\n\n\n\n\n\n\n\n\n\n\nObjectives \n\n\n\n\n\n\nTo be posted\n\n\n\n\n\n\n\nLogin or Register for Membership to Enroll in Teleclass
URL:https://webbertraining.com/event/best-practice-bundles-for-reducing-pivc-infections/
CATEGORIES:2025 Teleclasses,Free Teleclass
ATTACH;FMTTYPE=image/jpeg:https://webbertraining.com/wp-content/uploads/2025/01/2025-Reducing-PIVC-Infections-Teleclass-Slides-Aug.20.25.jpg
END:VEVENT
BEGIN:VEVENT
DTSTART;TZID=Europe/Paris:20250826T143000
DTEND;TZID=Europe/Paris:20250826T153000
DTSTAMP:20260420T165505
CREATED:20250808T132507Z
LAST-MODIFIED:20260217T164717Z
UID:10000095-1756218600-1756222200@webbertraining.com
SUMMARY:Barriers to Implementing IPC Programmes in Low Resource Settings and How to Overcome Them
DESCRIPTION:Recording \n\n\n\n\n\n\n\n\n\n\n\n\n\n\n\nBarriers to Implementing IPC Programmes in Low Resource Settings and How to Overcome Them\n\n\n\nAfro-European Teleclass \n\n\n\nProf. Shaheen Mehtar\, Stellenbosch University\, South Africa \n\n\n\n\n\n\n\n\n\n\n\n\n\n\n\n\n\n\n\n\n\nObjectives \n\n\n\n\n\n\nTo be posted\n\n\n\n\n\n\n\nLogin or Register for Membership to Enroll in Teleclass
URL:https://webbertraining.com/event/barriers-to-implementing-ipc-programmes-in-low-resource-settings-and-how-to-overcome-them/
CATEGORIES:2025 Teleclasses,Free Teleclass
ATTACH;FMTTYPE=image/jpeg:https://webbertraining.com/wp-content/uploads/2025/08/2025-Implementing-IPC-Teleclass-Slides-Aug.26.25a.jpg
END:VEVENT
END:VCALENDAR