BEGIN:VCALENDAR
VERSION:2.0
PRODID:-//Webber Training - ECPv6.15.20//NONSGML v1.0//EN
CALSCALE:GREGORIAN
METHOD:PUBLISH
X-ORIGINAL-URL:https://webbertraining.com
X-WR-CALDESC:Events for Webber Training
REFRESH-INTERVAL;VALUE=DURATION:PT1H
X-Robots-Tag:noindex
X-PUBLISHED-TTL:PT1H
BEGIN:VTIMEZONE
TZID:America/New_York
BEGIN:DAYLIGHT
TZOFFSETFROM:-0500
TZOFFSETTO:-0400
TZNAME:EDT
DTSTART:20240310T070000
END:DAYLIGHT
BEGIN:STANDARD
TZOFFSETFROM:-0400
TZOFFSETTO:-0500
TZNAME:EST
DTSTART:20241103T060000
END:STANDARD
BEGIN:DAYLIGHT
TZOFFSETFROM:-0500
TZOFFSETTO:-0400
TZNAME:EDT
DTSTART:20250309T070000
END:DAYLIGHT
BEGIN:STANDARD
TZOFFSETFROM:-0400
TZOFFSETTO:-0500
TZNAME:EST
DTSTART:20251102T060000
END:STANDARD
BEGIN:DAYLIGHT
TZOFFSETFROM:-0500
TZOFFSETTO:-0400
TZNAME:EDT
DTSTART:20260308T070000
END:DAYLIGHT
BEGIN:STANDARD
TZOFFSETFROM:-0400
TZOFFSETTO:-0500
TZNAME:EST
DTSTART:20261101T060000
END:STANDARD
END:VTIMEZONE
BEGIN:VEVENT
DTSTART;TZID=America/New_York:20250925T133000
DTEND;TZID=America/New_York:20250925T143000
DTSTAMP:20260420T152444
CREATED:20250128T175719Z
LAST-MODIFIED:20260217T164524Z
UID:10000080-1758807000-1758810600@webbertraining.com
SUMMARY:Development of Food Safety Training Materials Through Memory Anchors and Elevated Learning
DESCRIPTION:Recording \n\n\n\n\n\n\n\n\n\n\n\n\n\n\n\nDevelopment of Food Safety Training Materials Through Memory Anchors and Elevated Learning\n\n\n\nProf. Keith Warriner\, University of Guelph\, Canada \n\n\n\n\n\n\n\n\n\n\n\n\n\n\n\n\n\n\n\n\n\nObjectives \n\n\n\n\n\n\nUnderstand the origins of food safety guidelines and Food Code\n\n\n\nBe aware of the challenges and approach to food safety training\n\n\n\nIdentify the relationship between anchor memories\, beliefs and practice\n\n\n\nApply higher learning approach that encompasses mapping\, chunking and learning by asking.\n\n\n\n\n\n\n\nLogin or Register for Membership to Enroll in Teleclass
URL:https://webbertraining.com/event/development-of-food-safety-training-materials-through-memory-anchors-and-elevated-learning/
CATEGORIES:2025 Teleclasses,Paid Teleclass
ATTACH;FMTTYPE=image/jpeg:https://webbertraining.com/wp-content/uploads/2025/01/2025-Food-Safety-Training-Teleclass-Slides-Sep.25.25.jpg
END:VEVENT
BEGIN:VEVENT
DTSTART;TZID=America/New_York:20250929T035000
DTEND;TZID=America/New_York:20250929T043000
DTSTAMP:20260420T152444
CREATED:20250903T225948Z
LAST-MODIFIED:20250904T004730Z
UID:10000097-1759117800-1759120200@webbertraining.com
SUMMARY:IPS Conference Broadcast - COTTRELL LECTURE
DESCRIPTION:Recording \n\n\n\n\n\n\n\n\n\n\n\n\n\n\n\nIPS Conference Broadcast – COTTRELL LECTURE\n\n\n\nDr Neil Wigglesworth \n\n\n\n\n\n\n\n\n\n\n\n\n\n\n\n\n\n\n\n\n\nObjectives \n\n\n\n\n\n\nTo be posted\n\n\n\n\n\n\n\nLogin or Register for Membership to Enroll in Teleclass
URL:https://webbertraining.com/event/ips-conference-broadcast-cottrell-lecture/
CATEGORIES:2025 Teleclasses,Paid Teleclass
ATTACH;FMTTYPE=image/png:https://webbertraining.com/wp-content/uploads/2025/01/WT-Header.png
END:VEVENT
BEGIN:VEVENT
DTSTART;TZID=America/New_York:20250929T091500
DTEND;TZID=America/New_York:20250929T095000
DTSTAMP:20260420T152444
CREATED:20250903T230518Z
LAST-MODIFIED:20250904T004852Z
UID:10000098-1759137300-1759139400@webbertraining.com
SUMMARY:IPS Conference Broadcast - TINA BRADLEY LECTURE - From Reminder to Reflex: Making IPC Second Nature
DESCRIPTION:Recording \n\n\n\n\n\n\n\n\n\n\n\n\n\n\n\nIPS Conference Broadcast – TINA BRADLEY LECTURE – From Reminder to Reflex: Making IPC Second Nature\n\n\n\nProfessor Michael Borg \n\n\n\n\n\n\n\n\n\n\n\n\n\n\n\n\n\n\n\n\n\nObjectives \n\n\n\n\n\n\nTo be posted\n\n\n\n\n\n\n\nLogin or Register for Membership to Enroll in Teleclass
URL:https://webbertraining.com/event/ips-conference-broadcast-tina-bradley-lecture-from-reminder-to-reflex-making-ipc-second-nature/
CATEGORIES:2025 Teleclasses,Paid Teleclass
ATTACH;FMTTYPE=image/png:https://webbertraining.com/wp-content/uploads/2025/01/WT-Header.png
END:VEVENT
BEGIN:VEVENT
DTSTART;TZID=America/New_York:20250930T090000
DTEND;TZID=America/New_York:20250930T094500
DTSTAMP:20260420T152444
CREATED:20250903T231005Z
LAST-MODIFIED:20250904T004601Z
UID:10000099-1759222800-1759225500@webbertraining.com
SUMMARY:IPS Conference Broadcast - AYLIFFE LECTURE - Antimicrobial Stewardship: at the heart of infection prevention
DESCRIPTION:Recording \n\n\n\n\n\n\n\n\n\n\n\n\n\n\n\nIPS Conference Broadcast – AYLIFFE LECTURE – Antimicrobial Stewardship: at the heart of infection prevention\n\n\n\nProfessor Martin Llewelyn \n\n\n\n\n\n\n\n\n\n\n\n\n\n\n\n\n\n\n\n\n\nObjectives \n\n\n\n\n\n\nTo be posted\n\n\n\n\n\n\n\nLogin or Register for Membership to Enroll in Teleclass
URL:https://webbertraining.com/event/ips-conference-broadcast-ayliffe-lecture-antimicrobial-stewardship-at-the-heart-of-infection-prevention/
CATEGORIES:2025 Teleclasses,Paid Teleclass
ATTACH;FMTTYPE=image/png:https://webbertraining.com/wp-content/uploads/2025/01/WT-Header.png
END:VEVENT
END:VCALENDAR