BEGIN:VCALENDAR
VERSION:2.0
PRODID:-//Webber Training - ECPv6.15.20//NONSGML v1.0//EN
CALSCALE:GREGORIAN
METHOD:PUBLISH
X-WR-CALNAME:Webber Training
X-ORIGINAL-URL:https://webbertraining.com
X-WR-CALDESC:Events for Webber Training
REFRESH-INTERVAL;VALUE=DURATION:PT1H
X-Robots-Tag:noindex
X-PUBLISHED-TTL:PT1H
BEGIN:VTIMEZONE
TZID:Europe/Paris
BEGIN:DAYLIGHT
TZOFFSETFROM:+0100
TZOFFSETTO:+0200
TZNAME:CEST
DTSTART:20250330T010000
END:DAYLIGHT
BEGIN:STANDARD
TZOFFSETFROM:+0200
TZOFFSETTO:+0100
TZNAME:CET
DTSTART:20251026T010000
END:STANDARD
BEGIN:DAYLIGHT
TZOFFSETFROM:+0100
TZOFFSETTO:+0200
TZNAME:CEST
DTSTART:20260329T010000
END:DAYLIGHT
BEGIN:STANDARD
TZOFFSETFROM:+0200
TZOFFSETTO:+0100
TZNAME:CET
DTSTART:20261025T010000
END:STANDARD
BEGIN:DAYLIGHT
TZOFFSETFROM:+0100
TZOFFSETTO:+0200
TZNAME:CEST
DTSTART:20270328T010000
END:DAYLIGHT
BEGIN:STANDARD
TZOFFSETFROM:+0200
TZOFFSETTO:+0100
TZNAME:CET
DTSTART:20271031T010000
END:STANDARD
END:VTIMEZONE
BEGIN:VTIMEZONE
TZID:America/New_York
BEGIN:DAYLIGHT
TZOFFSETFROM:-0500
TZOFFSETTO:-0400
TZNAME:EDT
DTSTART:20250309T070000
END:DAYLIGHT
BEGIN:STANDARD
TZOFFSETFROM:-0400
TZOFFSETTO:-0500
TZNAME:EST
DTSTART:20251102T060000
END:STANDARD
BEGIN:DAYLIGHT
TZOFFSETFROM:-0500
TZOFFSETTO:-0400
TZNAME:EDT
DTSTART:20260308T070000
END:DAYLIGHT
BEGIN:STANDARD
TZOFFSETFROM:-0400
TZOFFSETTO:-0500
TZNAME:EST
DTSTART:20261101T060000
END:STANDARD
BEGIN:DAYLIGHT
TZOFFSETFROM:-0500
TZOFFSETTO:-0400
TZNAME:EDT
DTSTART:20270314T070000
END:DAYLIGHT
BEGIN:STANDARD
TZOFFSETFROM:-0400
TZOFFSETTO:-0500
TZNAME:EST
DTSTART:20271107T060000
END:STANDARD
END:VTIMEZONE
BEGIN:VEVENT
DTSTART;TZID=Europe/Paris:20260604T133000
DTEND;TZID=Europe/Paris:20260604T143000
DTSTAMP:20260420T164232
CREATED:20260130T145308Z
LAST-MODIFIED:20260218T214450Z
UID:10000122-1780579800-1780583400@webbertraining.com
SUMMARY:Patience\, Patients and Persistent Antimicrobial Resistance
DESCRIPTION:Live Virtual Event \n\n\n\n\n\n\n\n\n\n\n\n\n\n\n\n\n\n\n\n\n\n\n\nPatience\, Patients and Persistent Antimicrobial Resistance\n\n\n\nProf. Colm Dunne\, University of Limerick\, Ireland \n\n\n\n\n\n\n\n\n\n\n\n\n\n\n\nLive broadcast time: \n\n\n\n\n\n1:30pm-2:30pm in New York / Toronto7:30pm in Geneva3:30am (June 5) in Sydney2:30pm in Buenos Aires8:30pm in Riyadh 17:30 UTC \n\n\n\n\n\n\n\n\n\n\n\nObjectives \n\n\n\n\n\n\nAntimicrobial Resistance (AMR) has been an acknowledged risk for decades. However\, despite interventions and promotion of antimicrobial stewardship incidence of resistance and outbreaks of drug-resistant bacteria and fungi are increasing\, although the species involved are no longer necessarily dominated by those familiar to us. It is now evident that progress in this area of healthcare is slow and will require resilience in education and training.\n\n\n\nFrequently\, strategies to prevent or mitigate AMR state that patients are central to the process. Despite this\, they remain most affected by outbreaks and hospital infections. In certain cases\, patients can present with colonisation or infection that is challenging to characterise and treat. In such cases\, innovations in molecular analysis can provide the information needed\, sometimes with useful TAT\, to ensure positive outcomes for the patients. However\, sometimes knowing the microbes involved does not mean that cases are unambiguous and that clinical decisions are straightforward\, especially when novel species are detected. \n\n\n\nAMR is not restricted to hospitals\, or even to human medicine. The OneHealth initiative acknowledges this\, and is a useful lens through which to evaluate microbial resistance in the environment and especially the implications of antibiotic use in veterinary medicine.\n\n\n\n\n\n\n\nLogin or Register for Membership to Enroll in Teleclass
URL:https://webbertraining.com/event/patience-patients-and-persistent-antimicrobial-resistance-2/
CATEGORIES:2026 Teleclasses,Paid Teleclass
ATTACH;FMTTYPE=image/png:https://webbertraining.com/wp-content/uploads/2026/01/June-4-Colm-Dunne.png
END:VEVENT
BEGIN:VEVENT
DTSTART;TZID=America/New_York:20260618T133000
DTEND;TZID=America/New_York:20260618T143000
DTSTAMP:20260420T164232
CREATED:20260130T144854Z
LAST-MODIFIED:20260218T214251Z
UID:10000123-1781789400-1781793000@webbertraining.com
SUMMARY:Monitoring and Evaluation to Optimize Microbiology and Care
DESCRIPTION:Live Virtual Event \n\n\n\n\n\n\n\n\n\n\n\n\n\n\n\n\n\n\n\nMonitoring and Evaluation to Optimize Microbiology and Care\n\n\n\nProf. Prameet Sheth\, Queen’s University\, Canada \n\n\n\n\n\n\n\n\n\n\n\n\n\n\n\nLive broadcast time: \n\n\n\n\n\n1:30pm-2:30pm in New York / Toronto7:30pm in Geneva3:30am (May 19) in Sydney2:30pm in Buenos Aires8:30pm in Riyadh 17:30 UTC \n\n\n\n\n\n\n\n\n\n\n\nObjectives \n\n\n\n\n\n\nReview current methods of monitoring and evaluating data.\n\n\n\nOutline the requirements for the development of an effective Monitoring and Evaluation platform for laboratory data.\n\n\n\nExamine the impact of the new Real-Time Autonomous monitoring system developed for infectious disease monitoring. \n\n\n\nConsider future implications of data-driven decision making to patient care\, IPAC and changes in clinical practice.\n\n\n\n\n\n\n\nLogin or Register for Membership to Enroll in Teleclass
URL:https://webbertraining.com/event/monitoring-and-evaluation-to-optimize-microbiology-and-care/
CATEGORIES:2026 Teleclasses,Paid Teleclass
ATTACH;FMTTYPE=image/png:https://webbertraining.com/wp-content/uploads/2026/01/Prameet-Sheth-copy.png
END:VEVENT
BEGIN:VEVENT
DTSTART;TZID=Europe/Paris:20260623T143000
DTEND;TZID=Europe/Paris:20260623T153000
DTSTAMP:20260420T164232
CREATED:20260130T151641Z
LAST-MODIFIED:20260401T165543Z
UID:10000124-1782225000-1782228600@webbertraining.com
SUMMARY:The Role of the Environment in the Transmission of Infection - How Can We Intervene?
DESCRIPTION:Live Virtual Event \n\n\n\n\n\n\n\n\n\n\n\n\n\n\n\n\n\n\n\n\n\n\nAn International Federation of Infection Control (IFIC) teleclass \n\n\n\n\n\n\nThe Role of the Environment in the Transmission of Infection – How Can We Intervene?\n\n\n\nProf. Elaine Cloutman-Green\, Great Ormond Street Hospital\, UK \n\n\n\n\n\n\n\n\n\n\n\n\n\n\n\nLive broadcast time: \n\n\n\n\n\n2:30pm-3:30pm in Geneva8:30am in New York/Toronto10:30pm in Sydney9:30am in Buenos Aires3:30pm in Riyadh12:30 UTC \n\n\n\n\n\n\n\n\n\n\n\nObjectives \n\n\n\n\n\n\nExplore the evidence for the built environment playing a role in transmission of infection in healthcare settings.\n\n\n\nAre all organisms linked to similar risk profiles?\n\n\n\nAre all built environments the same?\n\n\n\nDetermine what kind of options are open for:\n\nIdentifying the source\n\n\n\nAddressing the problem\n\n\n\nContinuous risk mitigation\n\n\n\n\n\n\n\n\n\nLogin or Register for Membership to Enroll in Teleclass
URL:https://webbertraining.com/event/the-role-of-the-environment-in-the-transmission-of-infection-how-can-we-intervene/
CATEGORIES:2026 Teleclasses,Free Teleclass
ATTACH;FMTTYPE=image/png:https://webbertraining.com/wp-content/uploads/2026/02/IFIC-Logo.png
END:VEVENT
END:VCALENDAR