BEGIN:VCALENDAR
VERSION:2.0
PRODID:-//Webber Training - ECPv6.15.20//NONSGML v1.0//EN
CALSCALE:GREGORIAN
METHOD:PUBLISH
X-WR-CALNAME:Webber Training
X-ORIGINAL-URL:https://webbertraining.com
X-WR-CALDESC:Events for Webber Training
REFRESH-INTERVAL;VALUE=DURATION:PT1H
X-Robots-Tag:noindex
X-PUBLISHED-TTL:PT1H
BEGIN:VTIMEZONE
TZID:Europe/Paris
BEGIN:DAYLIGHT
TZOFFSETFROM:+0100
TZOFFSETTO:+0200
TZNAME:CEST
DTSTART:20250330T010000
END:DAYLIGHT
BEGIN:STANDARD
TZOFFSETFROM:+0200
TZOFFSETTO:+0100
TZNAME:CET
DTSTART:20251026T010000
END:STANDARD
BEGIN:DAYLIGHT
TZOFFSETFROM:+0100
TZOFFSETTO:+0200
TZNAME:CEST
DTSTART:20260329T010000
END:DAYLIGHT
BEGIN:STANDARD
TZOFFSETFROM:+0200
TZOFFSETTO:+0100
TZNAME:CET
DTSTART:20261025T010000
END:STANDARD
BEGIN:DAYLIGHT
TZOFFSETFROM:+0100
TZOFFSETTO:+0200
TZNAME:CEST
DTSTART:20270328T010000
END:DAYLIGHT
BEGIN:STANDARD
TZOFFSETFROM:+0200
TZOFFSETTO:+0100
TZNAME:CET
DTSTART:20271031T010000
END:STANDARD
END:VTIMEZONE
BEGIN:VTIMEZONE
TZID:America/New_York
BEGIN:DAYLIGHT
TZOFFSETFROM:-0500
TZOFFSETTO:-0400
TZNAME:EDT
DTSTART:20250309T070000
END:DAYLIGHT
BEGIN:STANDARD
TZOFFSETFROM:-0400
TZOFFSETTO:-0500
TZNAME:EST
DTSTART:20251102T060000
END:STANDARD
BEGIN:DAYLIGHT
TZOFFSETFROM:-0500
TZOFFSETTO:-0400
TZNAME:EDT
DTSTART:20260308T070000
END:DAYLIGHT
BEGIN:STANDARD
TZOFFSETFROM:-0400
TZOFFSETTO:-0500
TZNAME:EST
DTSTART:20261101T060000
END:STANDARD
BEGIN:DAYLIGHT
TZOFFSETFROM:-0500
TZOFFSETTO:-0400
TZNAME:EDT
DTSTART:20270314T070000
END:DAYLIGHT
BEGIN:STANDARD
TZOFFSETFROM:-0400
TZOFFSETTO:-0500
TZNAME:EST
DTSTART:20271107T060000
END:STANDARD
END:VTIMEZONE
BEGIN:VTIMEZONE
TZID:Australia/Sydney
BEGIN:STANDARD
TZOFFSETFROM:+1100
TZOFFSETTO:+1000
TZNAME:AEST
DTSTART:20250405T160000
END:STANDARD
BEGIN:DAYLIGHT
TZOFFSETFROM:+1000
TZOFFSETTO:+1100
TZNAME:AEDT
DTSTART:20251004T160000
END:DAYLIGHT
BEGIN:STANDARD
TZOFFSETFROM:+1100
TZOFFSETTO:+1000
TZNAME:AEST
DTSTART:20260404T160000
END:STANDARD
BEGIN:DAYLIGHT
TZOFFSETFROM:+1000
TZOFFSETTO:+1100
TZNAME:AEDT
DTSTART:20261003T160000
END:DAYLIGHT
BEGIN:STANDARD
TZOFFSETFROM:+1100
TZOFFSETTO:+1000
TZNAME:AEST
DTSTART:20270403T160000
END:STANDARD
BEGIN:DAYLIGHT
TZOFFSETFROM:+1000
TZOFFSETTO:+1100
TZNAME:AEDT
DTSTART:20271002T160000
END:DAYLIGHT
END:VTIMEZONE
BEGIN:VEVENT
DTSTART;TZID=Europe/Paris:20261006T143000
DTEND;TZID=Europe/Paris:20261006T153000
DTSTAMP:20260420T205927
CREATED:20260130T163838Z
LAST-MODIFIED:20260311T122754Z
UID:10000128-1791297000-1791300600@webbertraining.com
SUMMARY:Special Lecture for Clean Hospitals Day 2026
DESCRIPTION:Live Virtual Event \n\n\n\n\n\n\n\n\n\n\n\n\n\n\n\n\n\nAfro-European Teleclass\n\n\n\n\n\nSpecial Lecture for Clean Hospitals Day 2026\n\n\n\nDr. Alexandra Peters\, University of Geneva \n\n\n\n\n\n\n\n\n\n\n\n\n\n\n\n\n\n\n\n\n\nObjectives \n\n\n\n\n\n\nTo be posted\n\n\n\n\n\n\n\nLogin or Register for Membership to Enroll in Teleclass
URL:https://webbertraining.com/event/special-lecture-for-clean-hospitals-day-2026/
CATEGORIES:2026 Teleclasses,Free Teleclass
ATTACH;FMTTYPE=image/png:https://webbertraining.com/wp-content/uploads/2026/03/October-6-Alexandra-Peters.png
END:VEVENT
BEGIN:VEVENT
DTSTART;TZID=America/New_York:20261008T133000
DTEND;TZID=America/New_York:20261008T143000
DTSTAMP:20260420T205927
CREATED:20260130T164124Z
LAST-MODIFIED:20260303T002156Z
UID:10000129-1791466200-1791469800@webbertraining.com
SUMMARY:Barriers and Facilitators to the Use of PPE in Long Term Care
DESCRIPTION:Live Virtual Event \n\n\n\n\n\n\n\n\n\n\n\n\n\n\n\n\n\n\n\nBarriers and Facilitators to the Use of PPE in Long Term Care\n\n\n\nChristian Tsang\, University of Calgary \n\n\n\n\n\n\n\n\n\n\n\n\n\n\n\nLive broadcast time: \n\n\n\n\n\n1:30pm-2:30pm in New York / Toronto7:30pm in Geneva4:30am (October 9) in Sydney2:30pm in Buenos Aires8:30pm in Riyadh 18:30 UTC \n\n\n\n\n\n\n\n\n\n\n\nObjectives \n\n\n\n\n\n\nBe introduced to IPC in the context of long-term care\,\n\n\n\nLearn about the factors and lived experiences that impact PPE use in LTC\, and\n\n\n\nRecognize the relevance of implementation science frameworks to highlight where change is needed\n\n\n\n\n\n\n\nLogin or Register for Membership to Enroll in Teleclass
URL:https://webbertraining.com/event/barriers-and-facilitators-to-the-use-of-ppe-in-long-term-care/
CATEGORIES:2026 Teleclasses,Paid Teleclass
ATTACH;FMTTYPE=image/jpeg:https://webbertraining.com/wp-content/uploads/2026/01/Christian-Tsang2.jpg
END:VEVENT
BEGIN:VEVENT
DTSTART;TZID=Australia/Sydney:20261021T133000
DTEND;TZID=Australia/Sydney:20261021T143000
DTSTAMP:20260420T205927
CREATED:20260130T164400Z
LAST-MODIFIED:20260226T140313Z
UID:10000130-1792589400-1792593000@webbertraining.com
SUMMARY:(Australasian Teleclass)  The HAPPEN Study - Hospital Acquired Pneumonia PrEveNtion
DESCRIPTION:Live Virtual Event \n\n\n\n\n\n\n\n\n\n\n\n\n\n\n\n\n\nAustralasian Teleclass\n\n\n\n\n\nThe HAPPEN Study – Hospital Acquired Pneumonia PrEveNtion\n\n\n\nProf. Brett Mitchell\, Avondale University\, Australia \n\n\n\n\n\n\n\n\n\n\n\n\n\n\n\nLive broadcast time: \n\n\n\n\n\n1:30pm-2:30pm in Sydney10:30pm (October 20) in New York / Toronto4:30am in Geneva11:30pm (October 20) in Buenos Aires5:30am in Riyadh 03:30 UTC \n\n\n\n\n\n\n\n\n\n\n\nObjectives \n\n\n\n\n\n\nDiscuss strategies to prevent NV-HAP\n\n\n\nOutline barriers to preventing oral care\n\n\n\nExplore findings from the HAPPEN trial\, a multi-centre RCT aimed at improving oral care and reducing NV-HAP\n\n\n\n\n\n\n\nLogin or Register for Membership to Enroll in Teleclass
URL:https://webbertraining.com/event/the-happen-study-hospital-acquired-pneumonia-prevention/
CATEGORIES:2026 Teleclasses,Paid Teleclass
ATTACH;FMTTYPE=image/png:https://webbertraining.com/wp-content/uploads/2026/01/Prof.-Brett-Mitchell.png
END:VEVENT
BEGIN:VEVENT
DTSTART;TZID=America/New_York:20261022T133000
DTEND;TZID=America/New_York:20261022T143000
DTSTAMP:20260420T205927
CREATED:20260130T164642Z
LAST-MODIFIED:20260218T211940Z
UID:10000131-1792675800-1792679400@webbertraining.com
SUMMARY:Discussion: Three Wise Men on Disinfection
DESCRIPTION:Live Virtual Event \n\n\n\n\n\n\n\n\n\n\n\n\n\n\n\n\n\n\n\nDiscussion: Three Wise Men on Disinfection\n\n\n\nDr. Jon Otter\, Imperial College London\, and Dr. Curtis Donskey\, Cleveland VA Medical Center\, and Prof. Jean-Yves Maillard\, Cardiff University \n\n\n\n\n\n\n\n\n\n\n\n\n\n\n\nLive broadcast time: \n\n\n\n\n\n1:30pm-2:30pm in New York / Toronto7:30pm in Geneva4:30am (October 23) in Sydney2:30pm in Buenos Aires8:30pm in Riyadh 18:30 UTC \n\n\n\n\n\n\n\n\n\n\n\nObjectives \n\n\n\n\n\n\nDiscuss the current issues in surface and instrument disinfection \n\n\n\nAnswer questions from members around the globe\, provided in advance\n\n\n\n\n\n\n\nLogin or Register for Membership to Enroll in Teleclass
URL:https://webbertraining.com/event/discussion-three-wise-men-on-disinfection/
CATEGORIES:2026 Teleclasses,Paid Teleclass
ATTACH;FMTTYPE=image/png:https://webbertraining.com/wp-content/uploads/2026/01/October-22-3-wise-men.png
END:VEVENT
BEGIN:VEVENT
DTSTART;TZID=America/New_York:20261029T133000
DTEND;TZID=America/New_York:20261029T143000
DTSTAMP:20260420T205927
CREATED:20260218T203214Z
LAST-MODIFIED:20260218T211846Z
UID:10000149-1793280600-1793284200@webbertraining.com
SUMMARY:Leveraging Artificial Intelligence to Transform Infection Prevention and Control: Evidence\, Barriers\, and a Practical Decision-Support Framework
DESCRIPTION:Live Virtual Event \n\n\n\n\n\n\n\n\n\n\n\n\n\n\n\n\n\n\n\nAn International Federation of Infection Control (IFIC) teleclass\n\n\n\nLeveraging Artificial Intelligence to Transform Infection Prevention and Control: Evidence\, Barriers\, and a Practical Decision-Support Framework\n\n\n\nSilvana Gastaldi\, National Association of Nurses for Prevention of Hospital Infections\, Italy\, Dr. Ermira Tartari Bonnici\, University of Malta\, and Giovanni Satta\, University College London Hospitals \n\n\n\n\n\n\n\n\n\n\n\n\n\n\n\nLive broadcast time: \n\n\n\n\n\n1:30pm-2:30pm in New York / Toronto6:30pm in Geneva4:30am (October 30) in Sydney2:30pm in Buenos Aires8:30pm in Riyadh 17:30 UTC \n\n\n\n\n\n\n\n\n\n\n\nObjectives \n\n\n\n\n\n\nOutline key AI applications in IPC\, including surveillance and outbreak detection.\n\n\n\nRecognize major implementation barriers (data quality\, governance\, interoperability\, workforce skills).\n\n\n\nUnderstand the usefulness of the decision-support checklist to assess feasibility and readiness for AI adoption in IPC settings.\n\n\n\n\n\n\n\nLogin or Register for Membership to Enroll in Teleclass
URL:https://webbertraining.com/event/leveraging-artificial-intelligence-to-transform-infection-prevention-and-control-evidence-barriers-and-a-practical-decision-support-framework/
CATEGORIES:2026 Teleclasses,Paid Teleclass
ATTACH;FMTTYPE=image/png:https://webbertraining.com/wp-content/uploads/2026/01/IFIC-logo-new.png
END:VEVENT
END:VCALENDAR