BEGIN:VCALENDAR
VERSION:2.0
PRODID:-//Webber Training - ECPv6.15.20//NONSGML v1.0//EN
CALSCALE:GREGORIAN
METHOD:PUBLISH
X-ORIGINAL-URL:https://webbertraining.com
X-WR-CALDESC:Events for Webber Training
REFRESH-INTERVAL;VALUE=DURATION:PT1H
X-Robots-Tag:noindex
X-PUBLISHED-TTL:PT1H
BEGIN:VTIMEZONE
TZID:America/New_York
BEGIN:DAYLIGHT
TZOFFSETFROM:-0500
TZOFFSETTO:-0400
TZNAME:EDT
DTSTART:20230312T070000
END:DAYLIGHT
BEGIN:STANDARD
TZOFFSETFROM:-0400
TZOFFSETTO:-0500
TZNAME:EST
DTSTART:20231105T060000
END:STANDARD
BEGIN:DAYLIGHT
TZOFFSETFROM:-0500
TZOFFSETTO:-0400
TZNAME:EDT
DTSTART:20240310T070000
END:DAYLIGHT
BEGIN:STANDARD
TZOFFSETFROM:-0400
TZOFFSETTO:-0500
TZNAME:EST
DTSTART:20241103T060000
END:STANDARD
BEGIN:DAYLIGHT
TZOFFSETFROM:-0500
TZOFFSETTO:-0400
TZNAME:EDT
DTSTART:20250309T070000
END:DAYLIGHT
BEGIN:STANDARD
TZOFFSETFROM:-0400
TZOFFSETTO:-0500
TZNAME:EST
DTSTART:20251102T060000
END:STANDARD
END:VTIMEZONE
BEGIN:VEVENT
DTSTART;TZID=America/New_York:20240118T133000
DTEND;TZID=America/New_York:20240118T143000
DTSTAMP:20260421T190445
CREATED:20241129T143907Z
LAST-MODIFIED:20241129T143909Z
UID:10000053-1705584600-1705588200@webbertraining.com
SUMMARY:Throw it Away: How Infection Control Practice Destroys Planetary Health and Fuels Labour Abuse
DESCRIPTION:Prof. Mahmood Bhutta\, University of Sussex \n\n\n\n\nObjectives:\n\n\n\n\nOutline the environmental and labour harms associated with a linear economy for medical goods\n\n\n\nAppreciate how infection control policy and practice has led to over-materialisation in healthcare\n\n\n\nUnderstand how the infection control community can support planetary health and a circular economy
URL:https://webbertraining.com/event/throw-it-away-how-infection-control-practice-destroys-planetary-health-and-fuels-labour-abuse/
CATEGORIES:2024 Teleclasses,Paid Teleclass
ATTACH;FMTTYPE=image/png:https://webbertraining.com/wp-content/uploads/2024/11/Oct-10-2024-Image.png
LOCATION:https://webbertraining.com/event/throw-it-away-how-infection-control-practice-destroys-planetary-health-and-fuels-labour-abuse/
END:VEVENT
END:VCALENDAR