BEGIN:VCALENDAR
VERSION:2.0
PRODID:-//Webber Training - ECPv6.15.20//NONSGML v1.0//EN
CALSCALE:GREGORIAN
METHOD:PUBLISH
X-ORIGINAL-URL:https://webbertraining.com
X-WR-CALDESC:Events for Webber Training
REFRESH-INTERVAL;VALUE=DURATION:PT1H
X-Robots-Tag:noindex
X-PUBLISHED-TTL:PT1H
BEGIN:VTIMEZONE
TZID:America/New_York
BEGIN:DAYLIGHT
TZOFFSETFROM:-0500
TZOFFSETTO:-0400
TZNAME:EDT
DTSTART:20230312T070000
END:DAYLIGHT
BEGIN:STANDARD
TZOFFSETFROM:-0400
TZOFFSETTO:-0500
TZNAME:EST
DTSTART:20231105T060000
END:STANDARD
BEGIN:DAYLIGHT
TZOFFSETFROM:-0500
TZOFFSETTO:-0400
TZNAME:EDT
DTSTART:20240310T070000
END:DAYLIGHT
BEGIN:STANDARD
TZOFFSETFROM:-0400
TZOFFSETTO:-0500
TZNAME:EST
DTSTART:20241103T060000
END:STANDARD
BEGIN:DAYLIGHT
TZOFFSETFROM:-0500
TZOFFSETTO:-0400
TZNAME:EDT
DTSTART:20250309T070000
END:DAYLIGHT
BEGIN:STANDARD
TZOFFSETFROM:-0400
TZOFFSETTO:-0500
TZNAME:EST
DTSTART:20251102T060000
END:STANDARD
END:VTIMEZONE
BEGIN:VEVENT
DTSTART;TZID=America/New_York:20240201T133000
DTEND;TZID=America/New_York:20240201T143000
DTSTAMP:20260421T190445
CREATED:20241129T143004Z
LAST-MODIFIED:20241129T143007Z
UID:10000051-1706794200-1706797800@webbertraining.com
SUMMARY:Developing a Better Understanding of Hygiene is Key to Developing Effective Hygiene Behaviour in Homes and Everyday Lives
DESCRIPTION:(Free Teleclass)Dr. Sally Bloomfield\, International Scientific Forum on Home Hygiene \n\n\n\n\nObjectives:\n\n\n\n\nThis presentation will explore: – UK polling showing that the public have high level of concern about the importance of hygiene to prevent spread of COVID-19 and understand the routes of transmission\, but\, as found in previous public polls\, were unable to use their knowledge to make informed decisions on when to practice hygiene.\n\n\n\nWhy hygiene behaviour change and resilience against future infection threats will not be achieved unless we also take steps to improve public understanding of hygiene.\n\n\n\nHow a risk management approach based on identifying “key moments for hygiene” offers a framework for developing effective hygiene that meet C21st needs.\n\n\n\nHow this approach communicates hygiene actions in the sequence the public need to receive them\, firstly identifying the daily life moments WHEN we need to practice hygiene\, and secondly the places WHERE and then HOW we need to practice hygiene at that moment.\n\n\n\nBecause Targeted Hygiene is applicable to all hygiene-related infections and communicates in a way that is easily visualized and understood\, it has the potential to enable the public to understand\, adapt and respond to different challenges and threats.
URL:https://webbertraining.com/event/developing-a-better-understanding-of-hygiene-is-key-to-developing-effective-hygiene-behaviour-in-homes-and-everyday-lives/
CATEGORIES:2024 Teleclasses,Free Teleclass
ATTACH;FMTTYPE=image/png:https://webbertraining.com/wp-content/uploads/2024/11/Oct-10-2024-Image.png
LOCATION:https://webbertraining.com/event/developing-a-better-understanding-of-hygiene-is-key-to-developing-effective-hygiene-behaviour-in-homes-and-everyday-lives/
END:VEVENT
END:VCALENDAR