BEGIN:VCALENDAR
VERSION:2.0
PRODID:-//Webber Training - ECPv6.15.20//NONSGML v1.0//EN
CALSCALE:GREGORIAN
METHOD:PUBLISH
X-WR-CALNAME:Webber Training
X-ORIGINAL-URL:https://webbertraining.com
X-WR-CALDESC:Events for Webber Training
REFRESH-INTERVAL;VALUE=DURATION:PT1H
X-Robots-Tag:noindex
X-PUBLISHED-TTL:PT1H
BEGIN:VTIMEZONE
TZID:Australia/Sydney
BEGIN:STANDARD
TZOFFSETFROM:+1100
TZOFFSETTO:+1000
TZNAME:AEST
DTSTART:20230401T160000
END:STANDARD
BEGIN:DAYLIGHT
TZOFFSETFROM:+1000
TZOFFSETTO:+1100
TZNAME:AEDT
DTSTART:20230930T160000
END:DAYLIGHT
BEGIN:STANDARD
TZOFFSETFROM:+1100
TZOFFSETTO:+1000
TZNAME:AEST
DTSTART:20240406T160000
END:STANDARD
BEGIN:DAYLIGHT
TZOFFSETFROM:+1000
TZOFFSETTO:+1100
TZNAME:AEDT
DTSTART:20241005T160000
END:DAYLIGHT
BEGIN:STANDARD
TZOFFSETFROM:+1100
TZOFFSETTO:+1000
TZNAME:AEST
DTSTART:20250405T160000
END:STANDARD
BEGIN:DAYLIGHT
TZOFFSETFROM:+1000
TZOFFSETTO:+1100
TZNAME:AEDT
DTSTART:20251004T160000
END:DAYLIGHT
END:VTIMEZONE
BEGIN:VEVENT
DTSTART;TZID=Australia/Sydney:20240214T133000
DTEND;TZID=Australia/Sydney:20240214T143000
DTSTAMP:20260421T173517
CREATED:20241129T141742Z
LAST-MODIFIED:20241129T141744Z
UID:10000049-1707917400-1707921000@webbertraining.com
SUMMARY:Human AMR Surveillance - Where Are We Now and Where Should We Be Heading?
DESCRIPTION:(Australasian Teleclass)Dr. Paul Turner\, Cambodia Oxford Medical Research Unit\, Angkor Hospital for Children\, Cambodia \n\n\n\n\nObjectives:\n\n\n\n\nProvide a brief overview of the AMR problem\n\n\n\nDefine the purpose(s) of AMR surveillance in humans\n\n\n\nSummarise human AMR surveillance strategies and their strengths / weaknesses\n\n\n\nIdentify key AMR knowledge gaps and highlight some on-going work to fill these gaps (in particular assessing the impacts of AMR on clinical care / outcomes)
URL:https://webbertraining.com/event/human-amr-surveillance-where-are-we-now-and-where-should-we-be-heading/
CATEGORIES:2024 Teleclasses,Paid Teleclass
ATTACH;FMTTYPE=image/png:https://webbertraining.com/wp-content/uploads/2024/11/Oct-10-2024-Image.png
LOCATION:https://webbertraining.com/event/human-amr-surveillance-where-are-we-now-and-where-should-we-be-heading/
END:VEVENT
END:VCALENDAR