BEGIN:VCALENDAR
VERSION:2.0
PRODID:-//Webber Training - ECPv6.15.20//NONSGML v1.0//EN
CALSCALE:GREGORIAN
METHOD:PUBLISH
X-ORIGINAL-URL:https://webbertraining.com
X-WR-CALDESC:Events for Webber Training
REFRESH-INTERVAL;VALUE=DURATION:PT1H
X-Robots-Tag:noindex
X-PUBLISHED-TTL:PT1H
BEGIN:VTIMEZONE
TZID:Europe/Paris
BEGIN:DAYLIGHT
TZOFFSETFROM:+0100
TZOFFSETTO:+0200
TZNAME:CEST
DTSTART:20230326T010000
END:DAYLIGHT
BEGIN:STANDARD
TZOFFSETFROM:+0200
TZOFFSETTO:+0100
TZNAME:CET
DTSTART:20231029T010000
END:STANDARD
BEGIN:DAYLIGHT
TZOFFSETFROM:+0100
TZOFFSETTO:+0200
TZNAME:CEST
DTSTART:20240331T010000
END:DAYLIGHT
BEGIN:STANDARD
TZOFFSETFROM:+0200
TZOFFSETTO:+0100
TZNAME:CET
DTSTART:20241027T010000
END:STANDARD
BEGIN:DAYLIGHT
TZOFFSETFROM:+0100
TZOFFSETTO:+0200
TZNAME:CEST
DTSTART:20250330T010000
END:DAYLIGHT
BEGIN:STANDARD
TZOFFSETFROM:+0200
TZOFFSETTO:+0100
TZNAME:CET
DTSTART:20251026T010000
END:STANDARD
END:VTIMEZONE
BEGIN:VTIMEZONE
TZID:America/New_York
BEGIN:DAYLIGHT
TZOFFSETFROM:-0500
TZOFFSETTO:-0400
TZNAME:EDT
DTSTART:20230312T070000
END:DAYLIGHT
BEGIN:STANDARD
TZOFFSETFROM:-0400
TZOFFSETTO:-0500
TZNAME:EST
DTSTART:20231105T060000
END:STANDARD
BEGIN:DAYLIGHT
TZOFFSETFROM:-0500
TZOFFSETTO:-0400
TZNAME:EDT
DTSTART:20240310T070000
END:DAYLIGHT
BEGIN:STANDARD
TZOFFSETFROM:-0400
TZOFFSETTO:-0500
TZNAME:EST
DTSTART:20241103T060000
END:STANDARD
BEGIN:DAYLIGHT
TZOFFSETFROM:-0500
TZOFFSETTO:-0400
TZNAME:EDT
DTSTART:20250309T070000
END:DAYLIGHT
BEGIN:STANDARD
TZOFFSETFROM:-0400
TZOFFSETTO:-0500
TZNAME:EST
DTSTART:20251102T060000
END:STANDARD
END:VTIMEZONE
BEGIN:VEVENT
DTSTART;TZID=Europe/Paris:20240227T143000
DTEND;TZID=Europe/Paris:20240227T153000
DTSTAMP:20260421T161501
CREATED:20241129T141222Z
LAST-MODIFIED:20241129T141224Z
UID:10000048-1709044200-1709047800@webbertraining.com
SUMMARY:A Drive to Survive: Covid-19 Implications for Systemic Resilience on Ethics\, Data Science and Risk-Management
DESCRIPTION:(European Teleclass)Prof. Andro Košec\, University of Zagreb\, Croatia \n\n\n\n\nObjectives:\n\n\n\n\nThe intertwined nature of medical disasters and other man-made systemic constructs such as healthcare\, disaster relief efforts\, morality\, professionalism\, data access and curation has been put to the test very recently by the COVID-19 pandemic\, and even more so\, by the way we responded to it.The objective of the talk will target the systemic bias and underlying principles of action by human (moral) agents in dealing with a multisystemic event requiring thinking outside the box when assessing its impact.\n\n\n\nThe framework of resilience will especially be highlighted\, as the high frequency of adverse (traumatic) events may even have positive effects and could even be viewed as a precursor to any progress.The enthusiastic listener will be confronted by data on the various pandemic aspects\, but also possible implications on multiple catastrophies occuring together in the health system\, and try to extricate meaning to our professional lives beyond the obvious\, even after the pandemic is (hopefully) over.From a healthcare perspective\, the common framework of understanding is the most important learning objective\, since we were all affected as either providers\, recipients of healthcare\, as organizers\, decision-makers\, taxpayers\, but most importantly – as human beings sharing a sense of a common threat.
URL:https://webbertraining.com/event/a-drive-to-survive-covid-19-implications-for-systemic-resilience-on-ethics-data-science-and-risk-management/
CATEGORIES:2024 Teleclasses,Paid Teleclass
ATTACH;FMTTYPE=image/png:https://webbertraining.com/wp-content/uploads/2024/11/Oct-10-2024-Image.png
LOCATION:https://webbertraining.com/event/a-drive-to-survive-covid-19-implications-for-systemic-resilience-on-ethics-data-science-and-risk-management/
END:VEVENT
BEGIN:VEVENT
DTSTART;TZID=America/New_York:20240229T133000
DTEND;TZID=America/New_York:20240229T143000
DTSTAMP:20260421T161501
CREATED:20241129T140647Z
LAST-MODIFIED:20241129T140650Z
UID:10000047-1709213400-1709217000@webbertraining.com
SUMMARY:Infection Prevention Through the Lens of Implementation Science
DESCRIPTION:Dr. Mireille Dekke\, Amsterdam University Medical Center\, Netherlands \n\n\n\n\nObjectives:\n\n\n\n\nExplore the core of implementation science\n\n\n\nDiscuss how we can use knowledge from implementation science in practice\n\n\n\nLearn to identify barriers and facilitators\n\n\n\nUnderstand how to choose implementation strategies
URL:https://webbertraining.com/event/infection-prevention-through-the-lens-of-implementation-science/
CATEGORIES:2024 Teleclasses,Paid Teleclass
ATTACH;FMTTYPE=image/png:https://webbertraining.com/wp-content/uploads/2024/11/Oct-10-2024-Image.png
LOCATION:https://webbertraining.com/event/infection-prevention-through-the-lens-of-implementation-science/
END:VEVENT
END:VCALENDAR