BEGIN:VCALENDAR
VERSION:2.0
PRODID:-//Webber Training - ECPv6.15.20//NONSGML v1.0//EN
CALSCALE:GREGORIAN
METHOD:PUBLISH
X-ORIGINAL-URL:https://webbertraining.com
X-WR-CALDESC:Events for Webber Training
REFRESH-INTERVAL;VALUE=DURATION:PT1H
X-Robots-Tag:noindex
X-PUBLISHED-TTL:PT1H
BEGIN:VTIMEZONE
TZID:America/New_York
BEGIN:DAYLIGHT
TZOFFSETFROM:-0500
TZOFFSETTO:-0400
TZNAME:EDT
DTSTART:20230312T070000
END:DAYLIGHT
BEGIN:STANDARD
TZOFFSETFROM:-0400
TZOFFSETTO:-0500
TZNAME:EST
DTSTART:20231105T060000
END:STANDARD
BEGIN:DAYLIGHT
TZOFFSETFROM:-0500
TZOFFSETTO:-0400
TZNAME:EDT
DTSTART:20240310T070000
END:DAYLIGHT
BEGIN:STANDARD
TZOFFSETFROM:-0400
TZOFFSETTO:-0500
TZNAME:EST
DTSTART:20241103T060000
END:STANDARD
BEGIN:DAYLIGHT
TZOFFSETFROM:-0500
TZOFFSETTO:-0400
TZNAME:EDT
DTSTART:20250309T070000
END:DAYLIGHT
BEGIN:STANDARD
TZOFFSETFROM:-0400
TZOFFSETTO:-0500
TZNAME:EST
DTSTART:20251102T060000
END:STANDARD
END:VTIMEZONE
BEGIN:VEVENT
DTSTART;TZID=America/New_York:20240321T133000
DTEND;TZID=America/New_York:20240321T143000
DTSTAMP:20260421T173647
CREATED:20241129T134823Z
LAST-MODIFIED:20241129T134910Z
UID:10000043-1711027800-1711031400@webbertraining.com
SUMMARY:Emerging Fungal Infections: Environmental Changes Bring About New Challenges
DESCRIPTION:Dr. Tom Chiller\, Centers for Disease Control\, Atlanta \n\n\n\n\nObjectives:\n\n\n\n\nDiscuss current insights into respiratory virus transmission (Droplet vs Aerosol vs Airborne) and potential impacts of current evidence on IPAC programs (future of respiratory protection)
URL:https://webbertraining.com/event/emerging-fungal-infections-environmental-changes-bring-about-new-challenges/
CATEGORIES:2024 Teleclasses,Paid Teleclass
ATTACH;FMTTYPE=image/png:https://webbertraining.com/wp-content/uploads/2024/11/Oct-10-2024-Image.png
LOCATION:https://webbertraining.com/event/emerging-fungal-infections-environmental-changes-bring-about-new-challenges/
END:VEVENT
END:VCALENDAR