BEGIN:VCALENDAR
VERSION:2.0
PRODID:-//Webber Training - ECPv6.15.20//NONSGML v1.0//EN
CALSCALE:GREGORIAN
METHOD:PUBLISH
X-WR-CALNAME:Webber Training
X-ORIGINAL-URL:https://webbertraining.com
X-WR-CALDESC:Events for Webber Training
REFRESH-INTERVAL;VALUE=DURATION:PT1H
X-Robots-Tag:noindex
X-PUBLISHED-TTL:PT1H
BEGIN:VTIMEZONE
TZID:Europe/Paris
BEGIN:DAYLIGHT
TZOFFSETFROM:+0100
TZOFFSETTO:+0200
TZNAME:CEST
DTSTART:20230326T010000
END:DAYLIGHT
BEGIN:STANDARD
TZOFFSETFROM:+0200
TZOFFSETTO:+0100
TZNAME:CET
DTSTART:20231029T010000
END:STANDARD
BEGIN:DAYLIGHT
TZOFFSETFROM:+0100
TZOFFSETTO:+0200
TZNAME:CEST
DTSTART:20240331T010000
END:DAYLIGHT
BEGIN:STANDARD
TZOFFSETFROM:+0200
TZOFFSETTO:+0100
TZNAME:CET
DTSTART:20241027T010000
END:STANDARD
BEGIN:DAYLIGHT
TZOFFSETFROM:+0100
TZOFFSETTO:+0200
TZNAME:CEST
DTSTART:20250330T010000
END:DAYLIGHT
BEGIN:STANDARD
TZOFFSETFROM:+0200
TZOFFSETTO:+0100
TZNAME:CET
DTSTART:20251026T010000
END:STANDARD
END:VTIMEZONE
BEGIN:VEVENT
DTSTART;TZID=Europe/Paris:20240417T133000
DTEND;TZID=Europe/Paris:20240417T143000
DTSTAMP:20260421T145703
CREATED:20241129T131939Z
LAST-MODIFIED:20241129T131942Z
UID:10000040-1713360600-1713364200@webbertraining.com
SUMMARY:Social Science and Infection Prevention and Control
DESCRIPTION:(Australasian Teleclass)Prof. Holly Seale\, University of New South Wales School of Population Health\, Australia \n\n\n\n\nObjectives:\n\n\n\n\nDemonstrate an understanding of the role of social science in exploring the thinking/feeling factors and social norms that impact on behaviours\n\n\n\nBe able to determine appropriate strategies to measure the social and behavioural factors impacting on compliance with IPC strategies.\n\n\n\nDiscuss approaches to address the key social and behavioural factors within the workplace
URL:https://webbertraining.com/event/social-science-and-infection-prevention-and-control/
CATEGORIES:2024 Teleclasses,Paid Teleclass
ATTACH;FMTTYPE=image/png:https://webbertraining.com/wp-content/uploads/2024/11/Oct-10-2024-Image.png
LOCATION:https://webbertraining.com/event/social-science-and-infection-prevention-and-control/
END:VEVENT
END:VCALENDAR