BEGIN:VCALENDAR
VERSION:2.0
PRODID:-//Webber Training - ECPv6.15.20//NONSGML v1.0//EN
CALSCALE:GREGORIAN
METHOD:PUBLISH
X-ORIGINAL-URL:https://webbertraining.com
X-WR-CALDESC:Events for Webber Training
REFRESH-INTERVAL;VALUE=DURATION:PT1H
X-Robots-Tag:noindex
X-PUBLISHED-TTL:PT1H
BEGIN:VTIMEZONE
TZID:Europe/Paris
BEGIN:DAYLIGHT
TZOFFSETFROM:+0100
TZOFFSETTO:+0200
TZNAME:CEST
DTSTART:20230326T010000
END:DAYLIGHT
BEGIN:STANDARD
TZOFFSETFROM:+0200
TZOFFSETTO:+0100
TZNAME:CET
DTSTART:20231029T010000
END:STANDARD
BEGIN:DAYLIGHT
TZOFFSETFROM:+0100
TZOFFSETTO:+0200
TZNAME:CEST
DTSTART:20240331T010000
END:DAYLIGHT
BEGIN:STANDARD
TZOFFSETFROM:+0200
TZOFFSETTO:+0100
TZNAME:CET
DTSTART:20241027T010000
END:STANDARD
BEGIN:DAYLIGHT
TZOFFSETFROM:+0100
TZOFFSETTO:+0200
TZNAME:CEST
DTSTART:20250330T010000
END:DAYLIGHT
BEGIN:STANDARD
TZOFFSETFROM:+0200
TZOFFSETTO:+0100
TZNAME:CET
DTSTART:20251026T010000
END:STANDARD
END:VTIMEZONE
BEGIN:VTIMEZONE
TZID:America/New_York
BEGIN:DAYLIGHT
TZOFFSETFROM:-0500
TZOFFSETTO:-0400
TZNAME:EDT
DTSTART:20230312T070000
END:DAYLIGHT
BEGIN:STANDARD
TZOFFSETFROM:-0400
TZOFFSETTO:-0500
TZNAME:EST
DTSTART:20231105T060000
END:STANDARD
BEGIN:DAYLIGHT
TZOFFSETFROM:-0500
TZOFFSETTO:-0400
TZNAME:EDT
DTSTART:20240310T070000
END:DAYLIGHT
BEGIN:STANDARD
TZOFFSETFROM:-0400
TZOFFSETTO:-0500
TZNAME:EST
DTSTART:20241103T060000
END:STANDARD
BEGIN:DAYLIGHT
TZOFFSETFROM:-0500
TZOFFSETTO:-0400
TZNAME:EDT
DTSTART:20250309T070000
END:DAYLIGHT
BEGIN:STANDARD
TZOFFSETFROM:-0400
TZOFFSETTO:-0500
TZNAME:EST
DTSTART:20251102T060000
END:STANDARD
END:VTIMEZONE
BEGIN:VEVENT
DTSTART;TZID=Europe/Paris:20240521T143000
DTEND;TZID=Europe/Paris:20240521T153000
DTSTAMP:20260421T111424
CREATED:20241129T124934Z
LAST-MODIFIED:20241129T125613Z
UID:10000034-1716301800-1716305400@webbertraining.com
SUMMARY:Material Compatibility Falling Through the Cracks?
DESCRIPTION:(European Teleclass)Jake Jennings\, Materials Science Lead\, Research and Development\, GAMMA \n\n\n\n\nObjectives:\n\n\n\n\nDifferentiate between detergent and disinfectants\n\n\n\nHighlight the importance of a material compatibility of these products\n\n\n\nIntroduce and explain the major compatibility issue of plastics – environmental stress cracking\n\n\n\nShow the correct ways to assess for environmental stress cracking\n\n\n\nShare data on disinfectant and detergent product’s ability to cause environmental stress cracking\n\n\n\nExplain how IPC can better consider material compatibility
URL:https://webbertraining.com/event/material-compatibility-falling-through-the-cracks/
CATEGORIES:2024 Teleclasses,Paid Teleclass
ATTACH;FMTTYPE=image/png:https://webbertraining.com/wp-content/uploads/2024/11/Oct-10-2024-Image.png
LOCATION:https://webbertraining.com/event/material-compatibility-falling-through-the-cracks/
END:VEVENT
BEGIN:VEVENT
DTSTART;TZID=America/New_York:20240523T133000
DTEND;TZID=America/New_York:20240523T143000
DTSTAMP:20260421T111424
CREATED:20241129T122502Z
LAST-MODIFIED:20241129T122821Z
UID:10000033-1716471000-1716474600@webbertraining.com
SUMMARY:Infection Prevention and Control Challenges and Practical Solutions in “Other” Congregate Living Settings
DESCRIPTION:Barbara Shea\, William Osler Health System\, Canada \n\n\n\n\nObjectives:\n\n\n\n\nUtilize real-life examples from the field to discuss approaches to IPC in varied settings and populations (shelters\, group homes\, assisted living\, open youth and adult justice systems\, supportive housing).
URL:https://webbertraining.com/event/infection-prevention-and-control-challenges-and-practical-solutions-in-other-congregate-living-settings/
CATEGORIES:2024 Teleclasses,Paid Teleclass
ATTACH;FMTTYPE=image/png:https://webbertraining.com/wp-content/uploads/2024/11/Oct-10-2024-Image.png
LOCATION:https://webbertraining.com/event/infection-prevention-and-control-challenges-and-practical-solutions-in-other-congregate-living-settings/
END:VEVENT
END:VCALENDAR