BEGIN:VCALENDAR
VERSION:2.0
PRODID:-//Webber Training - ECPv6.15.20//NONSGML v1.0//EN
CALSCALE:GREGORIAN
METHOD:PUBLISH
X-ORIGINAL-URL:https://webbertraining.com
X-WR-CALDESC:Events for Webber Training
REFRESH-INTERVAL;VALUE=DURATION:PT1H
X-Robots-Tag:noindex
X-PUBLISHED-TTL:PT1H
BEGIN:VTIMEZONE
TZID:Pacific/Auckland
BEGIN:STANDARD
TZOFFSETFROM:+1300
TZOFFSETTO:+1200
TZNAME:NZST
DTSTART:20230401T140000
END:STANDARD
BEGIN:DAYLIGHT
TZOFFSETFROM:+1200
TZOFFSETTO:+1300
TZNAME:NZDT
DTSTART:20230923T140000
END:DAYLIGHT
BEGIN:STANDARD
TZOFFSETFROM:+1300
TZOFFSETTO:+1200
TZNAME:NZST
DTSTART:20240406T140000
END:STANDARD
BEGIN:DAYLIGHT
TZOFFSETFROM:+1200
TZOFFSETTO:+1300
TZNAME:NZDT
DTSTART:20240928T140000
END:DAYLIGHT
BEGIN:STANDARD
TZOFFSETFROM:+1300
TZOFFSETTO:+1200
TZNAME:NZST
DTSTART:20250405T140000
END:STANDARD
BEGIN:DAYLIGHT
TZOFFSETFROM:+1200
TZOFFSETTO:+1300
TZNAME:NZDT
DTSTART:20250927T140000
END:DAYLIGHT
END:VTIMEZONE
BEGIN:VEVENT
DTSTART;TZID=Pacific/Auckland:20240823T110000
DTEND;TZID=Pacific/Auckland:20240823T114500
DTSTAMP:20260421T113253
CREATED:20241129T110920Z
LAST-MODIFIED:20260315T010636Z
UID:10000023-1724410800-1724413500@webbertraining.com
SUMMARY:How to Clean the Occupied Bed Space Effectively
DESCRIPTION:Recording \n\n\n\n\n\n\n\n\n\n\n\n\n\n\n\nFree Australasian Teleclass… Broadcast live from the New Zealand IPCNC conference)\n\n\n\n\n\nHow to Clean the Occupied Bed Space Effectively\n\n\n\nProf. Stephanie Dancer\, Edinburgh Napier University\, Scotland \n\n\n\n\n\n\n\n\n\nObjectives \n\n\n\n\n\n\nWhat is sustainability\, how is it relevant to healthcare and more specifically to IPC?\n\n\n\nHow can we use IPC expertise to make healthcare more sustainable?\n\n\n\nSome examples of sustainability initiatives in IPC practice\n\n\n\n\n\n\n\nLogin or Register for Membership to Enroll in Teleclass
URL:https://webbertraining.com/event/teleclass-august-23-2024/
CATEGORIES:2024 Teleclasses,Free Teleclass
ATTACH;FMTTYPE=image/png:https://webbertraining.com/wp-content/uploads/2024/11/Oct-10-2024-Image.png
END:VEVENT
END:VCALENDAR