BEGIN:VCALENDAR
VERSION:2.0
PRODID:-//Webber Training - ECPv6.15.20//NONSGML v1.0//EN
CALSCALE:GREGORIAN
METHOD:PUBLISH
X-WR-CALNAME:Webber Training
X-ORIGINAL-URL:https://webbertraining.com
X-WR-CALDESC:Events for Webber Training
REFRESH-INTERVAL;VALUE=DURATION:PT1H
X-Robots-Tag:noindex
X-PUBLISHED-TTL:PT1H
BEGIN:VTIMEZONE
TZID:America/Toronto
BEGIN:DAYLIGHT
TZOFFSETFROM:-0500
TZOFFSETTO:-0400
TZNAME:EDT
DTSTART:20230312T070000
END:DAYLIGHT
BEGIN:STANDARD
TZOFFSETFROM:-0400
TZOFFSETTO:-0500
TZNAME:EST
DTSTART:20231105T060000
END:STANDARD
BEGIN:DAYLIGHT
TZOFFSETFROM:-0500
TZOFFSETTO:-0400
TZNAME:EDT
DTSTART:20240310T070000
END:DAYLIGHT
BEGIN:STANDARD
TZOFFSETFROM:-0400
TZOFFSETTO:-0500
TZNAME:EST
DTSTART:20241103T060000
END:STANDARD
BEGIN:DAYLIGHT
TZOFFSETFROM:-0500
TZOFFSETTO:-0400
TZNAME:EDT
DTSTART:20250309T070000
END:DAYLIGHT
BEGIN:STANDARD
TZOFFSETFROM:-0400
TZOFFSETTO:-0500
TZNAME:EST
DTSTART:20251102T060000
END:STANDARD
END:VTIMEZONE
BEGIN:VEVENT
DTSTART;TZID=America/Toronto:20241010T133000
DTEND;TZID=America/Toronto:20241010T143000
DTSTAMP:20260421T095809
CREATED:20241120T003534Z
LAST-MODIFIED:20241129T203932Z
UID:10000019-1728567000-1728570600@webbertraining.com
SUMMARY:Relationships Among Patient Safety Climate\, Standard Precaution Adherence\, Healthcare Worker and Patient Outcomes
DESCRIPTION:Prof. Amanda J. Hessels\, Columbia University\, School of Nursing \n\n\n\n\n\n\n\nObjectives:– Describe the importance and significance of the problem addressed– Identify the study framework\, aims\, methods and procedures– Identify at least two key relationships among patient safety climate\, standard precaution adherence and adverse healthcare worker and patient outcomes– Discuss strategies to translate findings into practice and policy implications
URL:https://webbertraining.com/event/relationships-among-patient-safety-climate-standard-precaution-adherence-healthcare-worker-and-patient-outcomes/
CATEGORIES:2024 Teleclasses,Paid Teleclass
LOCATION:https://webbertraining.com/event/relationships-among-patient-safety-climate-standard-precaution-adherence-healthcare-worker-and-patient-outcomes/
END:VEVENT
END:VCALENDAR