BEGIN:VCALENDAR
VERSION:2.0
PRODID:-//Webber Training - ECPv6.15.20//NONSGML v1.0//EN
CALSCALE:GREGORIAN
METHOD:PUBLISH
X-WR-CALNAME:Webber Training
X-ORIGINAL-URL:https://webbertraining.com
X-WR-CALDESC:Events for Webber Training
REFRESH-INTERVAL;VALUE=DURATION:PT1H
X-Robots-Tag:noindex
X-PUBLISHED-TTL:PT1H
BEGIN:VTIMEZONE
TZID:Australia/Sydney
BEGIN:STANDARD
TZOFFSETFROM:+1100
TZOFFSETTO:+1000
TZNAME:AEST
DTSTART:20230401T160000
END:STANDARD
BEGIN:DAYLIGHT
TZOFFSETFROM:+1000
TZOFFSETTO:+1100
TZNAME:AEDT
DTSTART:20230930T160000
END:DAYLIGHT
BEGIN:STANDARD
TZOFFSETFROM:+1100
TZOFFSETTO:+1000
TZNAME:AEST
DTSTART:20240406T160000
END:STANDARD
BEGIN:DAYLIGHT
TZOFFSETFROM:+1000
TZOFFSETTO:+1100
TZNAME:AEDT
DTSTART:20241005T160000
END:DAYLIGHT
BEGIN:STANDARD
TZOFFSETFROM:+1100
TZOFFSETTO:+1000
TZNAME:AEST
DTSTART:20250405T160000
END:STANDARD
BEGIN:DAYLIGHT
TZOFFSETFROM:+1000
TZOFFSETTO:+1100
TZNAME:AEDT
DTSTART:20251004T160000
END:DAYLIGHT
END:VTIMEZONE
BEGIN:VTIMEZONE
TZID:America/Toronto
BEGIN:DAYLIGHT
TZOFFSETFROM:-0500
TZOFFSETTO:-0400
TZNAME:EDT
DTSTART:20230312T070000
END:DAYLIGHT
BEGIN:STANDARD
TZOFFSETFROM:-0400
TZOFFSETTO:-0500
TZNAME:EST
DTSTART:20231105T060000
END:STANDARD
BEGIN:DAYLIGHT
TZOFFSETFROM:-0500
TZOFFSETTO:-0400
TZNAME:EDT
DTSTART:20240310T070000
END:DAYLIGHT
BEGIN:STANDARD
TZOFFSETFROM:-0400
TZOFFSETTO:-0500
TZNAME:EST
DTSTART:20241103T060000
END:STANDARD
BEGIN:DAYLIGHT
TZOFFSETFROM:-0500
TZOFFSETTO:-0400
TZNAME:EDT
DTSTART:20250309T070000
END:DAYLIGHT
BEGIN:STANDARD
TZOFFSETFROM:-0400
TZOFFSETTO:-0500
TZNAME:EST
DTSTART:20251102T060000
END:STANDARD
END:VTIMEZONE
BEGIN:VEVENT
DTSTART;TZID=Australia/Sydney:20241023T133000
DTEND;TZID=Australia/Sydney:20241023T143000
DTSTAMP:20260421T095809
CREATED:20241120T000842Z
LAST-MODIFIED:20241120T010037Z
UID:10000017-1729690200-1729693800@webbertraining.com
SUMMARY:Clostridium Difficile Infection – One Health and the Rise in Community-Associated Infection
DESCRIPTION:Australasian Teleclass \n\n\n\nProf. Tom Riley\, The University of Western Australia \n\n\n\n\n\n\n\nObjectives:– There has been a significant rise in community-associated C. difficile infection (CA-CDI) worldwide in the last 10-15 years.– This suggests that there are sources or reservoirs of C. difficile in the community.– Many studies now indicate that production/food animals are now major reservoirs of C. difficile.– One Health is the concept that the health of humans\, animals and the environment are connected.– To deal with the new problem of CA-CDI and One Health approach is required.
URL:https://webbertraining.com/event/clostridium-difficile-infection-one-health-and-the-rise-in-community-associated-infection/
CATEGORIES:2024 Teleclasses,Free Teleclass
ATTACH;FMTTYPE=image/png:https://webbertraining.com/wp-content/uploads/2024/11/Oct-23-2024-Image.png
LOCATION:https://webbertraining.com/event/clostridium-difficile-infection-one-health-and-the-rise-in-community-associated-infection/
END:VEVENT
BEGIN:VEVENT
DTSTART;TZID=America/Toronto:20241024T133000
DTEND;TZID=America/Toronto:20241024T143000
DTSTAMP:20260421T095809
CREATED:20241118T180601Z
LAST-MODIFIED:20241128T233909Z
UID:10000013-1729776600-1729780200@webbertraining.com
SUMMARY:Why Certify? The value of certificationin infection prevention and control
DESCRIPTION:Shazia Irum\, CBIC Ambassador\, Saudi Arabia \n\n\n\n\n\n\n\nObjectives:– Learn about the different certification offerings from the Certification board of Infection Control and Epidemiology– Discuss career development across infection prevention and control– Explore how certification can positively impact patient safety and your own personal development
URL:https://webbertraining.com/event/why-certify-the-value-of-certificationin-infection-prevention-and-control/
CATEGORIES:2024 Teleclasses,Free Teleclass
ATTACH;FMTTYPE=image/png:https://webbertraining.com/wp-content/uploads/2024/11/Why-Certify-Teleclass-Title-Image.png
LOCATION:https://webbertraining.com/event/why-certify-the-value-of-certificationin-infection-prevention-and-control/
END:VEVENT
END:VCALENDAR