BEGIN:VCALENDAR
VERSION:2.0
PRODID:-//Webber Training - ECPv6.15.20//NONSGML v1.0//EN
CALSCALE:GREGORIAN
METHOD:PUBLISH
X-WR-CALNAME:Webber Training
X-ORIGINAL-URL:https://webbertraining.com
X-WR-CALDESC:Events for Webber Training
REFRESH-INTERVAL;VALUE=DURATION:PT1H
X-Robots-Tag:noindex
X-PUBLISHED-TTL:PT1H
BEGIN:VTIMEZONE
TZID:Europe/Paris
BEGIN:DAYLIGHT
TZOFFSETFROM:+0100
TZOFFSETTO:+0200
TZNAME:CEST
DTSTART:20230326T010000
END:DAYLIGHT
BEGIN:STANDARD
TZOFFSETFROM:+0200
TZOFFSETTO:+0100
TZNAME:CET
DTSTART:20231029T010000
END:STANDARD
BEGIN:DAYLIGHT
TZOFFSETFROM:+0100
TZOFFSETTO:+0200
TZNAME:CEST
DTSTART:20240331T010000
END:DAYLIGHT
BEGIN:STANDARD
TZOFFSETFROM:+0200
TZOFFSETTO:+0100
TZNAME:CET
DTSTART:20241027T010000
END:STANDARD
BEGIN:DAYLIGHT
TZOFFSETFROM:+0100
TZOFFSETTO:+0200
TZNAME:CEST
DTSTART:20250330T010000
END:DAYLIGHT
BEGIN:STANDARD
TZOFFSETFROM:+0200
TZOFFSETTO:+0100
TZNAME:CET
DTSTART:20251026T010000
END:STANDARD
END:VTIMEZONE
BEGIN:VEVENT
DTSTART;TZID=Europe/Paris:20241119T143000
DTEND;TZID=Europe/Paris:20241119T153000
DTSTAMP:20260421T095810
CREATED:20241118T114549Z
LAST-MODIFIED:20241129T112905Z
UID:10000009-1732026600-1732030200@webbertraining.com
SUMMARY:Nurses in Antimicrobial Stewardship Interventions – Missing Opportunities\, Wasted Talent
DESCRIPTION:Dr. Enrique Castro-Sánchez\, Brunel University London \n\n\n\n\n\n\n\nObjectives: – Explore barriers and facilitators for participation of nurses in antimicrobial stewardship (AMS)– Recognise opportunities and models for nursing leadership and involvement in AMS– Describe evidence about nurse-focused interventions in AMS
URL:https://webbertraining.com/event/nurses-in-antimicrobial-stewardship-interventions-missing-opportunities-wasted-talent-2/
CATEGORIES:2024 Teleclasses,Paid Teleclass
ATTACH;FMTTYPE=image/png:https://webbertraining.com/wp-content/uploads/2024/11/Nov-19-2024-Image.png
LOCATION:https://webbertraining.com/event/nurses-in-antimicrobial-stewardship-interventions-missing-opportunities-wasted-talent-2/
END:VEVENT
END:VCALENDAR