BEGIN:VCALENDAR
VERSION:2.0
PRODID:-//Webber Training - ECPv6.15.20//NONSGML v1.0//EN
CALSCALE:GREGORIAN
METHOD:PUBLISH
X-WR-CALNAME:Webber Training
X-ORIGINAL-URL:https://webbertraining.com
X-WR-CALDESC:Events for Webber Training
REFRESH-INTERVAL;VALUE=DURATION:PT1H
X-Robots-Tag:noindex
X-PUBLISHED-TTL:PT1H
BEGIN:VTIMEZONE
TZID:Australia/Sydney
BEGIN:STANDARD
TZOFFSETFROM:+1100
TZOFFSETTO:+1000
TZNAME:AEST
DTSTART:20230401T160000
END:STANDARD
BEGIN:DAYLIGHT
TZOFFSETFROM:+1000
TZOFFSETTO:+1100
TZNAME:AEDT
DTSTART:20230930T160000
END:DAYLIGHT
BEGIN:STANDARD
TZOFFSETFROM:+1100
TZOFFSETTO:+1000
TZNAME:AEST
DTSTART:20240406T160000
END:STANDARD
BEGIN:DAYLIGHT
TZOFFSETFROM:+1000
TZOFFSETTO:+1100
TZNAME:AEDT
DTSTART:20241005T160000
END:DAYLIGHT
BEGIN:STANDARD
TZOFFSETFROM:+1100
TZOFFSETTO:+1000
TZNAME:AEST
DTSTART:20250405T160000
END:STANDARD
BEGIN:DAYLIGHT
TZOFFSETFROM:+1000
TZOFFSETTO:+1100
TZNAME:AEDT
DTSTART:20251004T160000
END:DAYLIGHT
END:VTIMEZONE
BEGIN:VEVENT
DTSTART;TZID=Australia/Sydney:20241127T013000
DTEND;TZID=Australia/Sydney:20241127T143000
DTSTAMP:20260421T045844
CREATED:20241118T154226Z
LAST-MODIFIED:20241128T234118Z
UID:10000012-1732671000-1732717800@webbertraining.com
SUMMARY:The Art of IV Line Care
DESCRIPTION:Dr. Enrique Castro-Sánchez\, Brunel University London \n\n\n\n\n\n\n\nObjectives:– Review the concept of peripheral IV catheter associated infections– Understand current evidence for infection prevention in IV catheters– Review the policy context for making IV catheters safer
URL:https://webbertraining.com/event/the-art-of-iv-line-care/
CATEGORIES:2024 Teleclasses,Free Teleclass
LOCATION:https://webbertraining.com/event/the-art-of-iv-line-care/
END:VEVENT
END:VCALENDAR