BEGIN:VCALENDAR
VERSION:2.0
PRODID:-//Webber Training - ECPv6.15.20//NONSGML v1.0//EN
CALSCALE:GREGORIAN
METHOD:PUBLISH
X-WR-CALNAME:Webber Training
X-ORIGINAL-URL:https://webbertraining.com
X-WR-CALDESC:Events for Webber Training
REFRESH-INTERVAL;VALUE=DURATION:PT1H
X-Robots-Tag:noindex
X-PUBLISHED-TTL:PT1H
BEGIN:VTIMEZONE
TZID:America/Toronto
BEGIN:DAYLIGHT
TZOFFSETFROM:-0500
TZOFFSETTO:-0400
TZNAME:EDT
DTSTART:20230312T070000
END:DAYLIGHT
BEGIN:STANDARD
TZOFFSETFROM:-0400
TZOFFSETTO:-0500
TZNAME:EST
DTSTART:20231105T060000
END:STANDARD
BEGIN:DAYLIGHT
TZOFFSETFROM:-0500
TZOFFSETTO:-0400
TZNAME:EDT
DTSTART:20240310T070000
END:DAYLIGHT
BEGIN:STANDARD
TZOFFSETFROM:-0400
TZOFFSETTO:-0500
TZNAME:EST
DTSTART:20241103T060000
END:STANDARD
BEGIN:DAYLIGHT
TZOFFSETFROM:-0500
TZOFFSETTO:-0400
TZNAME:EDT
DTSTART:20250309T070000
END:DAYLIGHT
BEGIN:STANDARD
TZOFFSETFROM:-0400
TZOFFSETTO:-0500
TZNAME:EST
DTSTART:20251102T060000
END:STANDARD
END:VTIMEZONE
BEGIN:VEVENT
DTSTART;TZID=America/Toronto:20241212T133000
DTEND;TZID=America/Toronto:20241212T143000
DTSTAMP:20260421T095845
CREATED:20241119T224923Z
LAST-MODIFIED:20241129T203717Z
UID:10000010-1734010200-1734013800@webbertraining.com
SUMMARY:New Developments in Environmental Cleaning and Disinfection
DESCRIPTION:Dr. Curtis Donskey\, Louis Stokes Cleveland VA Medical Center\, Ohio \n\n\n\n\n\n\n\nObjectives:– To be aware of emerging strategies for monitoring cleaning practices and products (e.g.\, automated disinfectant dispensers)– To understand the advantages and disadvantages of different continuous decontamination technologies– To be aware of approaches to reduce the risk for transmission of infection from sink drains– To evaluate recent evidence on the impact of environmental interventions on pathogen transmission and healthcare-associated infections
URL:https://webbertraining.com/event/new-developments-in-environmental-cleaning-and-disinfection/
CATEGORIES:2024 Teleclasses,Free Teleclass
ATTACH;FMTTYPE=image/jpeg:https://webbertraining.com/wp-content/uploads/politics-post-stem-cell-research-challenges-for-legislator-video-poster.jpg
LOCATION:https://webbertraining.com/event/new-developments-in-environmental-cleaning-and-disinfection/
END:VEVENT
END:VCALENDAR