BEGIN:VCALENDAR
VERSION:2.0
PRODID:-//Webber Training - ECPv6.15.20//NONSGML v1.0//EN
CALSCALE:GREGORIAN
METHOD:PUBLISH
X-WR-CALNAME:Webber Training
X-ORIGINAL-URL:https://webbertraining.com
X-WR-CALDESC:Events for Webber Training
REFRESH-INTERVAL;VALUE=DURATION:PT1H
X-Robots-Tag:noindex
X-PUBLISHED-TTL:PT1H
BEGIN:VTIMEZONE
TZID:Europe/Paris
BEGIN:DAYLIGHT
TZOFFSETFROM:+0100
TZOFFSETTO:+0200
TZNAME:CEST
DTSTART:20240331T010000
END:DAYLIGHT
BEGIN:STANDARD
TZOFFSETFROM:+0200
TZOFFSETTO:+0100
TZNAME:CET
DTSTART:20241027T010000
END:STANDARD
BEGIN:DAYLIGHT
TZOFFSETFROM:+0100
TZOFFSETTO:+0200
TZNAME:CEST
DTSTART:20250330T010000
END:DAYLIGHT
BEGIN:STANDARD
TZOFFSETFROM:+0200
TZOFFSETTO:+0100
TZNAME:CET
DTSTART:20251026T010000
END:STANDARD
BEGIN:DAYLIGHT
TZOFFSETFROM:+0100
TZOFFSETTO:+0200
TZNAME:CEST
DTSTART:20260329T010000
END:DAYLIGHT
BEGIN:STANDARD
TZOFFSETFROM:+0200
TZOFFSETTO:+0100
TZNAME:CET
DTSTART:20261025T010000
END:STANDARD
END:VTIMEZONE
BEGIN:VTIMEZONE
TZID:America/New_York
BEGIN:DAYLIGHT
TZOFFSETFROM:-0500
TZOFFSETTO:-0400
TZNAME:EDT
DTSTART:20240310T070000
END:DAYLIGHT
BEGIN:STANDARD
TZOFFSETFROM:-0400
TZOFFSETTO:-0500
TZNAME:EST
DTSTART:20241103T060000
END:STANDARD
BEGIN:DAYLIGHT
TZOFFSETFROM:-0500
TZOFFSETTO:-0400
TZNAME:EDT
DTSTART:20250309T070000
END:DAYLIGHT
BEGIN:STANDARD
TZOFFSETFROM:-0400
TZOFFSETTO:-0500
TZNAME:EST
DTSTART:20251102T060000
END:STANDARD
BEGIN:DAYLIGHT
TZOFFSETFROM:-0500
TZOFFSETTO:-0400
TZNAME:EDT
DTSTART:20260308T070000
END:DAYLIGHT
BEGIN:STANDARD
TZOFFSETFROM:-0400
TZOFFSETTO:-0500
TZNAME:EST
DTSTART:20261101T060000
END:STANDARD
END:VTIMEZONE
BEGIN:VEVENT
DTSTART;TZID=Europe/Paris:20250422T133000
DTEND;TZID=Europe/Paris:20250422T143000
DTSTAMP:20260420T235437
CREATED:20250114T213422Z
LAST-MODIFIED:20250411T192049Z
UID:10000066-1745328600-1745332200@webbertraining.com
SUMMARY:Cost Analysis of a Hand Hygiene Improvement Strategy in Long-Term Care Facilities
DESCRIPTION:Recording \n\n\n\n\n\n\n\n\n\n\n\n\n\n\n\nCost Analysis of a Hand Hygiene Improvement Strategy in Long-Term Care Facilities\n\n\n\nAfro-European SeriesDr. Anja Haenen\, National Institute for Public Health and the Environment\, Netherlands \n\n\n\n\n\n\n\n\n\n\n\n\n\n\n\n\n\n\n\n\n\nObjectives \n\n\n\n\n\n\nInsight into an example of how to conduct a cost analysis to evaluate whether the cost of a successful tailored multifaceted strategy to improve hand hygiene compliance outweighs the savings by reducing infection costs in LTCFs in the Netherlands.\n\n\n\nUnderstanding the costs of a successful tailored multifaceted strategy to improve hand hygiene compliance\n\n\n\nInsight into the number and type of infections prevented by improved hand hygiene and associated cost savings\n\n\n\n\n\n\n\nLogin or Register for Membership to Enroll in Teleclass
URL:https://webbertraining.com/event/cost-analysis-of-a-hand-hygiene-improvement-strategy-in-long-term-care-facilities/
CATEGORIES:2025 Teleclasses,Free Teleclass
ATTACH;FMTTYPE=image/png:https://webbertraining.com/wp-content/uploads/2025/01/WT-Header.png
END:VEVENT
BEGIN:VEVENT
DTSTART;TZID=America/New_York:20250424T133000
DTEND;TZID=America/New_York:20250424T143000
DTSTAMP:20260420T235437
CREATED:20250202T093912Z
LAST-MODIFIED:20250514T163938Z
UID:10000090-1745501400-1745505000@webbertraining.com
SUMMARY:What’s Lurking in Your Sinks? Past Problems\, Present Challenges\, and Future Technologies
DESCRIPTION:Recording \n\n\n\n\n\n\n\n\n\n\n\n\n\n\n\nWhat’s Lurking in Your Sinks? Past Problems\, Present Challenges\, and Future Technologies\n\n\n\nDr. Mark Garvey\, University Hospitals Birmingham NHS Foundation Trust\, UK \n\n\n\n\n\n\n\n\n\n\n\n\n\n\n\n\n\n\n\n\n\nObjectives \n\n\n\n\n\n\nEvaluate the role of waterborne transmission\n\n\n\nDiscuss the role of wastewater transmission\n\n\n\nDetermine the importance of the sink splash zone\n\n\n\n\n\n\n\nLogin or Register for Membership to Enroll in Teleclass
URL:https://webbertraining.com/event/whats-lurking-in-your-sinks-past-problems-present-challenges-and-future-technologies/
CATEGORIES:2025 Teleclasses,Paid Teleclass
ATTACH;FMTTYPE=image/png:https://webbertraining.com/wp-content/uploads/2025/01/WT-Header.png
END:VEVENT
END:VCALENDAR