BEGIN:VCALENDAR
VERSION:2.0
PRODID:-//Webber Training - ECPv6.15.20//NONSGML v1.0//EN
CALSCALE:GREGORIAN
METHOD:PUBLISH
X-WR-CALNAME:Webber Training
X-ORIGINAL-URL:https://webbertraining.com
X-WR-CALDESC:Events for Webber Training
REFRESH-INTERVAL;VALUE=DURATION:PT1H
X-Robots-Tag:noindex
X-PUBLISHED-TTL:PT1H
BEGIN:VTIMEZONE
TZID:Australia/Sydney
BEGIN:STANDARD
TZOFFSETFROM:+1100
TZOFFSETTO:+1000
TZNAME:AEST
DTSTART:20240406T160000
END:STANDARD
BEGIN:DAYLIGHT
TZOFFSETFROM:+1000
TZOFFSETTO:+1100
TZNAME:AEDT
DTSTART:20241005T160000
END:DAYLIGHT
BEGIN:STANDARD
TZOFFSETFROM:+1100
TZOFFSETTO:+1000
TZNAME:AEST
DTSTART:20250405T160000
END:STANDARD
BEGIN:DAYLIGHT
TZOFFSETFROM:+1000
TZOFFSETTO:+1100
TZNAME:AEDT
DTSTART:20251004T160000
END:DAYLIGHT
BEGIN:STANDARD
TZOFFSETFROM:+1100
TZOFFSETTO:+1000
TZNAME:AEST
DTSTART:20260404T160000
END:STANDARD
BEGIN:DAYLIGHT
TZOFFSETFROM:+1000
TZOFFSETTO:+1100
TZNAME:AEDT
DTSTART:20261003T160000
END:DAYLIGHT
END:VTIMEZONE
BEGIN:VEVENT
DTSTART;TZID=Australia/Sydney:20250430T133000
DTEND;TZID=Australia/Sydney:20250430T143000
DTSTAMP:20260420T232958
CREATED:20250114T213750Z
LAST-MODIFIED:20250411T191747Z
UID:10000067-1746019800-1746023400@webbertraining.com
SUMMARY:The Impact of Sink Removal and Other Water-Free Interventions in Intensive Care Units on Water-Borne Healthcare-Associated Infections
DESCRIPTION:Recording \n\n\n\n\n\n\n\n\n\n\n\n\n\n\n\nThe Impact of Sink Removal and Other Water-Free Interventions in Intensive Care Units on Water-Borne Healthcare-Associated Infections\n\n\n\nAustralasian SeriesDr. Jia Ming Low\, National University Hospital\, Singapore \n\n\n\n\n\n\n\n\n\n\n\n\n\n\n\n\n\n\n\n\n\nObjectives \n\n\n\n\n\n\nTo be posted\n\n\n\n\n\n\n\nLogin or Register for Membership to Enroll in Teleclass
URL:https://webbertraining.com/event/the-impact-of-sink-removal-and-other-water-free-interventions-in-intensive-care-units-on-water-borne-healthcare-associated-infections/
CATEGORIES:2025 Teleclasses,Paid Teleclass
ATTACH;FMTTYPE=image/png:https://webbertraining.com/wp-content/uploads/2025/01/WT-Header.png
END:VEVENT
END:VCALENDAR