BEGIN:VCALENDAR
VERSION:2.0
PRODID:-//Webber Training - ECPv6.15.20//NONSGML v1.0//EN
CALSCALE:GREGORIAN
METHOD:PUBLISH
X-ORIGINAL-URL:https://webbertraining.com
X-WR-CALDESC:Events for Webber Training
REFRESH-INTERVAL;VALUE=DURATION:PT1H
X-Robots-Tag:noindex
X-PUBLISHED-TTL:PT1H
BEGIN:VTIMEZONE
TZID:Europe/Paris
BEGIN:DAYLIGHT
TZOFFSETFROM:+0100
TZOFFSETTO:+0200
TZNAME:CEST
DTSTART:20240331T010000
END:DAYLIGHT
BEGIN:STANDARD
TZOFFSETFROM:+0200
TZOFFSETTO:+0100
TZNAME:CET
DTSTART:20241027T010000
END:STANDARD
BEGIN:DAYLIGHT
TZOFFSETFROM:+0100
TZOFFSETTO:+0200
TZNAME:CEST
DTSTART:20250330T010000
END:DAYLIGHT
BEGIN:STANDARD
TZOFFSETFROM:+0200
TZOFFSETTO:+0100
TZNAME:CET
DTSTART:20251026T010000
END:STANDARD
BEGIN:DAYLIGHT
TZOFFSETFROM:+0100
TZOFFSETTO:+0200
TZNAME:CEST
DTSTART:20260329T010000
END:DAYLIGHT
BEGIN:STANDARD
TZOFFSETFROM:+0200
TZOFFSETTO:+0100
TZNAME:CET
DTSTART:20261025T010000
END:STANDARD
END:VTIMEZONE
BEGIN:VEVENT
DTSTART;TZID=Europe/Paris:20250826T143000
DTEND;TZID=Europe/Paris:20250826T153000
DTSTAMP:20260420T224511
CREATED:20250808T132507Z
LAST-MODIFIED:20260217T164717Z
UID:10000095-1756218600-1756222200@webbertraining.com
SUMMARY:Barriers to Implementing IPC Programmes in Low Resource Settings and How to Overcome Them
DESCRIPTION:Recording \n\n\n\n\n\n\n\n\n\n\n\n\n\n\n\nBarriers to Implementing IPC Programmes in Low Resource Settings and How to Overcome Them\n\n\n\nAfro-European Teleclass \n\n\n\nProf. Shaheen Mehtar\, Stellenbosch University\, South Africa \n\n\n\n\n\n\n\n\n\n\n\n\n\n\n\n\n\n\n\n\n\nObjectives \n\n\n\n\n\n\nTo be posted\n\n\n\n\n\n\n\nLogin or Register for Membership to Enroll in Teleclass
URL:https://webbertraining.com/event/barriers-to-implementing-ipc-programmes-in-low-resource-settings-and-how-to-overcome-them/
CATEGORIES:2025 Teleclasses,Free Teleclass
ATTACH;FMTTYPE=image/jpeg:https://webbertraining.com/wp-content/uploads/2025/08/2025-Implementing-IPC-Teleclass-Slides-Aug.26.25a.jpg
END:VEVENT
END:VCALENDAR