BEGIN:VCALENDAR
VERSION:2.0
PRODID:-//Webber Training - ECPv6.15.20//NONSGML v1.0//EN
CALSCALE:GREGORIAN
METHOD:PUBLISH
X-WR-CALNAME:Webber Training
X-ORIGINAL-URL:https://webbertraining.com
X-WR-CALDESC:Events for Webber Training
REFRESH-INTERVAL;VALUE=DURATION:PT1H
X-Robots-Tag:noindex
X-PUBLISHED-TTL:PT1H
BEGIN:VTIMEZONE
TZID:America/New_York
BEGIN:DAYLIGHT
TZOFFSETFROM:-0500
TZOFFSETTO:-0400
TZNAME:EDT
DTSTART:20240310T070000
END:DAYLIGHT
BEGIN:STANDARD
TZOFFSETFROM:-0400
TZOFFSETTO:-0500
TZNAME:EST
DTSTART:20241103T060000
END:STANDARD
BEGIN:DAYLIGHT
TZOFFSETFROM:-0500
TZOFFSETTO:-0400
TZNAME:EDT
DTSTART:20250309T070000
END:DAYLIGHT
BEGIN:STANDARD
TZOFFSETFROM:-0400
TZOFFSETTO:-0500
TZNAME:EST
DTSTART:20251102T060000
END:STANDARD
BEGIN:DAYLIGHT
TZOFFSETFROM:-0500
TZOFFSETTO:-0400
TZNAME:EDT
DTSTART:20260308T070000
END:DAYLIGHT
BEGIN:STANDARD
TZOFFSETFROM:-0400
TZOFFSETTO:-0500
TZNAME:EST
DTSTART:20261101T060000
END:STANDARD
END:VTIMEZONE
BEGIN:VEVENT
DTSTART;TZID=America/New_York:20251020T133000
DTEND;TZID=America/New_York:20251020T143000
DTSTAMP:20260420T222947
CREATED:20250128T180347Z
LAST-MODIFIED:20250412T002044Z
UID:10000082-1760967000-1760970600@webbertraining.com
SUMMARY:Special Lecture for Clean Hospitals Day 2025
DESCRIPTION:Recording \n\n\n\n\n\n\n\n\n\n\n\n\n\n\n\nSpecial Lecture for Clean Hospitals Day 2025\n\n\n\nProf. Didier Pittet\, University of Genev \n\n\n\n\n\n\n\n\n\n\n\n\n\n\n\n\n\n\n\n\n\nObjectives \n\n\n\n\n\n\nTo be posted\n\n\n\n\n\n\n\nLogin or Register for Membership to Enroll in Teleclass
URL:https://webbertraining.com/event/special-lecture-for-clean-hospitals-day-2025/
CATEGORIES:2025 Teleclasses,Free Teleclass
ATTACH;FMTTYPE=image/png:https://webbertraining.com/wp-content/uploads/2025/01/WT-Header.png
END:VEVENT
BEGIN:VEVENT
DTSTART;TZID=America/New_York:20251021T133000
DTEND;TZID=America/New_York:20251021T143000
DTSTAMP:20260420T222947
CREATED:20250128T180657Z
LAST-MODIFIED:20260217T164003Z
UID:10000083-1761053400-1761057000@webbertraining.com
SUMMARY:Discussion: Are Current Healthcare Cleaning Guidelines Sufficient to Fight Antimicrobial Resistance Spread?
DESCRIPTION:Recording \n\n\n\n\n\n\n\n\n\n\n\n\n\n\n\nDiscussion: Are Current Healthcare Cleaning Guidelines Sufficient to Fight Antimicrobial Resistance Spread?\n\n\n\nDr. Jon Otter\, Imperial College London & Dr. Curtis Donskey\, Cleveland VA Medical Center \n\n\n\n\n\n\n\n\n\n\n\n\n\n\n\n\n\n\n\n\n\nObjectives \n\n\n\n\n\n\nTo be posted\n\n\n\n\n\n\n\nLogin or Register for Membership to Enroll in Teleclass
URL:https://webbertraining.com/event/discussion-are-current-healthcare-cleaning-guidelines-sufficient-to-fight-antimicrobial-resistance-spread/
CATEGORIES:2025 Teleclasses,Paid Teleclass
ATTACH;FMTTYPE=image/jpeg:https://webbertraining.com/wp-content/uploads/2025/01/2025-Healthcare-Cleaning-Guidelines-Teleclass-Slides-Oct.23.25.jpg
END:VEVENT
END:VCALENDAR