BEGIN:VCALENDAR
VERSION:2.0
PRODID:-//Webber Training - ECPv6.15.20//NONSGML v1.0//EN
CALSCALE:GREGORIAN
METHOD:PUBLISH
X-ORIGINAL-URL:https://webbertraining.com
X-WR-CALDESC:Events for Webber Training
REFRESH-INTERVAL;VALUE=DURATION:PT1H
X-Robots-Tag:noindex
X-PUBLISHED-TTL:PT1H
BEGIN:VTIMEZONE
TZID:Europe/Paris
BEGIN:DAYLIGHT
TZOFFSETFROM:+0100
TZOFFSETTO:+0200
TZNAME:CEST
DTSTART:20240331T010000
END:DAYLIGHT
BEGIN:STANDARD
TZOFFSETFROM:+0200
TZOFFSETTO:+0100
TZNAME:CET
DTSTART:20241027T010000
END:STANDARD
BEGIN:DAYLIGHT
TZOFFSETFROM:+0100
TZOFFSETTO:+0200
TZNAME:CEST
DTSTART:20250330T010000
END:DAYLIGHT
BEGIN:STANDARD
TZOFFSETFROM:+0200
TZOFFSETTO:+0100
TZNAME:CET
DTSTART:20251026T010000
END:STANDARD
BEGIN:DAYLIGHT
TZOFFSETFROM:+0100
TZOFFSETTO:+0200
TZNAME:CEST
DTSTART:20260329T010000
END:DAYLIGHT
BEGIN:STANDARD
TZOFFSETFROM:+0200
TZOFFSETTO:+0100
TZNAME:CET
DTSTART:20261025T010000
END:STANDARD
END:VTIMEZONE
BEGIN:VEVENT
DTSTART;TZID=Europe/Paris:20251111T143000
DTEND;TZID=Europe/Paris:20251111T153000
DTSTAMP:20260420T164039
CREATED:20250128T181354Z
LAST-MODIFIED:20260303T021657Z
UID:10000085-1762871400-1762875000@webbertraining.com
SUMMARY:The Use of Faecal Microbiota Transplant as Treatment for Clostridium difficile
DESCRIPTION:Recording \n\n\n\n\n\n\n\n\n\n\n\n\n\n\n\nThe Use of Faecal Microbiota Transplant as Treatment for Clostridium difficile\n\n\n\nAfro-European SeriesDr. Simon Goldenberg\, Guy’s & St Thomas’ Hospital\, London \n\n\n\n\n\n\n\n\n\n\n\n\n\n\n\n\n\n\n\n\n\nObjectives \n\n\n\n\n\n\nUnderstand the origins of food safety guidelines and Food Code\n\n\n\nBe aware of the challenges and approach to food safety training\n\n\n\nIdentify the relationship between anchor memories\, beliefs and practice\n\n\n\nApply higher learning approach that encompasses mapping\, chunking and learning by asking.\n\n\n\n\n\n\n\nLogin or Register for Membership to Enroll in Teleclass
URL:https://webbertraining.com/event/the-use-of-faecal-microbiota-transplant-as-treatment-for-clostridium-difficile/
CATEGORIES:2025 Teleclasses,Paid Teleclass
ATTACH;FMTTYPE=image/jpeg:https://webbertraining.com/wp-content/uploads/2025/01/2025-Faecal-Microbiota-Transplant-Treatment-Teleclass-Slides-Nov.11.25.jpg
END:VEVENT
END:VCALENDAR