BEGIN:VCALENDAR
VERSION:2.0
PRODID:-//Webber Training - ECPv6.15.20//NONSGML v1.0//EN
CALSCALE:GREGORIAN
METHOD:PUBLISH
X-WR-CALNAME:Webber Training
X-ORIGINAL-URL:https://webbertraining.com
X-WR-CALDESC:Events for Webber Training
REFRESH-INTERVAL;VALUE=DURATION:PT1H
X-Robots-Tag:noindex
X-PUBLISHED-TTL:PT1H
BEGIN:VTIMEZONE
TZID:America/New_York
BEGIN:DAYLIGHT
TZOFFSETFROM:-0500
TZOFFSETTO:-0400
TZNAME:EDT
DTSTART:20240310T070000
END:DAYLIGHT
BEGIN:STANDARD
TZOFFSETFROM:-0400
TZOFFSETTO:-0500
TZNAME:EST
DTSTART:20241103T060000
END:STANDARD
BEGIN:DAYLIGHT
TZOFFSETFROM:-0500
TZOFFSETTO:-0400
TZNAME:EDT
DTSTART:20250309T070000
END:DAYLIGHT
BEGIN:STANDARD
TZOFFSETFROM:-0400
TZOFFSETTO:-0500
TZNAME:EST
DTSTART:20251102T060000
END:STANDARD
BEGIN:DAYLIGHT
TZOFFSETFROM:-0500
TZOFFSETTO:-0400
TZNAME:EDT
DTSTART:20260308T070000
END:DAYLIGHT
BEGIN:STANDARD
TZOFFSETFROM:-0400
TZOFFSETTO:-0500
TZNAME:EST
DTSTART:20261101T060000
END:STANDARD
END:VTIMEZONE
BEGIN:VEVENT
DTSTART;TZID=America/New_York:20251218T133000
DTEND;TZID=America/New_York:20251218T143000
DTSTAMP:20260420T094139
CREATED:20250128T183552Z
LAST-MODIFIED:20260217T163113Z
UID:10000089-1766064600-1766068200@webbertraining.com
SUMMARY:Empowering Patients to Prevent Healthcare-Associated Infections
DESCRIPTION:Recording \n\n\n\n\n\n\n\n\n\n\n\n\n\n\n\nEmpowering Patients to Prevent Healthcare-Associated Infections\n\n\n\nDr. Curtis Donskey\, Louis Stokes Cleveland VA Medical Center\, Virginia \n\n\n\n\n\n\n\n\n\n\n\n\n\n\n\n\n\n\n\n\n\nObjectives \n\n\n\n\n\n\nIdentify areas where empowerment of patients could enhance infection control and antimicrobial stewardship efforts.\n\n\n\nReview evidence that patient empowerment interventions can improve the infection control practices.\n\n\n\nImplement bundled measures that patients and families can use to reduce the risk for healthcare-associated infections.\n\n\n\n\n\n\n\nLogin or Register for Membership to Enroll in Teleclass
URL:https://webbertraining.com/event/empowering-patients-to-prevent-healthcare-associated-infections/
CATEGORIES:2025 Teleclasses,Free Teleclass
ATTACH;FMTTYPE=image/jpeg:https://webbertraining.com/wp-content/uploads/2025/01/2025-Empowering-Patients-Teleclass-Slides-Dec.18.25a.jpg
END:VEVENT
BEGIN:VEVENT
DTSTART;TZID=America/New_York:20251218T133000
DTEND;TZID=America/New_York:20251218T143000
DTSTAMP:20260420T094139
CREATED:20260217T162406Z
LAST-MODIFIED:20260217T162407Z
UID:10000106-1766064600-1766068200@webbertraining.com
SUMMARY:Empowering Patients to Prevent Healthcare-Associated Infections
DESCRIPTION:Recording \n\n\n\n\n\n\n\n\n\n\n\n\n\n\n\nEmpowering Patients to Prevent Healthcare-Associated Infections\n\n\n\nDr. Curtis Donskey\, Louis Stokes Cleveland VA Medical Center\, Virginia \n\n\n\n\n\n\n\n\n\n\n\n\n\n\n\n\n\n\n\n\n\nObjectives \n\n\n\n\n\n\nIdentify areas where empowerment of patients could enhance infection control and antimicrobial stewardship efforts.\n\n\n\nReview evidence that patient empowerment interventions can improve the infection control practices.\n\n\n\nImplement bundled measures that patients and families can use to reduce the risk for healthcare-associated infections.\n\n\n\n\n\n\n\nLogin or Register for Membership to Enroll in Teleclass
URL:https://webbertraining.com/event/empowering-patients-to-prevent-healthcare-associated-infections-2/
CATEGORIES:2025 Teleclasses,Free Teleclass
ATTACH;FMTTYPE=image/jpeg:https://webbertraining.com/wp-content/uploads/2026/01/2025-Empowering-Patients-Teleclass-Slides-Dec.18.25a.jpg
END:VEVENT
END:VCALENDAR