BEGIN:VCALENDAR
VERSION:2.0
PRODID:-//Webber Training - ECPv6.15.20//NONSGML v1.0//EN
CALSCALE:GREGORIAN
METHOD:PUBLISH
X-ORIGINAL-URL:https://webbertraining.com
X-WR-CALDESC:Events for Webber Training
REFRESH-INTERVAL;VALUE=DURATION:PT1H
X-Robots-Tag:noindex
X-PUBLISHED-TTL:PT1H
BEGIN:VTIMEZONE
TZID:America/New_York
BEGIN:DAYLIGHT
TZOFFSETFROM:-0500
TZOFFSETTO:-0400
TZNAME:EDT
DTSTART:20250309T070000
END:DAYLIGHT
BEGIN:STANDARD
TZOFFSETFROM:-0400
TZOFFSETTO:-0500
TZNAME:EST
DTSTART:20251102T060000
END:STANDARD
BEGIN:DAYLIGHT
TZOFFSETFROM:-0500
TZOFFSETTO:-0400
TZNAME:EDT
DTSTART:20260308T070000
END:DAYLIGHT
BEGIN:STANDARD
TZOFFSETFROM:-0400
TZOFFSETTO:-0500
TZNAME:EST
DTSTART:20261101T060000
END:STANDARD
BEGIN:DAYLIGHT
TZOFFSETFROM:-0500
TZOFFSETTO:-0400
TZNAME:EDT
DTSTART:20270314T070000
END:DAYLIGHT
BEGIN:STANDARD
TZOFFSETFROM:-0400
TZOFFSETTO:-0500
TZNAME:EST
DTSTART:20271107T060000
END:STANDARD
END:VTIMEZONE
BEGIN:VEVENT
DTSTART;TZID=America/New_York:20260129T133000
DTEND;TZID=America/New_York:20260129T143000
DTSTAMP:20260420T152418
CREATED:20260112T203831Z
LAST-MODIFIED:20260218T220052Z
UID:10000102-1769693400-1769697000@webbertraining.com
SUMMARY:Carbapenem-Resistant Enterobacterales in Healthcare and Community Settings
DESCRIPTION:Recording \n\n\n\n\n\n\n\n\n\n\n\n\n\n\n\n\n\nCarbapenem-Resistant Enterobacterales in Healthcare and Community Settings\n\n\n\nProf. Jon Otter\, Imperial College London \n\n\n\n\n\n\n\n\n\n\n\n\n\n\n\n\n\n\n\n\n\nObjectives \n\n\n\n\n\n\nTo be posted\n\n\n\n\n\n\n\nLogin or Register for Membership to Enroll in Teleclass
URL:https://webbertraining.com/event/carbapenem-resistant-enterobacterales-in-healthcare-and-community-settings/
CATEGORIES:2026 Teleclasses,Free Teleclass
ATTACH;FMTTYPE=image/jpeg:https://webbertraining.com/wp-content/uploads/2026/01/Carbapenem-Resistant-Enterobacteroles-Teleclasss-Slides-Jan.29.25.jpg
END:VEVENT
END:VCALENDAR