BEGIN:VCALENDAR
VERSION:2.0
PRODID:-//Webber Training - ECPv6.15.20//NONSGML v1.0//EN
CALSCALE:GREGORIAN
METHOD:PUBLISH
X-WR-CALNAME:Webber Training
X-ORIGINAL-URL:https://webbertraining.com
X-WR-CALDESC:Events for Webber Training
REFRESH-INTERVAL;VALUE=DURATION:PT1H
X-Robots-Tag:noindex
X-PUBLISHED-TTL:PT1H
BEGIN:VTIMEZONE
TZID:America/New_York
BEGIN:DAYLIGHT
TZOFFSETFROM:-0500
TZOFFSETTO:-0400
TZNAME:EDT
DTSTART:20250309T070000
END:DAYLIGHT
BEGIN:STANDARD
TZOFFSETFROM:-0400
TZOFFSETTO:-0500
TZNAME:EST
DTSTART:20251102T060000
END:STANDARD
BEGIN:DAYLIGHT
TZOFFSETFROM:-0500
TZOFFSETTO:-0400
TZNAME:EDT
DTSTART:20260308T070000
END:DAYLIGHT
BEGIN:STANDARD
TZOFFSETFROM:-0400
TZOFFSETTO:-0500
TZNAME:EST
DTSTART:20261101T060000
END:STANDARD
BEGIN:DAYLIGHT
TZOFFSETFROM:-0500
TZOFFSETTO:-0400
TZNAME:EDT
DTSTART:20270314T070000
END:DAYLIGHT
BEGIN:STANDARD
TZOFFSETFROM:-0400
TZOFFSETTO:-0500
TZNAME:EST
DTSTART:20271107T060000
END:STANDARD
END:VTIMEZONE
BEGIN:VEVENT
DTSTART;TZID=America/New_York:20260205T133000
DTEND;TZID=America/New_York:20260205T143000
DTSTAMP:20260420T164915
CREATED:20260112T204252Z
LAST-MODIFIED:20260218T220153Z
UID:10000103-1770298200-1770301800@webbertraining.com
SUMMARY:Is LTC Prepared for the Next Pandemic?
DESCRIPTION:Recording \n\n\n\n\n\n\n\n\n\n\n\n\n\n\n\n\n\nIs LTC Prepared for the Next Pandemic?\n\n\n\nDr. James Ayukekbong\, Editor-in-Chief\, Canadian Journal of Infection Control \n\n\n\n\n\n\n\n\n\n\n\n\n\n\n\n\n\n\n\n\n\nObjectives \n\n\n\n\n\n\nLong-term care homes (LTCHs) experienced the brunt of the COVID-19 pandemic due to several factors. Namely\, gaps in facility design\, inadequate infection prevention and control (IPAC) systems and overall operational challenges. For example\, the shared accommodation settings in many LTCHs facilitate the transmission of infections among residents. Most residents in these settings\, because of advanced age\, suffer from cognitive decline which leads to challenges in their ability to adhere to IPAC precautions and this would contribute significantly to the spread of the infection within the home. In this podcast\,  I will discuss some of these challenges among others and provide a focus for future control efforts.\n\n\n\n\n\n\n\nLogin or Register for Membership to Enroll in Teleclass
URL:https://webbertraining.com/event/is-ltc-prepared-for-the-next-pandemic/
CATEGORIES:2026 Teleclasses,Free Teleclass
ATTACH;FMTTYPE=image/jpeg:https://webbertraining.com/wp-content/uploads/2026/01/Feb-5_26-Is-LTC-Prepared-for-the-Next-Pandemic-TITLE-SLIDE.jpeg
END:VEVENT
END:VCALENDAR