BEGIN:VCALENDAR
VERSION:2.0
PRODID:-//Webber Training - ECPv6.15.20//NONSGML v1.0//EN
CALSCALE:GREGORIAN
METHOD:PUBLISH
X-WR-CALNAME:Webber Training
X-ORIGINAL-URL:https://webbertraining.com
X-WR-CALDESC:Events for Webber Training
REFRESH-INTERVAL;VALUE=DURATION:PT1H
X-Robots-Tag:noindex
X-PUBLISHED-TTL:PT1H
BEGIN:VTIMEZONE
TZID:Australia/Sydney
BEGIN:STANDARD
TZOFFSETFROM:+1100
TZOFFSETTO:+1000
TZNAME:AEST
DTSTART:20250405T160000
END:STANDARD
BEGIN:DAYLIGHT
TZOFFSETFROM:+1000
TZOFFSETTO:+1100
TZNAME:AEDT
DTSTART:20251004T160000
END:DAYLIGHT
BEGIN:STANDARD
TZOFFSETFROM:+1100
TZOFFSETTO:+1000
TZNAME:AEST
DTSTART:20260404T160000
END:STANDARD
BEGIN:DAYLIGHT
TZOFFSETFROM:+1000
TZOFFSETTO:+1100
TZNAME:AEDT
DTSTART:20261003T160000
END:DAYLIGHT
BEGIN:STANDARD
TZOFFSETFROM:+1100
TZOFFSETTO:+1000
TZNAME:AEST
DTSTART:20270403T160000
END:STANDARD
BEGIN:DAYLIGHT
TZOFFSETFROM:+1000
TZOFFSETTO:+1100
TZNAME:AEDT
DTSTART:20271002T160000
END:DAYLIGHT
END:VTIMEZONE
BEGIN:VEVENT
DTSTART;TZID=Australia/Sydney:20260218T133000
DTEND;TZID=Australia/Sydney:20260218T143000
DTSTAMP:20260420T164347
CREATED:20260122T111840Z
LAST-MODIFIED:20260216T005827Z
UID:10000107-1771421400-1771425000@webbertraining.com
SUMMARY:(Australasian Teleclass)  Gloves Off - A Quality Improvement Project
DESCRIPTION:Recording \n\n\n\n\n\n\n\n\n\n\n\n\n\n\n\nAustralasian Teleclass\n\n\n\n\n\nGloves Off – A Quality Improvement Project\n\n\n\nPatricia Knight and Dr. Sarah Browning\, John Hunter Hospital Campus\, Australia \n\n\n\n\n\n\n\n\n\n\n\n\n\n\n\n\n\n\n\n\n\nObjectives \n\n\n\n\n\n– Describe the rationale and design of the “Gloves Off!” educational intervention\, including its multi-modal delivery strategy aimed at reducing inappropriate use of non-sterile gloves and improving hand hygiene behaviour in acute care.– Summarise the impact of the intervention on clinical practice\, including measurable changes in non-sterile glove use\, hand hygiene compliance\, and staff knowledge and attitudes about hygiene practices.– Interpret the environmental\, financial\, and quality-of-care outcomes associated with the intervention\, including reductions in glove purchase numbers\, carbon footprint\, waste to landfill\, and cost savings.– Discuss practical strategies for implementing similar educational interventions within diverse healthcare settings\, highlighting enablers\, barriers\, and resource considerations for frontline infection prevention teams.– Reflect on the implications for infection prevention policy and practice\, especially in balancing appropriate glove use with hand hygiene optimisation to protect patients and support sustainability goals \n\n\n\n\n\n\nLogin or Register for Membership to Enroll in Teleclass
URL:https://webbertraining.com/event/gloves-off-clean-hands-safe-for-all/
CATEGORIES:2026 Teleclasses,Free Teleclass
ATTACH;FMTTYPE=image/jpeg:https://webbertraining.com/wp-content/uploads/2026/01/Gloves-Off-Teleclass-Feb.18.25.jpg
END:VEVENT
END:VCALENDAR