BEGIN:VCALENDAR
VERSION:2.0
PRODID:-//Webber Training - ECPv6.15.20//NONSGML v1.0//EN
CALSCALE:GREGORIAN
METHOD:PUBLISH
X-WR-CALNAME:Webber Training
X-ORIGINAL-URL:https://webbertraining.com
X-WR-CALDESC:Events for Webber Training
REFRESH-INTERVAL;VALUE=DURATION:PT1H
X-Robots-Tag:noindex
X-PUBLISHED-TTL:PT1H
BEGIN:VTIMEZONE
TZID:America/New_York
BEGIN:DAYLIGHT
TZOFFSETFROM:-0500
TZOFFSETTO:-0400
TZNAME:EDT
DTSTART:20250309T070000
END:DAYLIGHT
BEGIN:STANDARD
TZOFFSETFROM:-0400
TZOFFSETTO:-0500
TZNAME:EST
DTSTART:20251102T060000
END:STANDARD
BEGIN:DAYLIGHT
TZOFFSETFROM:-0500
TZOFFSETTO:-0400
TZNAME:EDT
DTSTART:20260308T070000
END:DAYLIGHT
BEGIN:STANDARD
TZOFFSETFROM:-0400
TZOFFSETTO:-0500
TZNAME:EST
DTSTART:20261101T060000
END:STANDARD
BEGIN:DAYLIGHT
TZOFFSETFROM:-0500
TZOFFSETTO:-0400
TZNAME:EDT
DTSTART:20270314T070000
END:DAYLIGHT
BEGIN:STANDARD
TZOFFSETFROM:-0400
TZOFFSETTO:-0500
TZNAME:EST
DTSTART:20271107T060000
END:STANDARD
END:VTIMEZONE
BEGIN:VEVENT
DTSTART;TZID=America/New_York:20260416T133000
DTEND;TZID=America/New_York:20260416T143000
DTSTAMP:20260420T164516
CREATED:20260130T141546Z
LAST-MODIFIED:20260414T194858Z
UID:10000120-1776346200-1776349800@webbertraining.com
SUMMARY:Is Infection Prevention and Control Guidance Fit for People? The Case for Compassionate\, Person-Centred IPC
DESCRIPTION:Recording \n\n\n\n\n\n\n\n\n\n\n\n\n\n\n\n\n\nIs Infection Prevention and Control Guidance Fit for People? The Case for Compassionate\, Person-Centred IPC\n\n\n\nJules Storr\, S3 Global Healthcare \n\n\n\n\n\n\n\n\n\n\n\n\n\n\n\n\n\n\n\n\n\nObjectives \n\n\n\n\n\n\nIdentify the key principles of person-centred\, compassionate IPC and why this is relevant in the year 2026.\n\n\n\nExamine the ethical tensions that arise when balancing safety\, precautionary measures\, and the psychosocial needs of patients\, families\, and the health workforce.\n\n\n\nOutline how emerging frameworks and practical strategies can be applied to support more humane\, balanced IPC decision-making.\n\n\n\n\n\n\n\nLogin or Register for Membership to Access Teleclass
URL:https://webbertraining.com/event/is-infection-prevention-and-control-guidance-fit-for-people-the-case-for-compassionate-person-centred-ipc/
CATEGORIES:2026 Teleclasses,Free Teleclass
ATTACH;FMTTYPE=image/png:https://webbertraining.com/wp-content/uploads/2026/01/Is-IPAC-Guidance-Fit-For-People-Teleclass-Slides-Apr.16.26.png
END:VEVENT
END:VCALENDAR