BEGIN:VCALENDAR
VERSION:2.0
PRODID:-//Webber Training - ECPv6.15.20//NONSGML v1.0//EN
CALSCALE:GREGORIAN
METHOD:PUBLISH
X-WR-CALNAME:Webber Training
X-ORIGINAL-URL:https://webbertraining.com
X-WR-CALDESC:Events for Webber Training
REFRESH-INTERVAL;VALUE=DURATION:PT1H
X-Robots-Tag:noindex
X-PUBLISHED-TTL:PT1H
BEGIN:VTIMEZONE
TZID:Europe/Paris
BEGIN:DAYLIGHT
TZOFFSETFROM:+0100
TZOFFSETTO:+0200
TZNAME:CEST
DTSTART:20250330T010000
END:DAYLIGHT
BEGIN:STANDARD
TZOFFSETFROM:+0200
TZOFFSETTO:+0100
TZNAME:CET
DTSTART:20251026T010000
END:STANDARD
BEGIN:DAYLIGHT
TZOFFSETFROM:+0100
TZOFFSETTO:+0200
TZNAME:CEST
DTSTART:20260329T010000
END:DAYLIGHT
BEGIN:STANDARD
TZOFFSETFROM:+0200
TZOFFSETTO:+0100
TZNAME:CET
DTSTART:20261025T010000
END:STANDARD
BEGIN:DAYLIGHT
TZOFFSETFROM:+0100
TZOFFSETTO:+0200
TZNAME:CEST
DTSTART:20270328T010000
END:DAYLIGHT
BEGIN:STANDARD
TZOFFSETFROM:+0200
TZOFFSETTO:+0100
TZNAME:CET
DTSTART:20271031T010000
END:STANDARD
END:VTIMEZONE
BEGIN:VEVENT
DTSTART;TZID=Europe/Paris:20260428T143000
DTEND;TZID=Europe/Paris:20260428T153000
DTSTAMP:20260420T164455
CREATED:20260218T144644Z
LAST-MODIFIED:20260409T192610Z
UID:10000152-1777386600-1777390200@webbertraining.com
SUMMARY:New WHO/UNICEF Global Guidelines on Hand Hygiene in Community Settings
DESCRIPTION:Live Virtual Event \n\n\n\n\n\n\n\n\n\n\n\n\n\n\n\n\n\n\n\nNew WHO/UNICEF Global Guidelines on Hand Hygiene in Community Settings\n\n\n\nPresented by the International Federation of Infection Control (IFIC)Joanna Esteves Mills\, World Health Organisation \n\n\n\n\n\n\n\n\n\n\n\n\n\n\n\nLive broadcast time: \n\n\n\n\n\n2:30pm-3:30pm in Geneva8:30am in New York/Toronto10:30pm in Sydney9:30am in Buenos Aires3:30pm in Riyadh12:30 UTC \n\n\n\n\n\n\n\n\n\n\n\nObjectives \n\n\n\n\n\n\nShare the latest evidence-based guidance on how to improve hand hygiene outside of the healthcare setting\n\n\n\nEncourage reflection and discussion ok how best to implement new guidance. \n\n\n\n\n\n\n\nLogin or Register for Membership to Access Teleclass
URL:https://webbertraining.com/event/new-who-unicef-global-guidelines-on-hand-hygiene-in-community-settings/
CATEGORIES:2026 Teleclasses,Free Teleclass
ATTACH;FMTTYPE=image/png:https://webbertraining.com/wp-content/uploads/2026/01/IFIC-logo-new.png
END:VEVENT
END:VCALENDAR