BEGIN:VCALENDAR
VERSION:2.0
PRODID:-//Webber Training - ECPv6.15.20//NONSGML v1.0//EN
CALSCALE:GREGORIAN
METHOD:PUBLISH
X-WR-CALNAME:Webber Training
X-ORIGINAL-URL:https://webbertraining.com
X-WR-CALDESC:Events for Webber Training
REFRESH-INTERVAL;VALUE=DURATION:PT1H
X-Robots-Tag:noindex
X-PUBLISHED-TTL:PT1H
BEGIN:VTIMEZONE
TZID:America/New_York
BEGIN:DAYLIGHT
TZOFFSETFROM:-0500
TZOFFSETTO:-0400
TZNAME:EDT
DTSTART:20250309T070000
END:DAYLIGHT
BEGIN:STANDARD
TZOFFSETFROM:-0400
TZOFFSETTO:-0500
TZNAME:EST
DTSTART:20251102T060000
END:STANDARD
BEGIN:DAYLIGHT
TZOFFSETFROM:-0500
TZOFFSETTO:-0400
TZNAME:EDT
DTSTART:20260308T070000
END:DAYLIGHT
BEGIN:STANDARD
TZOFFSETFROM:-0400
TZOFFSETTO:-0500
TZNAME:EST
DTSTART:20261101T060000
END:STANDARD
BEGIN:DAYLIGHT
TZOFFSETFROM:-0500
TZOFFSETTO:-0400
TZNAME:EDT
DTSTART:20270314T070000
END:DAYLIGHT
BEGIN:STANDARD
TZOFFSETFROM:-0400
TZOFFSETTO:-0500
TZNAME:EST
DTSTART:20271107T060000
END:STANDARD
END:VTIMEZONE
BEGIN:VEVENT
DTSTART;TZID=America/New_York:20260526T113000
DTEND;TZID=America/New_York:20260526T121500
DTSTAMP:20260420T222839
CREATED:20260408T175918Z
LAST-MODIFIED:20260408T175920Z
UID:10000165-1779795000-1779797700@webbertraining.com
SUMMARY:(IPAC Canada conference broadcast)  Environmental Stewardship in IPAC
DESCRIPTION:Live Virtual Event \n\n\n\n\n\n\n\n\n\n\n\n\n\n\n\n\n\nBroadcast live from the IPAC Canada Conference\n\n\n\n\n\nMisinformation and Disinformation: The Next Pandemic\n\n\n\nDr. Fiona Miller\, Professor and Director\, Collaborative Centre for Climate\, Health &Sustainable Care\, University of Toronto\, and Director\, CASCADES \n\n\n\n\n\n\n\n\n\n\n\n\n\n\n\nLive broadcast time: \n\n\n\n\n\n11:30am-12:15pm in New York/Toronto5:30pm in Geneva1:30am (May 27) in Sydney12:30pm in Buenos Aires6:30pm in Riyadh15:30 UTC \n\n\n\n\n\n\n\n\n\n\n\nObjectives \n\n\n\n\n\n\nCASCADES supports Canada’s healthcare community in transitioning towards high-quality\, low-carbon\, climate resilient care. \n\n\n\nDr. Miller will review environmental sustainability in healthcare related to IPAC practices.\n\n\n\n\n\n\n\nLogin or Register for Membership to Enroll in Teleclass
URL:https://webbertraining.com/event/ipac-canada-conference-broadcast-environmental-stewardship-in-ipac/
CATEGORIES:2026 Teleclasses,Free Teleclass
ATTACH;FMTTYPE=image/png:https://webbertraining.com/wp-content/uploads/2026/01/Heather-Stoltzfus.png
END:VEVENT
BEGIN:VEVENT
DTSTART;TZID=America/New_York:20260527T093000
DTEND;TZID=America/New_York:20260527T103000
DTSTAMP:20260420T222839
CREATED:20260201T110142Z
LAST-MODIFIED:20260218T214617Z
UID:10000145-1779874200-1779877800@webbertraining.com
SUMMARY:(IPAC Canada conference broadcast)  Misinformation and Disinformation: The Next Pandemic
DESCRIPTION:Live Virtual Event \n\n\n\n\n\n\n\n\n\n\n\n\n\n\n\n\n\nBroadcast live from the IPAC Canada Conference\n\n\n\n\n\nMisinformation and Disinformation: The Next Pandemic\n\n\n\nCraig Silverman\, Journalist \n\n\n\n\n\n\n\n\n\n\n\n\n\n\n\nLive broadcast time: \n\n\n\n\n\n9:30am-10:30am in New York/Toronto3:30pm in Geneva11:30pm in Sydney10:30am in Buenos Aires4:30pm in Riyadh13:30 UTC \n\n\n\n\n\n\n\n\n\n\n\nObjectives \n\n\n\n\n\n\nExplore the rise of ‘fake news’ and how to recognize and manage misinformation related to communicable diseases\n\n\n\n\n\n\n\nLogin or Register for Membership to Enroll in Teleclass
URL:https://webbertraining.com/event/misinformation-and-disinformation-the-next-pandemic/
CATEGORIES:2026 Teleclasses,Free Teleclass
ATTACH;FMTTYPE=image/png:https://webbertraining.com/wp-content/uploads/2026/01/CraigSilverman.png
END:VEVENT
END:VCALENDAR