BEGIN:VCALENDAR
VERSION:2.0
PRODID:-//Webber Training - ECPv6.15.20//NONSGML v1.0//EN
CALSCALE:GREGORIAN
METHOD:PUBLISH
X-ORIGINAL-URL:https://webbertraining.com
X-WR-CALDESC:Events for Webber Training
REFRESH-INTERVAL;VALUE=DURATION:PT1H
X-Robots-Tag:noindex
X-PUBLISHED-TTL:PT1H
BEGIN:VTIMEZONE
TZID:America/New_York
BEGIN:DAYLIGHT
TZOFFSETFROM:-0500
TZOFFSETTO:-0400
TZNAME:EDT
DTSTART:20250309T070000
END:DAYLIGHT
BEGIN:STANDARD
TZOFFSETFROM:-0400
TZOFFSETTO:-0500
TZNAME:EST
DTSTART:20251102T060000
END:STANDARD
BEGIN:DAYLIGHT
TZOFFSETFROM:-0500
TZOFFSETTO:-0400
TZNAME:EDT
DTSTART:20260308T070000
END:DAYLIGHT
BEGIN:STANDARD
TZOFFSETFROM:-0400
TZOFFSETTO:-0500
TZNAME:EST
DTSTART:20261101T060000
END:STANDARD
BEGIN:DAYLIGHT
TZOFFSETFROM:-0500
TZOFFSETTO:-0400
TZNAME:EDT
DTSTART:20270314T070000
END:DAYLIGHT
BEGIN:STANDARD
TZOFFSETFROM:-0400
TZOFFSETTO:-0500
TZNAME:EST
DTSTART:20271107T060000
END:STANDARD
END:VTIMEZONE
BEGIN:VEVENT
DTSTART;TZID=America/New_York:20260723T133000
DTEND;TZID=America/New_York:20260723T143000
DTSTAMP:20260421T012956
CREATED:20260225T222400Z
LAST-MODIFIED:20260402T170125Z
UID:10000155-1784813400-1784817000@webbertraining.com
SUMMARY:National and Local IPC Improvement Steps - What it Takes for Success
DESCRIPTION:Live Virtual Event \n\n\n\n\n\n\n\n\n\n\n\n\n\n\n\n\n\nAn IFIC Teleclass\n\n\n\n\n\nNational and Local IPC Improvement Steps – What it Takes for Success\n\n\n\nPresented by the International Federation of Infection Control (IFIC)Dhouha Ammar Hamdani and Dr. Ali Jameela\, Ministry of Health\, Qatar \n\n\n\n\n\n\n\n\n\n\n\n\n\n\n\n\n\n\n\n\n\nObjectives \n\n\n\n\n\n\nOutline the national commitment to IPC improvement using validated tools and resources\n\n\n\nDescribe how national commitment was achieved\n\n\n\nEvaluate the steps taken to apply a multimodal improvement strategy to reducing HAI including CROs\n\n\n\n\n\n\n\nLogin or Register for Membership to Enroll in Teleclass
URL:https://webbertraining.com/event/afro-european-teleclass-national-and-local-ipc-improvement-steps-what-it-takes-for-success/
CATEGORIES:2026 Teleclasses,Free Teleclass
ATTACH;FMTTYPE=image/png:https://webbertraining.com/wp-content/uploads/2026/01/IFIC-logo-new.png
END:VEVENT
END:VCALENDAR