BEGIN:VCALENDAR
VERSION:2.0
PRODID:-//Webber Training - ECPv6.15.20//NONSGML v1.0//EN
CALSCALE:GREGORIAN
METHOD:PUBLISH
X-WR-CALNAME:Webber Training
X-ORIGINAL-URL:https://webbertraining.com
X-WR-CALDESC:Events for Webber Training
REFRESH-INTERVAL;VALUE=DURATION:PT1H
X-Robots-Tag:noindex
X-PUBLISHED-TTL:PT1H
BEGIN:VTIMEZONE
TZID:Europe/Paris
BEGIN:DAYLIGHT
TZOFFSETFROM:+0100
TZOFFSETTO:+0200
TZNAME:CEST
DTSTART:20250330T010000
END:DAYLIGHT
BEGIN:STANDARD
TZOFFSETFROM:+0200
TZOFFSETTO:+0100
TZNAME:CET
DTSTART:20251026T010000
END:STANDARD
BEGIN:DAYLIGHT
TZOFFSETFROM:+0100
TZOFFSETTO:+0200
TZNAME:CEST
DTSTART:20260329T010000
END:DAYLIGHT
BEGIN:STANDARD
TZOFFSETFROM:+0200
TZOFFSETTO:+0100
TZNAME:CET
DTSTART:20261025T010000
END:STANDARD
BEGIN:DAYLIGHT
TZOFFSETFROM:+0100
TZOFFSETTO:+0200
TZNAME:CEST
DTSTART:20270328T010000
END:DAYLIGHT
BEGIN:STANDARD
TZOFFSETFROM:+0200
TZOFFSETTO:+0100
TZNAME:CET
DTSTART:20271031T010000
END:STANDARD
END:VTIMEZONE
BEGIN:VTIMEZONE
TZID:Australia/Sydney
BEGIN:STANDARD
TZOFFSETFROM:+1100
TZOFFSETTO:+1000
TZNAME:AEST
DTSTART:20250405T160000
END:STANDARD
BEGIN:DAYLIGHT
TZOFFSETFROM:+1000
TZOFFSETTO:+1100
TZNAME:AEDT
DTSTART:20251004T160000
END:DAYLIGHT
BEGIN:STANDARD
TZOFFSETFROM:+1100
TZOFFSETTO:+1000
TZNAME:AEST
DTSTART:20260404T160000
END:STANDARD
BEGIN:DAYLIGHT
TZOFFSETFROM:+1000
TZOFFSETTO:+1100
TZNAME:AEDT
DTSTART:20261003T160000
END:DAYLIGHT
BEGIN:STANDARD
TZOFFSETFROM:+1100
TZOFFSETTO:+1000
TZNAME:AEST
DTSTART:20270403T160000
END:STANDARD
BEGIN:DAYLIGHT
TZOFFSETFROM:+1000
TZOFFSETTO:+1100
TZNAME:AEDT
DTSTART:20271002T160000
END:DAYLIGHT
END:VTIMEZONE
BEGIN:VEVENT
DTSTART;TZID=Europe/Paris:20260825T143000
DTEND;TZID=Europe/Paris:20260825T153000
DTSTAMP:20260420T222935
CREATED:20260401T015844Z
LAST-MODIFIED:20260401T020731Z
UID:10000164-1787668200-1787671800@webbertraining.com
SUMMARY:Expanding HIV Prevention Through Community Pharmacies: Lessons From Implementation in South Africa
DESCRIPTION:Live Virtual Event \n\n\n\n\n\n\n\n\n\n\n\n\n\n\n\n\n\n\n\n\n\n\n\nExpanding HIV Prevention Through Community Pharmacies: Lessons From Implementation in South Africa\n\n\n\nDr. Angela Tembo\, University of the Witwatersrand Faculty of Health Sciences\, Johannesburg \n\n\n\n\n\n\n\n\n\n\n\n\n\n\n\n\n\n\n\n\n\nObjectives \n\n\n\n\n\n\nDescribe the role of community& private  pharmacies as differentiated service delivery platforms for HIV prevention\n\n\n\nUnderstand key implementation considerations for pharmacy-based PrEP and PEP delivery\, including task-shifting\, telemedicine\, and navigating regulatory frameworks\n\n\n\nExamine real-world evidence on uptake\, persistence\, and integration with sexual and reproductive health services\n\n\n\nIdentify practical strategies for adapting pharmacy-based HIV prevention models across LMIC \n\n\n\n\n\n\n\nLogin or Register for Membership to Enroll in Teleclass
URL:https://webbertraining.com/event/expanding-hiv-prevention-through-community-pharmacies-lessons-from-implementation-in-south-africa/
CATEGORIES:2026 Teleclasses,Free Teleclass
ATTACH;FMTTYPE=image/jpeg:https://webbertraining.com/wp-content/uploads/2026/03/Tembo-small2.jpg
END:VEVENT
BEGIN:VEVENT
DTSTART;TZID=Australia/Sydney:20260829T133000
DTEND;TZID=Australia/Sydney:20260829T143000
DTSTAMP:20260420T222935
CREATED:20260208T122409Z
LAST-MODIFIED:20260218T211438Z
UID:10000146-1788010200-1788013800@webbertraining.com
SUMMARY:(Australasian Teleclass)  Live Broadcast from the IPCNC Conference - New Zealand
DESCRIPTION:Live Virtual Event \n\n\n\n\n\n\n\n\n\n\n\n\n\n\n\n\n\n\n\nAustralasian Teleclass\n\n\n\n\n\nBroadcast sponsored by \n\n\n\n\n\n\n\n\n\n\n\nLive Broadcast from the IPCNC Conference – New Zealand\n\n\n\nJincy Jerry\, NHS Ayrshire and Arran\, Scotland \n\n\n\n\n\n\n\n\n\n\n\n\n\n\n\nLive broadcast time: \n\n\n\n\n\n1:30pm-2:30pm in Sydney10:30pm (October 14) in New York / Toronto4:30am in Geneva11:30pm (October 14) in Buenos Aires5:30am in Riyadh 03:30 UTC \n\n\n\n\n\n\n\n\n\n\n\nObjectives \n\n\n\n\n\n\nTo be posted\n\n\n\n\n\n\n\nLogin or Register for Membership to Enroll in Teleclass
URL:https://webbertraining.com/event/australasian-teleclass-live-broadcast-from-the-ipcnc-conference-new-zealand/
CATEGORIES:2026 Teleclasses,Paid Teleclass
ATTACH;FMTTYPE=image/png:https://webbertraining.com/wp-content/uploads/2026/02/August-29-Jincy-Jerry.png
END:VEVENT
END:VCALENDAR